BEGIN:VCALENDAR
VERSION:2.0
PRODID:-//Play Pittsburgh - ECPv6.15.20//NONSGML v1.0//EN
CALSCALE:GREGORIAN
METHOD:PUBLISH
X-WR-CALNAME:Play Pittsburgh
X-ORIGINAL-URL:https://playpittsburgh.com
X-WR-CALDESC:Events for Play Pittsburgh
REFRESH-INTERVAL;VALUE=DURATION:PT1H
X-Robots-Tag:noindex
X-PUBLISHED-TTL:PT1H
BEGIN:VTIMEZONE
TZID:America/New_York
BEGIN:DAYLIGHT
TZOFFSETFROM:-0500
TZOFFSETTO:-0400
TZNAME:EDT
DTSTART:20130310T070000
END:DAYLIGHT
BEGIN:STANDARD
TZOFFSETFROM:-0400
TZOFFSETTO:-0500
TZNAME:EST
DTSTART:20131103T060000
END:STANDARD
BEGIN:DAYLIGHT
TZOFFSETFROM:-0500
TZOFFSETTO:-0400
TZNAME:EDT
DTSTART:20140309T070000
END:DAYLIGHT
BEGIN:STANDARD
TZOFFSETFROM:-0400
TZOFFSETTO:-0500
TZNAME:EST
DTSTART:20141102T060000
END:STANDARD
BEGIN:DAYLIGHT
TZOFFSETFROM:-0500
TZOFFSETTO:-0400
TZNAME:EDT
DTSTART:20150308T070000
END:DAYLIGHT
BEGIN:STANDARD
TZOFFSETFROM:-0400
TZOFFSETTO:-0500
TZNAME:EST
DTSTART:20151101T060000
END:STANDARD
END:VTIMEZONE
BEGIN:VEVENT
DTSTART;VALUE=DATE:20141207
DTEND;VALUE=DATE:20141208
DTSTAMP:20260422T152806
CREATED:20141203T215853Z
LAST-MODIFIED:20141203T215853Z
UID:8155-1417910400-1417996799@playpittsburgh.com
SUMMARY:Lawrenceville Joy of Cookies Cookie Tour
DESCRIPTION:The fifteenth annual Joy of Cookies Cookie Tour is a free\, family friendly event promoting the business district of Lawrenceville. This year the tour will take place from Thursday December 4th through Sunday\, December 7th. More than 30 businesses will be participating this year. Cookie Tourists can sample the shopkeeper’s favorite cookie and explore the many diverse businesses Lawrenceville has to offer.\nEach shop will be keeping their own hours but most will be open 10am to 8pm on Thursday and Friday\, 10am to 6pm on Saturday and 11am to 5pm on Sunday. Many shops will be offering special discounts and opportunities to win prizes and gift cards during the Cookie Tour. Molly’s Trolley will circulate throughout the business district on Saturday. \nDownload a map of the activities here.
URL:https://playpittsburgh.com/event/lawrenceville-joy-of-cookies-cookie-tour/2014-12-07/
END:VEVENT
BEGIN:VEVENT
DTSTART;VALUE=DATE:20141206
DTEND;VALUE=DATE:20141207
DTSTAMP:20260422T152806
CREATED:20141203T215853Z
LAST-MODIFIED:20141203T215853Z
UID:8154-1417824000-1417910399@playpittsburgh.com
SUMMARY:Lawrenceville Joy of Cookies Cookie Tour
DESCRIPTION:The fifteenth annual Joy of Cookies Cookie Tour is a free\, family friendly event promoting the business district of Lawrenceville. This year the tour will take place from Thursday December 4th through Sunday\, December 7th. More than 30 businesses will be participating this year. Cookie Tourists can sample the shopkeeper’s favorite cookie and explore the many diverse businesses Lawrenceville has to offer.\nEach shop will be keeping their own hours but most will be open 10am to 8pm on Thursday and Friday\, 10am to 6pm on Saturday and 11am to 5pm on Sunday. Many shops will be offering special discounts and opportunities to win prizes and gift cards during the Cookie Tour. Molly’s Trolley will circulate throughout the business district on Saturday. \nDownload a map of the activities here.
URL:https://playpittsburgh.com/event/lawrenceville-joy-of-cookies-cookie-tour/2014-12-06/
END:VEVENT
BEGIN:VEVENT
DTSTART;VALUE=DATE:20141205
DTEND;VALUE=DATE:20141206
DTSTAMP:20260422T152806
CREATED:20141203T215853Z
LAST-MODIFIED:20141203T215853Z
UID:8153-1417737600-1417823999@playpittsburgh.com
SUMMARY:Lawrenceville Joy of Cookies Cookie Tour
DESCRIPTION:The fifteenth annual Joy of Cookies Cookie Tour is a free\, family friendly event promoting the business district of Lawrenceville. This year the tour will take place from Thursday December 4th through Sunday\, December 7th. More than 30 businesses will be participating this year. Cookie Tourists can sample the shopkeeper’s favorite cookie and explore the many diverse businesses Lawrenceville has to offer.\nEach shop will be keeping their own hours but most will be open 10am to 8pm on Thursday and Friday\, 10am to 6pm on Saturday and 11am to 5pm on Sunday. Many shops will be offering special discounts and opportunities to win prizes and gift cards during the Cookie Tour. Molly’s Trolley will circulate throughout the business district on Saturday. \nDownload a map of the activities here.
URL:https://playpittsburgh.com/event/lawrenceville-joy-of-cookies-cookie-tour/2014-12-05/
END:VEVENT
BEGIN:VEVENT
DTSTART;VALUE=DATE:20141204
DTEND;VALUE=DATE:20141205
DTSTAMP:20260422T152806
CREATED:20141203T215853Z
LAST-MODIFIED:20141203T215853Z
UID:5037-1417651200-1417737599@playpittsburgh.com
SUMMARY:Lawrenceville Joy of Cookies Cookie Tour
DESCRIPTION:The fifteenth annual Joy of Cookies Cookie Tour is a free\, family friendly event promoting the business district of Lawrenceville. This year the tour will take place from Thursday December 4th through Sunday\, December 7th. More than 30 businesses will be participating this year. Cookie Tourists can sample the shopkeeper’s favorite cookie and explore the many diverse businesses Lawrenceville has to offer.\nEach shop will be keeping their own hours but most will be open 10am to 8pm on Thursday and Friday\, 10am to 6pm on Saturday and 11am to 5pm on Sunday. Many shops will be offering special discounts and opportunities to win prizes and gift cards during the Cookie Tour. Molly’s Trolley will circulate throughout the business district on Saturday. \nDownload a map of the activities here.
URL:https://playpittsburgh.com/event/lawrenceville-joy-of-cookies-cookie-tour/2014-12-04/
END:VEVENT
END:VCALENDAR