BEGIN:VCALENDAR
VERSION:2.0
PRODID:-//Play Pittsburgh - ECPv6.15.20//NONSGML v1.0//EN
CALSCALE:GREGORIAN
METHOD:PUBLISH
X-WR-CALNAME:Play Pittsburgh
X-ORIGINAL-URL:https://playpittsburgh.com
X-WR-CALDESC:Events for Play Pittsburgh
REFRESH-INTERVAL;VALUE=DURATION:PT1H
X-Robots-Tag:noindex
X-PUBLISHED-TTL:PT1H
BEGIN:VTIMEZONE
TZID:America/New_York
BEGIN:DAYLIGHT
TZOFFSETFROM:-0500
TZOFFSETTO:-0400
TZNAME:EDT
DTSTART:20130310T070000
END:DAYLIGHT
BEGIN:STANDARD
TZOFFSETFROM:-0400
TZOFFSETTO:-0500
TZNAME:EST
DTSTART:20131103T060000
END:STANDARD
BEGIN:DAYLIGHT
TZOFFSETFROM:-0500
TZOFFSETTO:-0400
TZNAME:EDT
DTSTART:20140309T070000
END:DAYLIGHT
BEGIN:STANDARD
TZOFFSETFROM:-0400
TZOFFSETTO:-0500
TZNAME:EST
DTSTART:20141102T060000
END:STANDARD
BEGIN:DAYLIGHT
TZOFFSETFROM:-0500
TZOFFSETTO:-0400
TZNAME:EDT
DTSTART:20150308T070000
END:DAYLIGHT
BEGIN:STANDARD
TZOFFSETFROM:-0400
TZOFFSETTO:-0500
TZNAME:EST
DTSTART:20151101T060000
END:STANDARD
END:VTIMEZONE
BEGIN:VEVENT
DTSTART;TZID=America/New_York:20140830T140000
DTEND;TZID=America/New_York:20140830T150000
DTSTAMP:20260422T044731
CREATED:20140828T222920Z
LAST-MODIFIED:20140828T222920Z
UID:3276-1409407200-1409410800@playpittsburgh.com
SUMMARY:Kiski Junction Railroad Train Ride
DESCRIPTION:Round trip scenic tour rides that travel up and down the lines lasting about 1 hour. Take a scenic ride along the beautiful Allegheny River\, from Schenley to Johnetta. On certain days\, due to various factors\, they may use the original line along the Kiski River from Schenley to Bagdad. \nThe train leaves the station precisely at 2:00pm. Please leave enough time in your travel schedule to get to our train station 30 minutes prior to our departure time. Seating is on a first-come first-serve basis. \nNote: There are no restrooms on the trains. However\, there are portable facilities at the train station. \nTour Rides occur on Tuesdays\, Fridays and Saturdays; June – October + events in December. You are welcome to bring your own food; most train cars have tables! \nReservations are REQUIRED during October and December. At all other times\, trains operate on a STRICTLY first-come-first-serve basis. Please\, only call to make reservations if you are bringing a large group. \n\nAdults $9.00\nSeniors (62 +) $8.00\nChildren (4 – 13 years) $7.00\nChildren (3 and under) FREE
URL:https://playpittsburgh.com/event/kiski-junction-railroad-train-ride-3/2014-08-30/
LOCATION:Kiski Junction Railroad Inc.\, 130 Railroad Street\, Schenley\, PA\, 15682\, United States
GEO:40.680685;-79.6652653
X-APPLE-STRUCTURED-LOCATION;VALUE=URI;X-ADDRESS=Kiski Junction Railroad Inc. 130 Railroad Street Schenley PA 15682 United States;X-APPLE-RADIUS=500;X-TITLE=130 Railroad Street:geo:-79.6652653,40.680685
END:VEVENT
END:VCALENDAR