BEGIN:VCALENDAR
VERSION:2.0
PRODID:-//Play Pittsburgh - ECPv6.15.20//NONSGML v1.0//EN
CALSCALE:GREGORIAN
METHOD:PUBLISH
X-ORIGINAL-URL:https://playpittsburgh.com
X-WR-CALDESC:Events for Play Pittsburgh
REFRESH-INTERVAL;VALUE=DURATION:PT1H
X-Robots-Tag:noindex
X-PUBLISHED-TTL:PT1H
BEGIN:VTIMEZONE
TZID:America/New_York
BEGIN:DAYLIGHT
TZOFFSETFROM:-0500
TZOFFSETTO:-0400
TZNAME:EDT
DTSTART:20150308T070000
END:DAYLIGHT
BEGIN:STANDARD
TZOFFSETFROM:-0400
TZOFFSETTO:-0500
TZNAME:EST
DTSTART:20151101T060000
END:STANDARD
BEGIN:DAYLIGHT
TZOFFSETFROM:-0500
TZOFFSETTO:-0400
TZNAME:EDT
DTSTART:20160313T070000
END:DAYLIGHT
BEGIN:STANDARD
TZOFFSETFROM:-0400
TZOFFSETTO:-0500
TZNAME:EST
DTSTART:20161106T060000
END:STANDARD
BEGIN:DAYLIGHT
TZOFFSETFROM:-0500
TZOFFSETTO:-0400
TZNAME:EDT
DTSTART:20170312T070000
END:DAYLIGHT
BEGIN:STANDARD
TZOFFSETFROM:-0400
TZOFFSETTO:-0500
TZNAME:EST
DTSTART:20171105T060000
END:STANDARD
END:VTIMEZONE
BEGIN:VEVENT
DTSTART;TZID=America/New_York:20160830T100000
DTEND;TZID=America/New_York:20160830T113000
DTSTAMP:20260421T182600
CREATED:20160704T171814Z
LAST-MODIFIED:20160704T174930Z
UID:9505-1472551200-1472556600@playpittsburgh.com
SUMMARY:Kids Play in Market Square
DESCRIPTION:children and their families/caregivers can enjoy fun and educational programs and activities complete with crafts\, stories\, and special guests. Children can plant their own tree one week\, see how cartoons come to life the next\, dance with the symphony and ballet\, and even touch a real fire truck\, all in Downtown’s historic Market Square. The free program series produced by the Pittsburgh Downtown Partnership introduces children to a new and exciting learning experience in one of Downtown’s most popular destinations.  \nNew this year – each week there will be free lunches for all children in attendance provided by Grub-Up Pittsburgh! \nJune 14 – Pittsburgh Riverhounds and Pittsburgh CLO Academy \nJune 21 – Playful Pittsburgh Collaborative\, Mr. McFeely of Mister Rogers’ Neighborhood\, Let’s Move Pittsburgh\, and the Children’s Museum of Pittsburgh \nJune 28 – Pittsburgh Symphony Orchestra\, Kids Yoga with ivivva\, and the Office of Public Art \nJuly 5 – Sarah Heinz House Advanced Robotics Program\, Playful Pittsburgh Collaborative\, and Let’s Move Pittsburgh \nJuly 12 – The Saturday Light Brigade Radio\, Find Some Flow\, and Citiparks Roving Art Cart \nJuly 19 – Kids Plus Pediatrics\, Children’s Museum of Pittsburgh\, and Tree Pittsburgh \nJuly 26 – Santa in the Square\, Citiparks Roving Art Cart\, and Pittsburgh Music Academy \nAugust 2 – Three Rivers Storytelling Festival \nAugust 9 – Animal Friends\, Let’s Move Pittsburgh\, and Citiparks Roving Art Cart \nAugust 16 – Find Some Flow and Children’s Theater Festival \nAugust 23 – Penguin Encounter with the National Aviary\, The Wheel Mill\, and Children’s Museum of Pittsburgh \nAugust 30 – Sunburst School of Music\, Playful Pittsburgh Collaborative\, and Pittsburgh Ballet Theatre
URL:https://playpittsburgh.com/event/kids-play-market-square/2016-08-30/
LOCATION:Market Square\, 23 Market Place\, Forbes Avenue and Market Place\, Pittsburgh\, PA\, 15222\, United States
CATEGORIES:Free,Outdoor
GEO:40.4400253;-80.0030034
X-APPLE-STRUCTURED-LOCATION;VALUE=URI;X-ADDRESS=Market Square 23 Market Place Forbes Avenue and Market Place Pittsburgh PA 15222 United States;X-APPLE-RADIUS=500;X-TITLE=23 Market Place\, Forbes Avenue and Market Place:geo:-80.0030034,40.4400253
END:VEVENT
BEGIN:VEVENT
DTSTART;TZID=America/New_York:20160823T100000
DTEND;TZID=America/New_York:20160823T113000
DTSTAMP:20260421T182600
CREATED:20160704T171814Z
LAST-MODIFIED:20160704T174930Z
UID:9504-1471946400-1471951800@playpittsburgh.com
SUMMARY:Kids Play in Market Square
DESCRIPTION:children and their families/caregivers can enjoy fun and educational programs and activities complete with crafts\, stories\, and special guests. Children can plant their own tree one week\, see how cartoons come to life the next\, dance with the symphony and ballet\, and even touch a real fire truck\, all in Downtown’s historic Market Square. The free program series produced by the Pittsburgh Downtown Partnership introduces children to a new and exciting learning experience in one of Downtown’s most popular destinations.  \nNew this year – each week there will be free lunches for all children in attendance provided by Grub-Up Pittsburgh! \nJune 14 – Pittsburgh Riverhounds and Pittsburgh CLO Academy \nJune 21 – Playful Pittsburgh Collaborative\, Mr. McFeely of Mister Rogers’ Neighborhood\, Let’s Move Pittsburgh\, and the Children’s Museum of Pittsburgh \nJune 28 – Pittsburgh Symphony Orchestra\, Kids Yoga with ivivva\, and the Office of Public Art \nJuly 5 – Sarah Heinz House Advanced Robotics Program\, Playful Pittsburgh Collaborative\, and Let’s Move Pittsburgh \nJuly 12 – The Saturday Light Brigade Radio\, Find Some Flow\, and Citiparks Roving Art Cart \nJuly 19 – Kids Plus Pediatrics\, Children’s Museum of Pittsburgh\, and Tree Pittsburgh \nJuly 26 – Santa in the Square\, Citiparks Roving Art Cart\, and Pittsburgh Music Academy \nAugust 2 – Three Rivers Storytelling Festival \nAugust 9 – Animal Friends\, Let’s Move Pittsburgh\, and Citiparks Roving Art Cart \nAugust 16 – Find Some Flow and Children’s Theater Festival \nAugust 23 – Penguin Encounter with the National Aviary\, The Wheel Mill\, and Children’s Museum of Pittsburgh \nAugust 30 – Sunburst School of Music\, Playful Pittsburgh Collaborative\, and Pittsburgh Ballet Theatre
URL:https://playpittsburgh.com/event/kids-play-market-square/2016-08-23/
LOCATION:Market Square\, 23 Market Place\, Forbes Avenue and Market Place\, Pittsburgh\, PA\, 15222\, United States
CATEGORIES:Free,Outdoor
GEO:40.4400253;-80.0030034
X-APPLE-STRUCTURED-LOCATION;VALUE=URI;X-ADDRESS=Market Square 23 Market Place Forbes Avenue and Market Place Pittsburgh PA 15222 United States;X-APPLE-RADIUS=500;X-TITLE=23 Market Place\, Forbes Avenue and Market Place:geo:-80.0030034,40.4400253
END:VEVENT
BEGIN:VEVENT
DTSTART;TZID=America/New_York:20160816T100000
DTEND;TZID=America/New_York:20160816T113000
DTSTAMP:20260421T182600
CREATED:20160704T171814Z
LAST-MODIFIED:20160704T174930Z
UID:9503-1471341600-1471347000@playpittsburgh.com
SUMMARY:Kids Play in Market Square
DESCRIPTION:children and their families/caregivers can enjoy fun and educational programs and activities complete with crafts\, stories\, and special guests. Children can plant their own tree one week\, see how cartoons come to life the next\, dance with the symphony and ballet\, and even touch a real fire truck\, all in Downtown’s historic Market Square. The free program series produced by the Pittsburgh Downtown Partnership introduces children to a new and exciting learning experience in one of Downtown’s most popular destinations.  \nNew this year – each week there will be free lunches for all children in attendance provided by Grub-Up Pittsburgh! \nJune 14 – Pittsburgh Riverhounds and Pittsburgh CLO Academy \nJune 21 – Playful Pittsburgh Collaborative\, Mr. McFeely of Mister Rogers’ Neighborhood\, Let’s Move Pittsburgh\, and the Children’s Museum of Pittsburgh \nJune 28 – Pittsburgh Symphony Orchestra\, Kids Yoga with ivivva\, and the Office of Public Art \nJuly 5 – Sarah Heinz House Advanced Robotics Program\, Playful Pittsburgh Collaborative\, and Let’s Move Pittsburgh \nJuly 12 – The Saturday Light Brigade Radio\, Find Some Flow\, and Citiparks Roving Art Cart \nJuly 19 – Kids Plus Pediatrics\, Children’s Museum of Pittsburgh\, and Tree Pittsburgh \nJuly 26 – Santa in the Square\, Citiparks Roving Art Cart\, and Pittsburgh Music Academy \nAugust 2 – Three Rivers Storytelling Festival \nAugust 9 – Animal Friends\, Let’s Move Pittsburgh\, and Citiparks Roving Art Cart \nAugust 16 – Find Some Flow and Children’s Theater Festival \nAugust 23 – Penguin Encounter with the National Aviary\, The Wheel Mill\, and Children’s Museum of Pittsburgh \nAugust 30 – Sunburst School of Music\, Playful Pittsburgh Collaborative\, and Pittsburgh Ballet Theatre
URL:https://playpittsburgh.com/event/kids-play-market-square/2016-08-16/
LOCATION:Market Square\, 23 Market Place\, Forbes Avenue and Market Place\, Pittsburgh\, PA\, 15222\, United States
CATEGORIES:Free,Outdoor
GEO:40.4400253;-80.0030034
X-APPLE-STRUCTURED-LOCATION;VALUE=URI;X-ADDRESS=Market Square 23 Market Place Forbes Avenue and Market Place Pittsburgh PA 15222 United States;X-APPLE-RADIUS=500;X-TITLE=23 Market Place\, Forbes Avenue and Market Place:geo:-80.0030034,40.4400253
END:VEVENT
BEGIN:VEVENT
DTSTART;TZID=America/New_York:20160809T100000
DTEND;TZID=America/New_York:20160809T113000
DTSTAMP:20260421T182600
CREATED:20160704T171814Z
LAST-MODIFIED:20160704T174930Z
UID:9502-1470736800-1470742200@playpittsburgh.com
SUMMARY:Kids Play in Market Square
DESCRIPTION:children and their families/caregivers can enjoy fun and educational programs and activities complete with crafts\, stories\, and special guests. Children can plant their own tree one week\, see how cartoons come to life the next\, dance with the symphony and ballet\, and even touch a real fire truck\, all in Downtown’s historic Market Square. The free program series produced by the Pittsburgh Downtown Partnership introduces children to a new and exciting learning experience in one of Downtown’s most popular destinations.  \nNew this year – each week there will be free lunches for all children in attendance provided by Grub-Up Pittsburgh! \nJune 14 – Pittsburgh Riverhounds and Pittsburgh CLO Academy \nJune 21 – Playful Pittsburgh Collaborative\, Mr. McFeely of Mister Rogers’ Neighborhood\, Let’s Move Pittsburgh\, and the Children’s Museum of Pittsburgh \nJune 28 – Pittsburgh Symphony Orchestra\, Kids Yoga with ivivva\, and the Office of Public Art \nJuly 5 – Sarah Heinz House Advanced Robotics Program\, Playful Pittsburgh Collaborative\, and Let’s Move Pittsburgh \nJuly 12 – The Saturday Light Brigade Radio\, Find Some Flow\, and Citiparks Roving Art Cart \nJuly 19 – Kids Plus Pediatrics\, Children’s Museum of Pittsburgh\, and Tree Pittsburgh \nJuly 26 – Santa in the Square\, Citiparks Roving Art Cart\, and Pittsburgh Music Academy \nAugust 2 – Three Rivers Storytelling Festival \nAugust 9 – Animal Friends\, Let’s Move Pittsburgh\, and Citiparks Roving Art Cart \nAugust 16 – Find Some Flow and Children’s Theater Festival \nAugust 23 – Penguin Encounter with the National Aviary\, The Wheel Mill\, and Children’s Museum of Pittsburgh \nAugust 30 – Sunburst School of Music\, Playful Pittsburgh Collaborative\, and Pittsburgh Ballet Theatre
URL:https://playpittsburgh.com/event/kids-play-market-square/2016-08-09/
LOCATION:Market Square\, 23 Market Place\, Forbes Avenue and Market Place\, Pittsburgh\, PA\, 15222\, United States
CATEGORIES:Free,Outdoor
GEO:40.4400253;-80.0030034
X-APPLE-STRUCTURED-LOCATION;VALUE=URI;X-ADDRESS=Market Square 23 Market Place Forbes Avenue and Market Place Pittsburgh PA 15222 United States;X-APPLE-RADIUS=500;X-TITLE=23 Market Place\, Forbes Avenue and Market Place:geo:-80.0030034,40.4400253
END:VEVENT
BEGIN:VEVENT
DTSTART;TZID=America/New_York:20160802T100000
DTEND;TZID=America/New_York:20160802T113000
DTSTAMP:20260421T182600
CREATED:20160704T171814Z
LAST-MODIFIED:20160704T174930Z
UID:9501-1470132000-1470137400@playpittsburgh.com
SUMMARY:Kids Play in Market Square
DESCRIPTION:children and their families/caregivers can enjoy fun and educational programs and activities complete with crafts\, stories\, and special guests. Children can plant their own tree one week\, see how cartoons come to life the next\, dance with the symphony and ballet\, and even touch a real fire truck\, all in Downtown’s historic Market Square. The free program series produced by the Pittsburgh Downtown Partnership introduces children to a new and exciting learning experience in one of Downtown’s most popular destinations.  \nNew this year – each week there will be free lunches for all children in attendance provided by Grub-Up Pittsburgh! \nJune 14 – Pittsburgh Riverhounds and Pittsburgh CLO Academy \nJune 21 – Playful Pittsburgh Collaborative\, Mr. McFeely of Mister Rogers’ Neighborhood\, Let’s Move Pittsburgh\, and the Children’s Museum of Pittsburgh \nJune 28 – Pittsburgh Symphony Orchestra\, Kids Yoga with ivivva\, and the Office of Public Art \nJuly 5 – Sarah Heinz House Advanced Robotics Program\, Playful Pittsburgh Collaborative\, and Let’s Move Pittsburgh \nJuly 12 – The Saturday Light Brigade Radio\, Find Some Flow\, and Citiparks Roving Art Cart \nJuly 19 – Kids Plus Pediatrics\, Children’s Museum of Pittsburgh\, and Tree Pittsburgh \nJuly 26 – Santa in the Square\, Citiparks Roving Art Cart\, and Pittsburgh Music Academy \nAugust 2 – Three Rivers Storytelling Festival \nAugust 9 – Animal Friends\, Let’s Move Pittsburgh\, and Citiparks Roving Art Cart \nAugust 16 – Find Some Flow and Children’s Theater Festival \nAugust 23 – Penguin Encounter with the National Aviary\, The Wheel Mill\, and Children’s Museum of Pittsburgh \nAugust 30 – Sunburst School of Music\, Playful Pittsburgh Collaborative\, and Pittsburgh Ballet Theatre
URL:https://playpittsburgh.com/event/kids-play-market-square/2016-08-02/
LOCATION:Market Square\, 23 Market Place\, Forbes Avenue and Market Place\, Pittsburgh\, PA\, 15222\, United States
CATEGORIES:Free,Outdoor
GEO:40.4400253;-80.0030034
X-APPLE-STRUCTURED-LOCATION;VALUE=URI;X-ADDRESS=Market Square 23 Market Place Forbes Avenue and Market Place Pittsburgh PA 15222 United States;X-APPLE-RADIUS=500;X-TITLE=23 Market Place\, Forbes Avenue and Market Place:geo:-80.0030034,40.4400253
END:VEVENT
BEGIN:VEVENT
DTSTART;TZID=America/New_York:20160726T100000
DTEND;TZID=America/New_York:20160726T113000
DTSTAMP:20260421T182600
CREATED:20160704T171814Z
LAST-MODIFIED:20160704T174930Z
UID:9500-1469527200-1469532600@playpittsburgh.com
SUMMARY:Kids Play in Market Square
DESCRIPTION:children and their families/caregivers can enjoy fun and educational programs and activities complete with crafts\, stories\, and special guests. Children can plant their own tree one week\, see how cartoons come to life the next\, dance with the symphony and ballet\, and even touch a real fire truck\, all in Downtown’s historic Market Square. The free program series produced by the Pittsburgh Downtown Partnership introduces children to a new and exciting learning experience in one of Downtown’s most popular destinations.  \nNew this year – each week there will be free lunches for all children in attendance provided by Grub-Up Pittsburgh! \nJune 14 – Pittsburgh Riverhounds and Pittsburgh CLO Academy \nJune 21 – Playful Pittsburgh Collaborative\, Mr. McFeely of Mister Rogers’ Neighborhood\, Let’s Move Pittsburgh\, and the Children’s Museum of Pittsburgh \nJune 28 – Pittsburgh Symphony Orchestra\, Kids Yoga with ivivva\, and the Office of Public Art \nJuly 5 – Sarah Heinz House Advanced Robotics Program\, Playful Pittsburgh Collaborative\, and Let’s Move Pittsburgh \nJuly 12 – The Saturday Light Brigade Radio\, Find Some Flow\, and Citiparks Roving Art Cart \nJuly 19 – Kids Plus Pediatrics\, Children’s Museum of Pittsburgh\, and Tree Pittsburgh \nJuly 26 – Santa in the Square\, Citiparks Roving Art Cart\, and Pittsburgh Music Academy \nAugust 2 – Three Rivers Storytelling Festival \nAugust 9 – Animal Friends\, Let’s Move Pittsburgh\, and Citiparks Roving Art Cart \nAugust 16 – Find Some Flow and Children’s Theater Festival \nAugust 23 – Penguin Encounter with the National Aviary\, The Wheel Mill\, and Children’s Museum of Pittsburgh \nAugust 30 – Sunburst School of Music\, Playful Pittsburgh Collaborative\, and Pittsburgh Ballet Theatre
URL:https://playpittsburgh.com/event/kids-play-market-square/2016-07-26/
LOCATION:Market Square\, 23 Market Place\, Forbes Avenue and Market Place\, Pittsburgh\, PA\, 15222\, United States
CATEGORIES:Free,Outdoor
GEO:40.4400253;-80.0030034
X-APPLE-STRUCTURED-LOCATION;VALUE=URI;X-ADDRESS=Market Square 23 Market Place Forbes Avenue and Market Place Pittsburgh PA 15222 United States;X-APPLE-RADIUS=500;X-TITLE=23 Market Place\, Forbes Avenue and Market Place:geo:-80.0030034,40.4400253
END:VEVENT
BEGIN:VEVENT
DTSTART;TZID=America/New_York:20160719T100000
DTEND;TZID=America/New_York:20160719T113000
DTSTAMP:20260421T182600
CREATED:20160704T171814Z
LAST-MODIFIED:20160704T174929Z
UID:9499-1468922400-1468927800@playpittsburgh.com
SUMMARY:Kids Play in Market Square
DESCRIPTION:children and their families/caregivers can enjoy fun and educational programs and activities complete with crafts\, stories\, and special guests. Children can plant their own tree one week\, see how cartoons come to life the next\, dance with the symphony and ballet\, and even touch a real fire truck\, all in Downtown’s historic Market Square. The free program series produced by the Pittsburgh Downtown Partnership introduces children to a new and exciting learning experience in one of Downtown’s most popular destinations.  \nNew this year – each week there will be free lunches for all children in attendance provided by Grub-Up Pittsburgh! \nJune 14 – Pittsburgh Riverhounds and Pittsburgh CLO Academy \nJune 21 – Playful Pittsburgh Collaborative\, Mr. McFeely of Mister Rogers’ Neighborhood\, Let’s Move Pittsburgh\, and the Children’s Museum of Pittsburgh \nJune 28 – Pittsburgh Symphony Orchestra\, Kids Yoga with ivivva\, and the Office of Public Art \nJuly 5 – Sarah Heinz House Advanced Robotics Program\, Playful Pittsburgh Collaborative\, and Let’s Move Pittsburgh \nJuly 12 – The Saturday Light Brigade Radio\, Find Some Flow\, and Citiparks Roving Art Cart \nJuly 19 – Kids Plus Pediatrics\, Children’s Museum of Pittsburgh\, and Tree Pittsburgh \nJuly 26 – Santa in the Square\, Citiparks Roving Art Cart\, and Pittsburgh Music Academy \nAugust 2 – Three Rivers Storytelling Festival \nAugust 9 – Animal Friends\, Let’s Move Pittsburgh\, and Citiparks Roving Art Cart \nAugust 16 – Find Some Flow and Children’s Theater Festival \nAugust 23 – Penguin Encounter with the National Aviary\, The Wheel Mill\, and Children’s Museum of Pittsburgh \nAugust 30 – Sunburst School of Music\, Playful Pittsburgh Collaborative\, and Pittsburgh Ballet Theatre
URL:https://playpittsburgh.com/event/kids-play-market-square/2016-07-19/
LOCATION:Market Square\, 23 Market Place\, Forbes Avenue and Market Place\, Pittsburgh\, PA\, 15222\, United States
CATEGORIES:Free,Outdoor
GEO:40.4400253;-80.0030034
X-APPLE-STRUCTURED-LOCATION;VALUE=URI;X-ADDRESS=Market Square 23 Market Place Forbes Avenue and Market Place Pittsburgh PA 15222 United States;X-APPLE-RADIUS=500;X-TITLE=23 Market Place\, Forbes Avenue and Market Place:geo:-80.0030034,40.4400253
END:VEVENT
BEGIN:VEVENT
DTSTART;TZID=America/New_York:20160712T100000
DTEND;TZID=America/New_York:20160712T113000
DTSTAMP:20260421T182600
CREATED:20160704T171814Z
LAST-MODIFIED:20160704T174929Z
UID:9498-1468317600-1468323000@playpittsburgh.com
SUMMARY:Kids Play in Market Square
DESCRIPTION:children and their families/caregivers can enjoy fun and educational programs and activities complete with crafts\, stories\, and special guests. Children can plant their own tree one week\, see how cartoons come to life the next\, dance with the symphony and ballet\, and even touch a real fire truck\, all in Downtown’s historic Market Square. The free program series produced by the Pittsburgh Downtown Partnership introduces children to a new and exciting learning experience in one of Downtown’s most popular destinations.  \nNew this year – each week there will be free lunches for all children in attendance provided by Grub-Up Pittsburgh! \nJune 14 – Pittsburgh Riverhounds and Pittsburgh CLO Academy \nJune 21 – Playful Pittsburgh Collaborative\, Mr. McFeely of Mister Rogers’ Neighborhood\, Let’s Move Pittsburgh\, and the Children’s Museum of Pittsburgh \nJune 28 – Pittsburgh Symphony Orchestra\, Kids Yoga with ivivva\, and the Office of Public Art \nJuly 5 – Sarah Heinz House Advanced Robotics Program\, Playful Pittsburgh Collaborative\, and Let’s Move Pittsburgh \nJuly 12 – The Saturday Light Brigade Radio\, Find Some Flow\, and Citiparks Roving Art Cart \nJuly 19 – Kids Plus Pediatrics\, Children’s Museum of Pittsburgh\, and Tree Pittsburgh \nJuly 26 – Santa in the Square\, Citiparks Roving Art Cart\, and Pittsburgh Music Academy \nAugust 2 – Three Rivers Storytelling Festival \nAugust 9 – Animal Friends\, Let’s Move Pittsburgh\, and Citiparks Roving Art Cart \nAugust 16 – Find Some Flow and Children’s Theater Festival \nAugust 23 – Penguin Encounter with the National Aviary\, The Wheel Mill\, and Children’s Museum of Pittsburgh \nAugust 30 – Sunburst School of Music\, Playful Pittsburgh Collaborative\, and Pittsburgh Ballet Theatre
URL:https://playpittsburgh.com/event/kids-play-market-square/2016-07-12/
LOCATION:Market Square\, 23 Market Place\, Forbes Avenue and Market Place\, Pittsburgh\, PA\, 15222\, United States
CATEGORIES:Free,Outdoor
GEO:40.4400253;-80.0030034
X-APPLE-STRUCTURED-LOCATION;VALUE=URI;X-ADDRESS=Market Square 23 Market Place Forbes Avenue and Market Place Pittsburgh PA 15222 United States;X-APPLE-RADIUS=500;X-TITLE=23 Market Place\, Forbes Avenue and Market Place:geo:-80.0030034,40.4400253
END:VEVENT
BEGIN:VEVENT
DTSTART;TZID=America/New_York:20160705T100000
DTEND;TZID=America/New_York:20160705T113000
DTSTAMP:20260421T182600
CREATED:20160704T171814Z
LAST-MODIFIED:20160704T174929Z
UID:9497-1467712800-1467718200@playpittsburgh.com
SUMMARY:Kids Play in Market Square
DESCRIPTION:children and their families/caregivers can enjoy fun and educational programs and activities complete with crafts\, stories\, and special guests. Children can plant their own tree one week\, see how cartoons come to life the next\, dance with the symphony and ballet\, and even touch a real fire truck\, all in Downtown’s historic Market Square. The free program series produced by the Pittsburgh Downtown Partnership introduces children to a new and exciting learning experience in one of Downtown’s most popular destinations.  \nNew this year – each week there will be free lunches for all children in attendance provided by Grub-Up Pittsburgh! \nJune 14 – Pittsburgh Riverhounds and Pittsburgh CLO Academy \nJune 21 – Playful Pittsburgh Collaborative\, Mr. McFeely of Mister Rogers’ Neighborhood\, Let’s Move Pittsburgh\, and the Children’s Museum of Pittsburgh \nJune 28 – Pittsburgh Symphony Orchestra\, Kids Yoga with ivivva\, and the Office of Public Art \nJuly 5 – Sarah Heinz House Advanced Robotics Program\, Playful Pittsburgh Collaborative\, and Let’s Move Pittsburgh \nJuly 12 – The Saturday Light Brigade Radio\, Find Some Flow\, and Citiparks Roving Art Cart \nJuly 19 – Kids Plus Pediatrics\, Children’s Museum of Pittsburgh\, and Tree Pittsburgh \nJuly 26 – Santa in the Square\, Citiparks Roving Art Cart\, and Pittsburgh Music Academy \nAugust 2 – Three Rivers Storytelling Festival \nAugust 9 – Animal Friends\, Let’s Move Pittsburgh\, and Citiparks Roving Art Cart \nAugust 16 – Find Some Flow and Children’s Theater Festival \nAugust 23 – Penguin Encounter with the National Aviary\, The Wheel Mill\, and Children’s Museum of Pittsburgh \nAugust 30 – Sunburst School of Music\, Playful Pittsburgh Collaborative\, and Pittsburgh Ballet Theatre
URL:https://playpittsburgh.com/event/kids-play-market-square/2016-07-05/
LOCATION:Market Square\, 23 Market Place\, Forbes Avenue and Market Place\, Pittsburgh\, PA\, 15222\, United States
CATEGORIES:Free,Outdoor
GEO:40.4400253;-80.0030034
X-APPLE-STRUCTURED-LOCATION;VALUE=URI;X-ADDRESS=Market Square 23 Market Place Forbes Avenue and Market Place Pittsburgh PA 15222 United States;X-APPLE-RADIUS=500;X-TITLE=23 Market Place\, Forbes Avenue and Market Place:geo:-80.0030034,40.4400253
END:VEVENT
END:VCALENDAR