BEGIN:VCALENDAR
VERSION:2.0
PRODID:-//Play Pittsburgh - ECPv6.15.20//NONSGML v1.0//EN
CALSCALE:GREGORIAN
METHOD:PUBLISH
X-ORIGINAL-URL:https://playpittsburgh.com
X-WR-CALDESC:Events for Play Pittsburgh
REFRESH-INTERVAL;VALUE=DURATION:PT1H
X-Robots-Tag:noindex
X-PUBLISHED-TTL:PT1H
BEGIN:VTIMEZONE
TZID:America/New_York
BEGIN:DAYLIGHT
TZOFFSETFROM:-0500
TZOFFSETTO:-0400
TZNAME:EDT
DTSTART:20130310T070000
END:DAYLIGHT
BEGIN:STANDARD
TZOFFSETFROM:-0400
TZOFFSETTO:-0500
TZNAME:EST
DTSTART:20131103T060000
END:STANDARD
BEGIN:DAYLIGHT
TZOFFSETFROM:-0500
TZOFFSETTO:-0400
TZNAME:EDT
DTSTART:20140309T070000
END:DAYLIGHT
BEGIN:STANDARD
TZOFFSETFROM:-0400
TZOFFSETTO:-0500
TZNAME:EST
DTSTART:20141102T060000
END:STANDARD
BEGIN:DAYLIGHT
TZOFFSETFROM:-0500
TZOFFSETTO:-0400
TZNAME:EDT
DTSTART:20150308T070000
END:DAYLIGHT
BEGIN:STANDARD
TZOFFSETFROM:-0400
TZOFFSETTO:-0500
TZNAME:EST
DTSTART:20151101T060000
END:STANDARD
END:VTIMEZONE
BEGIN:VEVENT
DTSTART;TZID=America/New_York:20140428T160000
DTEND;TZID=America/New_York:20140428T210000
DTSTAMP:20260422T063705
CREATED:20140422T183306Z
LAST-MODIFIED:20141021T012019Z
UID:807-1398700800-1398718800@playpittsburgh.com
SUMMARY:Kids Eat\, Watch & Play
DESCRIPTION:At Latitude 40 (360) kids 12 yrs and under get a free kids meal\, a free movie ticket and a free $5 game card with each purchase of an adult entree. \nLatitude 40 (360) is 65\,000 sq ft and Pittsburgh’s luxury entertainment venue. Latitude 360 Pittsburgh includes a game room with over 70 interactive video & redemption games\, the Axis Bar with stage and dance floor\, the 360 Grille™\, an upscale\, casual contemporary-American dining restaurant that features everything from fire-grilled entrees to the freshest seafood and hand-crafted salads. Guests can sit in our main dining area\, at the 360 Bar\, on our covered patio or at the pizza bar.
URL:https://playpittsburgh.com/event/kids-eat-watch-play/2014-04-28/
LOCATION:Latitude 40 (Latitude 360)\, 200 Quinn Dr.\, Pittsburgh\, PA\, 15275\, United States
CATEGORIES:Indoor Play
GEO:40.4461796;-80.1778471
X-APPLE-STRUCTURED-LOCATION;VALUE=URI;X-ADDRESS=Latitude 40 (Latitude 360) 200 Quinn Dr. Pittsburgh PA 15275 United States;X-APPLE-RADIUS=500;X-TITLE=200 Quinn Dr.:geo:-80.1778471,40.4461796
END:VEVENT
END:VCALENDAR