BEGIN:VCALENDAR
VERSION:2.0
PRODID:-//Play Pittsburgh - ECPv6.15.20//NONSGML v1.0//EN
CALSCALE:GREGORIAN
METHOD:PUBLISH
X-WR-CALNAME:Play Pittsburgh
X-ORIGINAL-URL:https://playpittsburgh.com
X-WR-CALDESC:Events for Play Pittsburgh
REFRESH-INTERVAL;VALUE=DURATION:PT1H
X-Robots-Tag:noindex
X-PUBLISHED-TTL:PT1H
BEGIN:VTIMEZONE
TZID:America/New_York
BEGIN:DAYLIGHT
TZOFFSETFROM:-0500
TZOFFSETTO:-0400
TZNAME:EDT
DTSTART:20140309T070000
END:DAYLIGHT
BEGIN:STANDARD
TZOFFSETFROM:-0400
TZOFFSETTO:-0500
TZNAME:EST
DTSTART:20141102T060000
END:STANDARD
BEGIN:DAYLIGHT
TZOFFSETFROM:-0500
TZOFFSETTO:-0400
TZNAME:EDT
DTSTART:20150308T070000
END:DAYLIGHT
BEGIN:STANDARD
TZOFFSETFROM:-0400
TZOFFSETTO:-0500
TZNAME:EST
DTSTART:20151101T060000
END:STANDARD
BEGIN:DAYLIGHT
TZOFFSETFROM:-0500
TZOFFSETTO:-0400
TZNAME:EDT
DTSTART:20160313T070000
END:DAYLIGHT
BEGIN:STANDARD
TZOFFSETFROM:-0400
TZOFFSETTO:-0500
TZNAME:EST
DTSTART:20161106T060000
END:STANDARD
END:VTIMEZONE
BEGIN:VEVENT
DTSTART;TZID=America/New_York:20150831T160000
DTEND;TZID=America/New_York:20150831T210000
DTSTAMP:20260421T230934
CREATED:20150325T221616Z
LAST-MODIFIED:20150325T221616Z
UID:8352-1441036800-1441054800@playpittsburgh.com
SUMMARY:Kids Eat\, Watch and Play for Free at Latitude 360
DESCRIPTION:Kids 12 & under get one free kids meal\, a free movie and a $5 game card with each paid adult entree (a $14.99 value). Special 6PM Showing of a kid friendly movie in Cinegrille.
URL:https://playpittsburgh.com/event/kids-eat-watch-and-play-for-free-at-latitude-360/2015-08-31/
LOCATION:Latitude 40 (Latitude 360)\, 200 Quinn Dr.\, Pittsburgh\, PA\, 15275\, United States
GEO:40.4461796;-80.1778471
X-APPLE-STRUCTURED-LOCATION;VALUE=URI;X-ADDRESS=Latitude 40 (Latitude 360) 200 Quinn Dr. Pittsburgh PA 15275 United States;X-APPLE-RADIUS=500;X-TITLE=200 Quinn Dr.:geo:-80.1778471,40.4461796
END:VEVENT
BEGIN:VEVENT
DTSTART;TZID=America/New_York:20150824T160000
DTEND;TZID=America/New_York:20150824T210000
DTSTAMP:20260421T230934
CREATED:20150325T221616Z
LAST-MODIFIED:20150325T221616Z
UID:8351-1440432000-1440450000@playpittsburgh.com
SUMMARY:Kids Eat\, Watch and Play for Free at Latitude 360
DESCRIPTION:Kids 12 & under get one free kids meal\, a free movie and a $5 game card with each paid adult entree (a $14.99 value). Special 6PM Showing of a kid friendly movie in Cinegrille.
URL:https://playpittsburgh.com/event/kids-eat-watch-and-play-for-free-at-latitude-360/2015-08-24/
LOCATION:Latitude 40 (Latitude 360)\, 200 Quinn Dr.\, Pittsburgh\, PA\, 15275\, United States
GEO:40.4461796;-80.1778471
X-APPLE-STRUCTURED-LOCATION;VALUE=URI;X-ADDRESS=Latitude 40 (Latitude 360) 200 Quinn Dr. Pittsburgh PA 15275 United States;X-APPLE-RADIUS=500;X-TITLE=200 Quinn Dr.:geo:-80.1778471,40.4461796
END:VEVENT
BEGIN:VEVENT
DTSTART;TZID=America/New_York:20150817T160000
DTEND;TZID=America/New_York:20150817T210000
DTSTAMP:20260421T230934
CREATED:20150325T221616Z
LAST-MODIFIED:20150325T221616Z
UID:8350-1439827200-1439845200@playpittsburgh.com
SUMMARY:Kids Eat\, Watch and Play for Free at Latitude 360
DESCRIPTION:Kids 12 & under get one free kids meal\, a free movie and a $5 game card with each paid adult entree (a $14.99 value). Special 6PM Showing of a kid friendly movie in Cinegrille.
URL:https://playpittsburgh.com/event/kids-eat-watch-and-play-for-free-at-latitude-360/2015-08-17/
LOCATION:Latitude 40 (Latitude 360)\, 200 Quinn Dr.\, Pittsburgh\, PA\, 15275\, United States
GEO:40.4461796;-80.1778471
X-APPLE-STRUCTURED-LOCATION;VALUE=URI;X-ADDRESS=Latitude 40 (Latitude 360) 200 Quinn Dr. Pittsburgh PA 15275 United States;X-APPLE-RADIUS=500;X-TITLE=200 Quinn Dr.:geo:-80.1778471,40.4461796
END:VEVENT
BEGIN:VEVENT
DTSTART;TZID=America/New_York:20150810T160000
DTEND;TZID=America/New_York:20150810T210000
DTSTAMP:20260421T230934
CREATED:20150325T221616Z
LAST-MODIFIED:20150325T221616Z
UID:8349-1439222400-1439240400@playpittsburgh.com
SUMMARY:Kids Eat\, Watch and Play for Free at Latitude 360
DESCRIPTION:Kids 12 & under get one free kids meal\, a free movie and a $5 game card with each paid adult entree (a $14.99 value). Special 6PM Showing of a kid friendly movie in Cinegrille.
URL:https://playpittsburgh.com/event/kids-eat-watch-and-play-for-free-at-latitude-360/2015-08-10/
LOCATION:Latitude 40 (Latitude 360)\, 200 Quinn Dr.\, Pittsburgh\, PA\, 15275\, United States
GEO:40.4461796;-80.1778471
X-APPLE-STRUCTURED-LOCATION;VALUE=URI;X-ADDRESS=Latitude 40 (Latitude 360) 200 Quinn Dr. Pittsburgh PA 15275 United States;X-APPLE-RADIUS=500;X-TITLE=200 Quinn Dr.:geo:-80.1778471,40.4461796
END:VEVENT
BEGIN:VEVENT
DTSTART;TZID=America/New_York:20150803T160000
DTEND;TZID=America/New_York:20150803T210000
DTSTAMP:20260421T230934
CREATED:20150325T221616Z
LAST-MODIFIED:20150325T221616Z
UID:8348-1438617600-1438635600@playpittsburgh.com
SUMMARY:Kids Eat\, Watch and Play for Free at Latitude 360
DESCRIPTION:Kids 12 & under get one free kids meal\, a free movie and a $5 game card with each paid adult entree (a $14.99 value). Special 6PM Showing of a kid friendly movie in Cinegrille.
URL:https://playpittsburgh.com/event/kids-eat-watch-and-play-for-free-at-latitude-360/2015-08-03/
LOCATION:Latitude 40 (Latitude 360)\, 200 Quinn Dr.\, Pittsburgh\, PA\, 15275\, United States
GEO:40.4461796;-80.1778471
X-APPLE-STRUCTURED-LOCATION;VALUE=URI;X-ADDRESS=Latitude 40 (Latitude 360) 200 Quinn Dr. Pittsburgh PA 15275 United States;X-APPLE-RADIUS=500;X-TITLE=200 Quinn Dr.:geo:-80.1778471,40.4461796
END:VEVENT
BEGIN:VEVENT
DTSTART;TZID=America/New_York:20150727T160000
DTEND;TZID=America/New_York:20150727T210000
DTSTAMP:20260421T230934
CREATED:20150325T221616Z
LAST-MODIFIED:20150325T221616Z
UID:8347-1438012800-1438030800@playpittsburgh.com
SUMMARY:Kids Eat\, Watch and Play for Free at Latitude 360
DESCRIPTION:Kids 12 & under get one free kids meal\, a free movie and a $5 game card with each paid adult entree (a $14.99 value). Special 6PM Showing of a kid friendly movie in Cinegrille.
URL:https://playpittsburgh.com/event/kids-eat-watch-and-play-for-free-at-latitude-360/2015-07-27/
LOCATION:Latitude 40 (Latitude 360)\, 200 Quinn Dr.\, Pittsburgh\, PA\, 15275\, United States
GEO:40.4461796;-80.1778471
X-APPLE-STRUCTURED-LOCATION;VALUE=URI;X-ADDRESS=Latitude 40 (Latitude 360) 200 Quinn Dr. Pittsburgh PA 15275 United States;X-APPLE-RADIUS=500;X-TITLE=200 Quinn Dr.:geo:-80.1778471,40.4461796
END:VEVENT
BEGIN:VEVENT
DTSTART;TZID=America/New_York:20150720T160000
DTEND;TZID=America/New_York:20150720T210000
DTSTAMP:20260421T230934
CREATED:20150325T221616Z
LAST-MODIFIED:20150325T221616Z
UID:8346-1437408000-1437426000@playpittsburgh.com
SUMMARY:Kids Eat\, Watch and Play for Free at Latitude 360
DESCRIPTION:Kids 12 & under get one free kids meal\, a free movie and a $5 game card with each paid adult entree (a $14.99 value). Special 6PM Showing of a kid friendly movie in Cinegrille.
URL:https://playpittsburgh.com/event/kids-eat-watch-and-play-for-free-at-latitude-360/2015-07-20/
LOCATION:Latitude 40 (Latitude 360)\, 200 Quinn Dr.\, Pittsburgh\, PA\, 15275\, United States
GEO:40.4461796;-80.1778471
X-APPLE-STRUCTURED-LOCATION;VALUE=URI;X-ADDRESS=Latitude 40 (Latitude 360) 200 Quinn Dr. Pittsburgh PA 15275 United States;X-APPLE-RADIUS=500;X-TITLE=200 Quinn Dr.:geo:-80.1778471,40.4461796
END:VEVENT
BEGIN:VEVENT
DTSTART;TZID=America/New_York:20150713T160000
DTEND;TZID=America/New_York:20150713T210000
DTSTAMP:20260421T230934
CREATED:20150325T221616Z
LAST-MODIFIED:20150325T221616Z
UID:8345-1436803200-1436821200@playpittsburgh.com
SUMMARY:Kids Eat\, Watch and Play for Free at Latitude 360
DESCRIPTION:Kids 12 & under get one free kids meal\, a free movie and a $5 game card with each paid adult entree (a $14.99 value). Special 6PM Showing of a kid friendly movie in Cinegrille.
URL:https://playpittsburgh.com/event/kids-eat-watch-and-play-for-free-at-latitude-360/2015-07-13/
LOCATION:Latitude 40 (Latitude 360)\, 200 Quinn Dr.\, Pittsburgh\, PA\, 15275\, United States
GEO:40.4461796;-80.1778471
X-APPLE-STRUCTURED-LOCATION;VALUE=URI;X-ADDRESS=Latitude 40 (Latitude 360) 200 Quinn Dr. Pittsburgh PA 15275 United States;X-APPLE-RADIUS=500;X-TITLE=200 Quinn Dr.:geo:-80.1778471,40.4461796
END:VEVENT
BEGIN:VEVENT
DTSTART;TZID=America/New_York:20150706T160000
DTEND;TZID=America/New_York:20150706T210000
DTSTAMP:20260421T230934
CREATED:20150325T221616Z
LAST-MODIFIED:20150325T221616Z
UID:8344-1436198400-1436216400@playpittsburgh.com
SUMMARY:Kids Eat\, Watch and Play for Free at Latitude 360
DESCRIPTION:Kids 12 & under get one free kids meal\, a free movie and a $5 game card with each paid adult entree (a $14.99 value). Special 6PM Showing of a kid friendly movie in Cinegrille.
URL:https://playpittsburgh.com/event/kids-eat-watch-and-play-for-free-at-latitude-360/2015-07-06/
LOCATION:Latitude 40 (Latitude 360)\, 200 Quinn Dr.\, Pittsburgh\, PA\, 15275\, United States
GEO:40.4461796;-80.1778471
X-APPLE-STRUCTURED-LOCATION;VALUE=URI;X-ADDRESS=Latitude 40 (Latitude 360) 200 Quinn Dr. Pittsburgh PA 15275 United States;X-APPLE-RADIUS=500;X-TITLE=200 Quinn Dr.:geo:-80.1778471,40.4461796
END:VEVENT
BEGIN:VEVENT
DTSTART;TZID=America/New_York:20150629T160000
DTEND;TZID=America/New_York:20150629T210000
DTSTAMP:20260421T230934
CREATED:20150325T221616Z
LAST-MODIFIED:20150325T221616Z
UID:8343-1435593600-1435611600@playpittsburgh.com
SUMMARY:Kids Eat\, Watch and Play for Free at Latitude 360
DESCRIPTION:Kids 12 & under get one free kids meal\, a free movie and a $5 game card with each paid adult entree (a $14.99 value). Special 6PM Showing of a kid friendly movie in Cinegrille.
URL:https://playpittsburgh.com/event/kids-eat-watch-and-play-for-free-at-latitude-360/2015-06-29/
LOCATION:Latitude 40 (Latitude 360)\, 200 Quinn Dr.\, Pittsburgh\, PA\, 15275\, United States
GEO:40.4461796;-80.1778471
X-APPLE-STRUCTURED-LOCATION;VALUE=URI;X-ADDRESS=Latitude 40 (Latitude 360) 200 Quinn Dr. Pittsburgh PA 15275 United States;X-APPLE-RADIUS=500;X-TITLE=200 Quinn Dr.:geo:-80.1778471,40.4461796
END:VEVENT
BEGIN:VEVENT
DTSTART;TZID=America/New_York:20150622T160000
DTEND;TZID=America/New_York:20150622T210000
DTSTAMP:20260421T230934
CREATED:20150325T221616Z
LAST-MODIFIED:20150325T221616Z
UID:8342-1434988800-1435006800@playpittsburgh.com
SUMMARY:Kids Eat\, Watch and Play for Free at Latitude 360
DESCRIPTION:Kids 12 & under get one free kids meal\, a free movie and a $5 game card with each paid adult entree (a $14.99 value). Special 6PM Showing of a kid friendly movie in Cinegrille.
URL:https://playpittsburgh.com/event/kids-eat-watch-and-play-for-free-at-latitude-360/2015-06-22/
LOCATION:Latitude 40 (Latitude 360)\, 200 Quinn Dr.\, Pittsburgh\, PA\, 15275\, United States
GEO:40.4461796;-80.1778471
X-APPLE-STRUCTURED-LOCATION;VALUE=URI;X-ADDRESS=Latitude 40 (Latitude 360) 200 Quinn Dr. Pittsburgh PA 15275 United States;X-APPLE-RADIUS=500;X-TITLE=200 Quinn Dr.:geo:-80.1778471,40.4461796
END:VEVENT
BEGIN:VEVENT
DTSTART;TZID=America/New_York:20150615T160000
DTEND;TZID=America/New_York:20150615T210000
DTSTAMP:20260421T230934
CREATED:20150325T221616Z
LAST-MODIFIED:20150325T221616Z
UID:8341-1434384000-1434402000@playpittsburgh.com
SUMMARY:Kids Eat\, Watch and Play for Free at Latitude 360
DESCRIPTION:Kids 12 & under get one free kids meal\, a free movie and a $5 game card with each paid adult entree (a $14.99 value). Special 6PM Showing of a kid friendly movie in Cinegrille.
URL:https://playpittsburgh.com/event/kids-eat-watch-and-play-for-free-at-latitude-360/2015-06-15/
LOCATION:Latitude 40 (Latitude 360)\, 200 Quinn Dr.\, Pittsburgh\, PA\, 15275\, United States
GEO:40.4461796;-80.1778471
X-APPLE-STRUCTURED-LOCATION;VALUE=URI;X-ADDRESS=Latitude 40 (Latitude 360) 200 Quinn Dr. Pittsburgh PA 15275 United States;X-APPLE-RADIUS=500;X-TITLE=200 Quinn Dr.:geo:-80.1778471,40.4461796
END:VEVENT
BEGIN:VEVENT
DTSTART;TZID=America/New_York:20150608T160000
DTEND;TZID=America/New_York:20150608T210000
DTSTAMP:20260421T230934
CREATED:20150325T221616Z
LAST-MODIFIED:20150325T221616Z
UID:8340-1433779200-1433797200@playpittsburgh.com
SUMMARY:Kids Eat\, Watch and Play for Free at Latitude 360
DESCRIPTION:Kids 12 & under get one free kids meal\, a free movie and a $5 game card with each paid adult entree (a $14.99 value). Special 6PM Showing of a kid friendly movie in Cinegrille.
URL:https://playpittsburgh.com/event/kids-eat-watch-and-play-for-free-at-latitude-360/2015-06-08/
LOCATION:Latitude 40 (Latitude 360)\, 200 Quinn Dr.\, Pittsburgh\, PA\, 15275\, United States
GEO:40.4461796;-80.1778471
X-APPLE-STRUCTURED-LOCATION;VALUE=URI;X-ADDRESS=Latitude 40 (Latitude 360) 200 Quinn Dr. Pittsburgh PA 15275 United States;X-APPLE-RADIUS=500;X-TITLE=200 Quinn Dr.:geo:-80.1778471,40.4461796
END:VEVENT
BEGIN:VEVENT
DTSTART;TZID=America/New_York:20150601T160000
DTEND;TZID=America/New_York:20150601T210000
DTSTAMP:20260421T230934
CREATED:20150325T221616Z
LAST-MODIFIED:20150325T221616Z
UID:8339-1433174400-1433192400@playpittsburgh.com
SUMMARY:Kids Eat\, Watch and Play for Free at Latitude 360
DESCRIPTION:Kids 12 & under get one free kids meal\, a free movie and a $5 game card with each paid adult entree (a $14.99 value). Special 6PM Showing of a kid friendly movie in Cinegrille.
URL:https://playpittsburgh.com/event/kids-eat-watch-and-play-for-free-at-latitude-360/2015-06-01/
LOCATION:Latitude 40 (Latitude 360)\, 200 Quinn Dr.\, Pittsburgh\, PA\, 15275\, United States
GEO:40.4461796;-80.1778471
X-APPLE-STRUCTURED-LOCATION;VALUE=URI;X-ADDRESS=Latitude 40 (Latitude 360) 200 Quinn Dr. Pittsburgh PA 15275 United States;X-APPLE-RADIUS=500;X-TITLE=200 Quinn Dr.:geo:-80.1778471,40.4461796
END:VEVENT
BEGIN:VEVENT
DTSTART;TZID=America/New_York:20150525T160000
DTEND;TZID=America/New_York:20150525T210000
DTSTAMP:20260421T230934
CREATED:20150325T221616Z
LAST-MODIFIED:20150325T221616Z
UID:8334-1432569600-1432587600@playpittsburgh.com
SUMMARY:Kids Eat\, Watch and Play for Free at Latitude 360
DESCRIPTION:Kids 12 & under get one free kids meal\, a free movie and a $5 game card with each paid adult entree (a $14.99 value). Special 6PM Showing of a kid friendly movie in Cinegrille.
URL:https://playpittsburgh.com/event/kids-eat-watch-and-play-for-free-at-latitude-360/2015-05-25/
LOCATION:Latitude 40 (Latitude 360)\, 200 Quinn Dr.\, Pittsburgh\, PA\, 15275\, United States
GEO:40.4461796;-80.1778471
X-APPLE-STRUCTURED-LOCATION;VALUE=URI;X-ADDRESS=Latitude 40 (Latitude 360) 200 Quinn Dr. Pittsburgh PA 15275 United States;X-APPLE-RADIUS=500;X-TITLE=200 Quinn Dr.:geo:-80.1778471,40.4461796
END:VEVENT
BEGIN:VEVENT
DTSTART;TZID=America/New_York:20150518T160000
DTEND;TZID=America/New_York:20150518T210000
DTSTAMP:20260421T230934
CREATED:20150325T221616Z
LAST-MODIFIED:20150325T221616Z
UID:8322-1431964800-1431982800@playpittsburgh.com
SUMMARY:Kids Eat\, Watch and Play for Free at Latitude 360
DESCRIPTION:Kids 12 & under get one free kids meal\, a free movie and a $5 game card with each paid adult entree (a $14.99 value). Special 6PM Showing of a kid friendly movie in Cinegrille.
URL:https://playpittsburgh.com/event/kids-eat-watch-and-play-for-free-at-latitude-360/2015-05-18/
LOCATION:Latitude 40 (Latitude 360)\, 200 Quinn Dr.\, Pittsburgh\, PA\, 15275\, United States
GEO:40.4461796;-80.1778471
X-APPLE-STRUCTURED-LOCATION;VALUE=URI;X-ADDRESS=Latitude 40 (Latitude 360) 200 Quinn Dr. Pittsburgh PA 15275 United States;X-APPLE-RADIUS=500;X-TITLE=200 Quinn Dr.:geo:-80.1778471,40.4461796
END:VEVENT
BEGIN:VEVENT
DTSTART;TZID=America/New_York:20150511T160000
DTEND;TZID=America/New_York:20150511T210000
DTSTAMP:20260421T230934
CREATED:20150325T221616Z
LAST-MODIFIED:20150325T221616Z
UID:8321-1431360000-1431378000@playpittsburgh.com
SUMMARY:Kids Eat\, Watch and Play for Free at Latitude 360
DESCRIPTION:Kids 12 & under get one free kids meal\, a free movie and a $5 game card with each paid adult entree (a $14.99 value). Special 6PM Showing of a kid friendly movie in Cinegrille.
URL:https://playpittsburgh.com/event/kids-eat-watch-and-play-for-free-at-latitude-360/2015-05-11/
LOCATION:Latitude 40 (Latitude 360)\, 200 Quinn Dr.\, Pittsburgh\, PA\, 15275\, United States
GEO:40.4461796;-80.1778471
X-APPLE-STRUCTURED-LOCATION;VALUE=URI;X-ADDRESS=Latitude 40 (Latitude 360) 200 Quinn Dr. Pittsburgh PA 15275 United States;X-APPLE-RADIUS=500;X-TITLE=200 Quinn Dr.:geo:-80.1778471,40.4461796
END:VEVENT
BEGIN:VEVENT
DTSTART;TZID=America/New_York:20150504T160000
DTEND;TZID=America/New_York:20150504T210000
DTSTAMP:20260421T230934
CREATED:20150325T221616Z
LAST-MODIFIED:20150325T221616Z
UID:8320-1430755200-1430773200@playpittsburgh.com
SUMMARY:Kids Eat\, Watch and Play for Free at Latitude 360
DESCRIPTION:Kids 12 & under get one free kids meal\, a free movie and a $5 game card with each paid adult entree (a $14.99 value). Special 6PM Showing of a kid friendly movie in Cinegrille.
URL:https://playpittsburgh.com/event/kids-eat-watch-and-play-for-free-at-latitude-360/2015-05-04/
LOCATION:Latitude 40 (Latitude 360)\, 200 Quinn Dr.\, Pittsburgh\, PA\, 15275\, United States
GEO:40.4461796;-80.1778471
X-APPLE-STRUCTURED-LOCATION;VALUE=URI;X-ADDRESS=Latitude 40 (Latitude 360) 200 Quinn Dr. Pittsburgh PA 15275 United States;X-APPLE-RADIUS=500;X-TITLE=200 Quinn Dr.:geo:-80.1778471,40.4461796
END:VEVENT
BEGIN:VEVENT
DTSTART;TZID=America/New_York:20150427T160000
DTEND;TZID=America/New_York:20150427T210000
DTSTAMP:20260421T230934
CREATED:20150325T221616Z
LAST-MODIFIED:20150325T221616Z
UID:8319-1430150400-1430168400@playpittsburgh.com
SUMMARY:Kids Eat\, Watch and Play for Free at Latitude 360
DESCRIPTION:Kids 12 & under get one free kids meal\, a free movie and a $5 game card with each paid adult entree (a $14.99 value). Special 6PM Showing of a kid friendly movie in Cinegrille.
URL:https://playpittsburgh.com/event/kids-eat-watch-and-play-for-free-at-latitude-360/2015-04-27/
LOCATION:Latitude 40 (Latitude 360)\, 200 Quinn Dr.\, Pittsburgh\, PA\, 15275\, United States
GEO:40.4461796;-80.1778471
X-APPLE-STRUCTURED-LOCATION;VALUE=URI;X-ADDRESS=Latitude 40 (Latitude 360) 200 Quinn Dr. Pittsburgh PA 15275 United States;X-APPLE-RADIUS=500;X-TITLE=200 Quinn Dr.:geo:-80.1778471,40.4461796
END:VEVENT
BEGIN:VEVENT
DTSTART;TZID=America/New_York:20150420T160000
DTEND;TZID=America/New_York:20150420T210000
DTSTAMP:20260421T230934
CREATED:20150325T221616Z
LAST-MODIFIED:20150325T221616Z
UID:8318-1429545600-1429563600@playpittsburgh.com
SUMMARY:Kids Eat\, Watch and Play for Free at Latitude 360
DESCRIPTION:Kids 12 & under get one free kids meal\, a free movie and a $5 game card with each paid adult entree (a $14.99 value). Special 6PM Showing of a kid friendly movie in Cinegrille.
URL:https://playpittsburgh.com/event/kids-eat-watch-and-play-for-free-at-latitude-360/2015-04-20/
LOCATION:Latitude 40 (Latitude 360)\, 200 Quinn Dr.\, Pittsburgh\, PA\, 15275\, United States
GEO:40.4461796;-80.1778471
X-APPLE-STRUCTURED-LOCATION;VALUE=URI;X-ADDRESS=Latitude 40 (Latitude 360) 200 Quinn Dr. Pittsburgh PA 15275 United States;X-APPLE-RADIUS=500;X-TITLE=200 Quinn Dr.:geo:-80.1778471,40.4461796
END:VEVENT
BEGIN:VEVENT
DTSTART;TZID=America/New_York:20150413T160000
DTEND;TZID=America/New_York:20150413T210000
DTSTAMP:20260421T230934
CREATED:20150325T221616Z
LAST-MODIFIED:20150325T221616Z
UID:8317-1428940800-1428958800@playpittsburgh.com
SUMMARY:Kids Eat\, Watch and Play for Free at Latitude 360
DESCRIPTION:Kids 12 & under get one free kids meal\, a free movie and a $5 game card with each paid adult entree (a $14.99 value). Special 6PM Showing of a kid friendly movie in Cinegrille.
URL:https://playpittsburgh.com/event/kids-eat-watch-and-play-for-free-at-latitude-360/2015-04-13/
LOCATION:Latitude 40 (Latitude 360)\, 200 Quinn Dr.\, Pittsburgh\, PA\, 15275\, United States
GEO:40.4461796;-80.1778471
X-APPLE-STRUCTURED-LOCATION;VALUE=URI;X-ADDRESS=Latitude 40 (Latitude 360) 200 Quinn Dr. Pittsburgh PA 15275 United States;X-APPLE-RADIUS=500;X-TITLE=200 Quinn Dr.:geo:-80.1778471,40.4461796
END:VEVENT
BEGIN:VEVENT
DTSTART;TZID=America/New_York:20150406T160000
DTEND;TZID=America/New_York:20150406T210000
DTSTAMP:20260421T230934
CREATED:20150325T221616Z
LAST-MODIFIED:20150325T221616Z
UID:8316-1428336000-1428354000@playpittsburgh.com
SUMMARY:Kids Eat\, Watch and Play for Free at Latitude 360
DESCRIPTION:Kids 12 & under get one free kids meal\, a free movie and a $5 game card with each paid adult entree (a $14.99 value). Special 6PM Showing of a kid friendly movie in Cinegrille.
URL:https://playpittsburgh.com/event/kids-eat-watch-and-play-for-free-at-latitude-360/2015-04-06/
LOCATION:Latitude 40 (Latitude 360)\, 200 Quinn Dr.\, Pittsburgh\, PA\, 15275\, United States
GEO:40.4461796;-80.1778471
X-APPLE-STRUCTURED-LOCATION;VALUE=URI;X-ADDRESS=Latitude 40 (Latitude 360) 200 Quinn Dr. Pittsburgh PA 15275 United States;X-APPLE-RADIUS=500;X-TITLE=200 Quinn Dr.:geo:-80.1778471,40.4461796
END:VEVENT
BEGIN:VEVENT
DTSTART;TZID=America/New_York:20150330T160000
DTEND;TZID=America/New_York:20150330T210000
DTSTAMP:20260421T230934
CREATED:20150325T221616Z
LAST-MODIFIED:20150325T221616Z
UID:5683-1427731200-1427749200@playpittsburgh.com
SUMMARY:Kids Eat\, Watch and Play for Free at Latitude 360
DESCRIPTION:Kids 12 & under get one free kids meal\, a free movie and a $5 game card with each paid adult entree (a $14.99 value). Special 6PM Showing of a kid friendly movie in Cinegrille.
URL:https://playpittsburgh.com/event/kids-eat-watch-and-play-for-free-at-latitude-360/2015-03-30/
LOCATION:Latitude 40 (Latitude 360)\, 200 Quinn Dr.\, Pittsburgh\, PA\, 15275\, United States
GEO:40.4461796;-80.1778471
X-APPLE-STRUCTURED-LOCATION;VALUE=URI;X-ADDRESS=Latitude 40 (Latitude 360) 200 Quinn Dr. Pittsburgh PA 15275 United States;X-APPLE-RADIUS=500;X-TITLE=200 Quinn Dr.:geo:-80.1778471,40.4461796
END:VEVENT
END:VCALENDAR