BEGIN:VCALENDAR
VERSION:2.0
PRODID:-//Play Pittsburgh - ECPv6.15.20//NONSGML v1.0//EN
CALSCALE:GREGORIAN
METHOD:PUBLISH
X-WR-CALNAME:Play Pittsburgh
X-ORIGINAL-URL:https://playpittsburgh.com
X-WR-CALDESC:Events for Play Pittsburgh
REFRESH-INTERVAL;VALUE=DURATION:PT1H
X-Robots-Tag:noindex
X-PUBLISHED-TTL:PT1H
BEGIN:VTIMEZONE
TZID:America/New_York
BEGIN:DAYLIGHT
TZOFFSETFROM:-0500
TZOFFSETTO:-0400
TZNAME:EDT
DTSTART:20130310T070000
END:DAYLIGHT
BEGIN:STANDARD
TZOFFSETFROM:-0400
TZOFFSETTO:-0500
TZNAME:EST
DTSTART:20131103T060000
END:STANDARD
BEGIN:DAYLIGHT
TZOFFSETFROM:-0500
TZOFFSETTO:-0400
TZNAME:EDT
DTSTART:20140309T070000
END:DAYLIGHT
BEGIN:STANDARD
TZOFFSETFROM:-0400
TZOFFSETTO:-0500
TZNAME:EST
DTSTART:20141102T060000
END:STANDARD
BEGIN:DAYLIGHT
TZOFFSETFROM:-0500
TZOFFSETTO:-0400
TZNAME:EDT
DTSTART:20150308T070000
END:DAYLIGHT
BEGIN:STANDARD
TZOFFSETFROM:-0400
TZOFFSETTO:-0500
TZNAME:EST
DTSTART:20151101T060000
END:STANDARD
END:VTIMEZONE
BEGIN:VEVENT
DTSTART;TZID=America/New_York:20140914T110000
DTEND;TZID=America/New_York:20140914T130000
DTSTAMP:20260422T050204
CREATED:20140507T223802Z
LAST-MODIFIED:20140507T223802Z
UID:1260-1410692400-1410699600@playpittsburgh.com
SUMMARY:Kids Day at PNC Park
DESCRIPTION:Sundays are Kids Days! Every Sunday home game is a Kids Day. \nJoin in the fun and games at the #1 Cochran Family Fun Zone on Federal Street from 11am-1pm\, get a kid-friendly Pirates item at the gates (most Sundays) for kids ages 14 & younger with paid admission to the game\, and then stick around after the game when all kids are invited to “Run The Bases” right down on the field (weather permitting).
URL:https://playpittsburgh.com/event/kids-day-at-pnc-park-8/2014-09-14/
LOCATION:PNC Park\, 115 Federal St\, Pittsburgh\, PA\, 15212\, United States
CATEGORIES:Outdoor,Sports Venue
GEO:40.4480946;-80.0042488
X-APPLE-STRUCTURED-LOCATION;VALUE=URI;X-ADDRESS=PNC Park 115 Federal St Pittsburgh PA 15212 United States;X-APPLE-RADIUS=500;X-TITLE=115 Federal St:geo:-80.0042488,40.4480946
END:VEVENT
END:VCALENDAR