BEGIN:VCALENDAR
VERSION:2.0
PRODID:-//Play Pittsburgh - ECPv6.15.20//NONSGML v1.0//EN
CALSCALE:GREGORIAN
METHOD:PUBLISH
X-WR-CALNAME:Play Pittsburgh
X-ORIGINAL-URL:https://playpittsburgh.com
X-WR-CALDESC:Events for Play Pittsburgh
REFRESH-INTERVAL;VALUE=DURATION:PT1H
X-Robots-Tag:noindex
X-PUBLISHED-TTL:PT1H
BEGIN:VTIMEZONE
TZID:America/New_York
BEGIN:DAYLIGHT
TZOFFSETFROM:-0500
TZOFFSETTO:-0400
TZNAME:EDT
DTSTART:20140309T070000
END:DAYLIGHT
BEGIN:STANDARD
TZOFFSETFROM:-0400
TZOFFSETTO:-0500
TZNAME:EST
DTSTART:20141102T060000
END:STANDARD
BEGIN:DAYLIGHT
TZOFFSETFROM:-0500
TZOFFSETTO:-0400
TZNAME:EDT
DTSTART:20150308T070000
END:DAYLIGHT
BEGIN:STANDARD
TZOFFSETFROM:-0400
TZOFFSETTO:-0500
TZNAME:EST
DTSTART:20151101T060000
END:STANDARD
BEGIN:DAYLIGHT
TZOFFSETFROM:-0500
TZOFFSETTO:-0400
TZNAME:EDT
DTSTART:20160313T070000
END:DAYLIGHT
BEGIN:STANDARD
TZOFFSETFROM:-0400
TZOFFSETTO:-0500
TZNAME:EST
DTSTART:20161106T060000
END:STANDARD
END:VTIMEZONE
BEGIN:VEVENT
DTSTART;VALUE=DATE:20150515
DTEND;VALUE=DATE:20150516
DTSTAMP:20260424T080222
CREATED:20150515T164541Z
LAST-MODIFIED:20150515T164541Z
UID:6966-1431648000-1431734399@playpittsburgh.com
SUMMARY:Just Between Friends Consignment Sale
DESCRIPTION:Shop this huge semi-annual consignment sale for great deals on a variety of baby accessories\, clothes\, baby gear\, toys\, educational material\, and more. \nFriday\, May 15th\n9am-9pm: Sale Opens to the Public!\n$3 admission per person \nSaturday\, May 16th\n8am-5pm: Public Sale & NEW Merchandise!\nAdmission is FREE! \nSunday\, May 17th\n8am-5pm: 50% OFF PublicSale!\nAll Items WITHOUT a STAR on the tag are 50% off and admission is FREE!
URL:https://playpittsburgh.com/event/just-bewtween-friends-consignment-sale/2015-05-15/
LOCATION:PA\, United States
END:VEVENT
END:VCALENDAR