BEGIN:VCALENDAR
VERSION:2.0
PRODID:-//Play Pittsburgh - ECPv6.15.20//NONSGML v1.0//EN
CALSCALE:GREGORIAN
METHOD:PUBLISH
X-WR-CALNAME:Play Pittsburgh
X-ORIGINAL-URL:https://playpittsburgh.com
X-WR-CALDESC:Events for Play Pittsburgh
REFRESH-INTERVAL;VALUE=DURATION:PT1H
X-Robots-Tag:noindex
X-PUBLISHED-TTL:PT1H
BEGIN:VTIMEZONE
TZID:America/New_York
BEGIN:DAYLIGHT
TZOFFSETFROM:-0500
TZOFFSETTO:-0400
TZNAME:EDT
DTSTART:20140309T070000
END:DAYLIGHT
BEGIN:STANDARD
TZOFFSETFROM:-0400
TZOFFSETTO:-0500
TZNAME:EST
DTSTART:20141102T060000
END:STANDARD
BEGIN:DAYLIGHT
TZOFFSETFROM:-0500
TZOFFSETTO:-0400
TZNAME:EDT
DTSTART:20150308T070000
END:DAYLIGHT
BEGIN:STANDARD
TZOFFSETFROM:-0400
TZOFFSETTO:-0500
TZNAME:EST
DTSTART:20151101T060000
END:STANDARD
BEGIN:DAYLIGHT
TZOFFSETFROM:-0500
TZOFFSETTO:-0400
TZNAME:EDT
DTSTART:20160313T070000
END:DAYLIGHT
BEGIN:STANDARD
TZOFFSETFROM:-0400
TZOFFSETTO:-0500
TZNAME:EST
DTSTART:20161106T060000
END:STANDARD
END:VTIMEZONE
BEGIN:VEVENT
DTSTART;VALUE=DATE:20150411
DTEND;VALUE=DATE:20150412
DTSTAMP:20260422T045458
CREATED:20150324T180730Z
LAST-MODIFIED:20150324T180730Z
UID:8234-1428710400-1428796799@playpittsburgh.com
SUMMARY:Jesus Christ Superstar
DESCRIPTION:Comtra Cultural Center proudly presents live theater performance of Jesus Christ Super Star. \n“It seems especially fitting that the first rock opera\, created as a concept album at the end of the turbulent ’60s\, should have at its center a social and political rebel. Jesus’ meteor-like rise in renown provides\, as the title suggests\, a parallel to contemporary celebrity worship. As his radical teachings are evermore embraced\, Judas increasingly questions the enlightened motives of this new prophet\, resulting in betrayal. Christ’s final days are dramatized with emotional intensity\, thought-provoking edge and explosive theatricality. Propelled by a stirring score\, by turns driving and majestic\, satirical and tender\, JESUS CHRIST SUPERSTAR illuminates the transcendent power of the human spirit with a passion that goes straight to the heart.” – Synopsis courtesy of R&H Theatricals \nPerformance Dates: \n\nMarch 27th\nMarch 28th\nApril 3rd\nApril 4th\nApril 10th\nApril 11th
URL:https://playpittsburgh.com/event/jesus-christ-superstar-2/2015-04-11/
LOCATION:Comtra Cultural Center\, 20540 Route 19\, Cranberry Township\, PA\, 16066\, United States
CATEGORIES:Performing Arts
GEO:40.7011675;-80.1041236
X-APPLE-STRUCTURED-LOCATION;VALUE=URI;X-ADDRESS=Comtra Cultural Center 20540 Route 19 Cranberry Township PA 16066 United States;X-APPLE-RADIUS=500;X-TITLE=20540 Route 19:geo:-80.1041236,40.7011675
END:VEVENT
BEGIN:VEVENT
DTSTART;VALUE=DATE:20150404
DTEND;VALUE=DATE:20150405
DTSTAMP:20260422T045458
CREATED:20150324T180730Z
LAST-MODIFIED:20150324T180730Z
UID:8233-1428105600-1428191999@playpittsburgh.com
SUMMARY:Jesus Christ Superstar
DESCRIPTION:Comtra Cultural Center proudly presents live theater performance of Jesus Christ Super Star. \n“It seems especially fitting that the first rock opera\, created as a concept album at the end of the turbulent ’60s\, should have at its center a social and political rebel. Jesus’ meteor-like rise in renown provides\, as the title suggests\, a parallel to contemporary celebrity worship. As his radical teachings are evermore embraced\, Judas increasingly questions the enlightened motives of this new prophet\, resulting in betrayal. Christ’s final days are dramatized with emotional intensity\, thought-provoking edge and explosive theatricality. Propelled by a stirring score\, by turns driving and majestic\, satirical and tender\, JESUS CHRIST SUPERSTAR illuminates the transcendent power of the human spirit with a passion that goes straight to the heart.” – Synopsis courtesy of R&H Theatricals \nPerformance Dates: \n\nMarch 27th\nMarch 28th\nApril 3rd\nApril 4th\nApril 10th\nApril 11th
URL:https://playpittsburgh.com/event/jesus-christ-superstar-2/2015-04-04/
LOCATION:Comtra Cultural Center\, 20540 Route 19\, Cranberry Township\, PA\, 16066\, United States
CATEGORIES:Performing Arts
GEO:40.7011675;-80.1041236
X-APPLE-STRUCTURED-LOCATION;VALUE=URI;X-ADDRESS=Comtra Cultural Center 20540 Route 19 Cranberry Township PA 16066 United States;X-APPLE-RADIUS=500;X-TITLE=20540 Route 19:geo:-80.1041236,40.7011675
END:VEVENT
BEGIN:VEVENT
DTSTART;VALUE=DATE:20150328
DTEND;VALUE=DATE:20150329
DTSTAMP:20260422T045458
CREATED:20150324T180730Z
LAST-MODIFIED:20150324T180730Z
UID:5477-1427500800-1427587199@playpittsburgh.com
SUMMARY:Jesus Christ Superstar
DESCRIPTION:Comtra Cultural Center proudly presents live theater performance of Jesus Christ Super Star. \n“It seems especially fitting that the first rock opera\, created as a concept album at the end of the turbulent ’60s\, should have at its center a social and political rebel. Jesus’ meteor-like rise in renown provides\, as the title suggests\, a parallel to contemporary celebrity worship. As his radical teachings are evermore embraced\, Judas increasingly questions the enlightened motives of this new prophet\, resulting in betrayal. Christ’s final days are dramatized with emotional intensity\, thought-provoking edge and explosive theatricality. Propelled by a stirring score\, by turns driving and majestic\, satirical and tender\, JESUS CHRIST SUPERSTAR illuminates the transcendent power of the human spirit with a passion that goes straight to the heart.” – Synopsis courtesy of R&H Theatricals \nPerformance Dates: \n\nMarch 27th\nMarch 28th\nApril 3rd\nApril 4th\nApril 10th\nApril 11th
URL:https://playpittsburgh.com/event/jesus-christ-superstar-2/2015-03-28/
LOCATION:Comtra Cultural Center\, 20540 Route 19\, Cranberry Township\, PA\, 16066\, United States
CATEGORIES:Performing Arts
GEO:40.7011675;-80.1041236
X-APPLE-STRUCTURED-LOCATION;VALUE=URI;X-ADDRESS=Comtra Cultural Center 20540 Route 19 Cranberry Township PA 16066 United States;X-APPLE-RADIUS=500;X-TITLE=20540 Route 19:geo:-80.1041236,40.7011675
END:VEVENT
END:VCALENDAR