BEGIN:VCALENDAR
VERSION:2.0
PRODID:-//Play Pittsburgh - ECPv6.15.20//NONSGML v1.0//EN
CALSCALE:GREGORIAN
METHOD:PUBLISH
X-ORIGINAL-URL:https://playpittsburgh.com
X-WR-CALDESC:Events for Play Pittsburgh
REFRESH-INTERVAL;VALUE=DURATION:PT1H
X-Robots-Tag:noindex
X-PUBLISHED-TTL:PT1H
BEGIN:VTIMEZONE
TZID:America/New_York
BEGIN:DAYLIGHT
TZOFFSETFROM:-0500
TZOFFSETTO:-0400
TZNAME:EDT
DTSTART:20130310T070000
END:DAYLIGHT
BEGIN:STANDARD
TZOFFSETFROM:-0400
TZOFFSETTO:-0500
TZNAME:EST
DTSTART:20131103T060000
END:STANDARD
BEGIN:DAYLIGHT
TZOFFSETFROM:-0500
TZOFFSETTO:-0400
TZNAME:EDT
DTSTART:20140309T070000
END:DAYLIGHT
BEGIN:STANDARD
TZOFFSETFROM:-0400
TZOFFSETTO:-0500
TZNAME:EST
DTSTART:20141102T060000
END:STANDARD
BEGIN:DAYLIGHT
TZOFFSETFROM:-0500
TZOFFSETTO:-0400
TZNAME:EDT
DTSTART:20150308T070000
END:DAYLIGHT
BEGIN:STANDARD
TZOFFSETFROM:-0400
TZOFFSETTO:-0500
TZNAME:EST
DTSTART:20151101T060000
END:STANDARD
END:VTIMEZONE
BEGIN:VEVENT
DTSTART;TZID=America/New_York:20140920T100000
DTEND;TZID=America/New_York:20140920T200000
DTSTAMP:20260422T013810
CREATED:20140901T211902Z
LAST-MODIFIED:20140901T211902Z
UID:6687-1411207200-1411243200@playpittsburgh.com
SUMMARY:Iron Mill's Farmstead Fall Festival
DESCRIPTION:Irons Mill Farmstead offers fields of farm fresh fun for the whole family! Start with a Hayride around the farm and save some energy for Pumpkin Slingshots and the new ring game! \nJumpin’ Jackdaws!\nKids’ eyes will light up with excitement at the first look at this enormous pillow made for jumping on! Kids and adults will never forget this jumping experience — it will become a new fall tradition! \nSuper Slide!\nA sliding experience like no other! You will never forget the fun you have racing down this slide! Your kids won’t believe their eyes when they see this 30′ giant and once they slide down once\, they may never want to leave! \nRubber Duck Races!\nChildren and adults alike will have a ball at the Duck Races! They are one of the most popular attractions at Iron’s Mill Farmstead! Happy [water] pumping! \nFarm Hayrides!\nTake a relaxing hayride around the farm\, just good ole’ fashioned fun. \nCorncob Beach!\nWhat could be more fun than a giant box of corn to play in! Kids of all ages will have a blast rolling and playing in this corny box of fun! It is sure to be one of the main attractions at Iron’s Mill Farmstead. Benches are handy for parents to watch the kids laugh with delight. \nCackleberry Bounce!\nSimply fun! Children of all ages can hop and bounce on giant balls of different sizes. You will hear them giggle and laugh as they hop-hop-hop around the corral! \nPumpkin Slingshots!\nTest your skills at the pumpkin slingshots! Targets of all sorts will be waiting for you to fling pumpkins at them! \nClimb Mount Arthur!\nWhat kid doesn’t love to climb? Climbing Mt. Arthur isn’t just climbing any old mountain\, it’s a mountain of none other than: tractor tires!!! Now\, that’s good old-fashioned farm fun! And now\, spend even more time here with our added sand pit area stocked with toys\, buckets\, and shovels! \nPony Express!\nPonies! Saddle up and enjoy an unforgettable\, fall pony ride! \nPumpkin Arts!\nLet’s your inner artist shine with Pumpkin Painting! We have a pumpkin painting tent stocked up with all the supplies you need to create a pumpkin masterpiece! We even have smocks for the little guys so no worries moms\, we thought of it all! Purchase the pumpkin first and then away you go! \nThe Farm Barnstead\nMeet fluffy sheep\, cantankerous pigs\, designer chickens\, Highlander calves and barnyard babies galore. \nGrandma Kettle’s Kitchen\nStep right up and see what’s new! From Walking Tacos to our heaping nacho supreme\, you’ll find some comfort food that will satsify even the biggest cravings! Our homemade mac-n-cheese is the best around and of course count on us for all hot and cold drinks and staple snacks you have come to love! \nMarmee’s Sweet Shoppe\nIt’s the home of our famous sweet\, salty\, crunchy Kettle Corn made right here on the farm daily … a perfect fall treat!\nCaramel Apples\, Cotton Candy\, and if you’re lucky….maybe even a fresh\, Amish doughnut! You never know what Marmee may be cooking up\, so stop over for a peek and a sniff!
URL:https://playpittsburgh.com/event/iron-mills-farmstead-fall-festival-4/2014-09-20/
LOCATION:Iron Mills Farmstead\, 252 Greenfield Road\, New Wilmington\, PA\, 16142\, United States
CATEGORIES:Festivals,Outdoor
GEO:41.1757044;-80.3653303
X-APPLE-STRUCTURED-LOCATION;VALUE=URI;X-ADDRESS=Iron Mills Farmstead 252 Greenfield Road New Wilmington PA 16142 United States;X-APPLE-RADIUS=500;X-TITLE=252 Greenfield Road:geo:-80.3653303,41.1757044
END:VEVENT
END:VCALENDAR