BEGIN:VCALENDAR
VERSION:2.0
PRODID:-//Play Pittsburgh - ECPv6.15.20//NONSGML v1.0//EN
CALSCALE:GREGORIAN
METHOD:PUBLISH
X-WR-CALNAME:Play Pittsburgh
X-ORIGINAL-URL:https://playpittsburgh.com
X-WR-CALDESC:Events for Play Pittsburgh
REFRESH-INTERVAL;VALUE=DURATION:PT1H
X-Robots-Tag:noindex
X-PUBLISHED-TTL:PT1H
BEGIN:VTIMEZONE
TZID:America/New_York
BEGIN:DAYLIGHT
TZOFFSETFROM:-0500
TZOFFSETTO:-0400
TZNAME:EDT
DTSTART:20140309T070000
END:DAYLIGHT
BEGIN:STANDARD
TZOFFSETFROM:-0400
TZOFFSETTO:-0500
TZNAME:EST
DTSTART:20141102T060000
END:STANDARD
BEGIN:DAYLIGHT
TZOFFSETFROM:-0500
TZOFFSETTO:-0400
TZNAME:EDT
DTSTART:20150308T070000
END:DAYLIGHT
BEGIN:STANDARD
TZOFFSETFROM:-0400
TZOFFSETTO:-0500
TZNAME:EST
DTSTART:20151101T060000
END:STANDARD
BEGIN:DAYLIGHT
TZOFFSETFROM:-0500
TZOFFSETTO:-0400
TZNAME:EDT
DTSTART:20160313T070000
END:DAYLIGHT
BEGIN:STANDARD
TZOFFSETFROM:-0400
TZOFFSETTO:-0500
TZNAME:EST
DTSTART:20161106T060000
END:STANDARD
END:VTIMEZONE
BEGIN:VEVENT
DTSTART;TZID=America/New_York:20150403T120000
DTEND;TZID=America/New_York:20150403T130000
DTSTAMP:20260424T063206
CREATED:20150326T193730Z
LAST-MODIFIED:20150326T193730Z
UID:5862-1428062400-1428066000@playpittsburgh.com
SUMMARY:Heinz Field Tours
DESCRIPTION:Get a behind the scenes look  at Heinz Field! For walk-up tours you do not need to make a reservation in advance. The walk-up tour is designed for groups of less than 10 people. \nTours start at NOON. Groups meet under the FedEx Great Hall sign (to the left of the flat screen TV) on Art Rooney Avenue 15 minutes prior to the tour start time. It is cash payment upon your arrival
URL:https://playpittsburgh.com/event/heinz-field-tours/2015-04-03/
LOCATION:Heinz Field\, 100 Art Rooney Ave\, Pittsburgh\, PA\, 15212\, United States
GEO:40.4460204;-80.0153356
X-APPLE-STRUCTURED-LOCATION;VALUE=URI;X-ADDRESS=Heinz Field 100 Art Rooney Ave Pittsburgh PA 15212 United States;X-APPLE-RADIUS=500;X-TITLE=100 Art Rooney Ave:geo:-80.0153356,40.4460204
END:VEVENT
END:VCALENDAR