BEGIN:VCALENDAR
VERSION:2.0
PRODID:-//Play Pittsburgh - ECPv6.15.20//NONSGML v1.0//EN
CALSCALE:GREGORIAN
METHOD:PUBLISH
X-ORIGINAL-URL:https://playpittsburgh.com
X-WR-CALDESC:Events for Play Pittsburgh
REFRESH-INTERVAL;VALUE=DURATION:PT1H
X-Robots-Tag:noindex
X-PUBLISHED-TTL:PT1H
BEGIN:VTIMEZONE
TZID:America/New_York
BEGIN:DAYLIGHT
TZOFFSETFROM:-0500
TZOFFSETTO:-0400
TZNAME:EDT
DTSTART:20130310T070000
END:DAYLIGHT
BEGIN:STANDARD
TZOFFSETFROM:-0400
TZOFFSETTO:-0500
TZNAME:EST
DTSTART:20131103T060000
END:STANDARD
BEGIN:DAYLIGHT
TZOFFSETFROM:-0500
TZOFFSETTO:-0400
TZNAME:EDT
DTSTART:20140309T070000
END:DAYLIGHT
BEGIN:STANDARD
TZOFFSETFROM:-0400
TZOFFSETTO:-0500
TZNAME:EST
DTSTART:20141102T060000
END:STANDARD
BEGIN:DAYLIGHT
TZOFFSETFROM:-0500
TZOFFSETTO:-0400
TZNAME:EDT
DTSTART:20150308T070000
END:DAYLIGHT
BEGIN:STANDARD
TZOFFSETFROM:-0400
TZOFFSETTO:-0500
TZNAME:EST
DTSTART:20151101T060000
END:STANDARD
END:VTIMEZONE
BEGIN:VEVENT
DTSTART;TZID=America/New_York:20140712T100000
DTEND;TZID=America/New_York:20140712T160000
DTSTAMP:20260422T071133
CREATED:20140710T001713Z
LAST-MODIFIED:20140710T001713Z
UID:2512-1405159200-1405180800@playpittsburgh.com
SUMMARY:Greenberg's Train & Toy Show
DESCRIPTION:America’s best train and toy show since 1976! Thousands of trains for sale\, huge model train layouts\, and more! The show offers free workshops on a variety of topics as well as demonstrations. PLUS\, there’s a train that kids can ride! Kids and adults will love a variety of huge operating train layouts that are on display. With tickets\, admission to the show is good for both days\, plus any child who comes to the show is admitted FREE! \n  \n 
URL:https://playpittsburgh.com/event/greenbergs-train-toy-show/2014-07-12/
LOCATION:Monroeville Convention Center\, 209 Mall Boulevard\, Monroeville \, PA\, 15146\, United States
CATEGORIES:Free,Indoor Play
GEO:40.4326326;-79.790801
X-APPLE-STRUCTURED-LOCATION;VALUE=URI;X-ADDRESS=Monroeville Convention Center 209 Mall Boulevard Monroeville  PA 15146 United States;X-APPLE-RADIUS=500;X-TITLE=209 Mall Boulevard:geo:-79.790801,40.4326326
END:VEVENT
END:VCALENDAR