BEGIN:VCALENDAR
VERSION:2.0
PRODID:-//Play Pittsburgh - ECPv6.15.20//NONSGML v1.0//EN
CALSCALE:GREGORIAN
METHOD:PUBLISH
X-WR-CALNAME:Play Pittsburgh
X-ORIGINAL-URL:https://playpittsburgh.com
X-WR-CALDESC:Events for Play Pittsburgh
REFRESH-INTERVAL;VALUE=DURATION:PT1H
X-Robots-Tag:noindex
X-PUBLISHED-TTL:PT1H
BEGIN:VTIMEZONE
TZID:America/New_York
BEGIN:DAYLIGHT
TZOFFSETFROM:-0500
TZOFFSETTO:-0400
TZNAME:EDT
DTSTART:20130310T070000
END:DAYLIGHT
BEGIN:STANDARD
TZOFFSETFROM:-0400
TZOFFSETTO:-0500
TZNAME:EST
DTSTART:20131103T060000
END:STANDARD
BEGIN:DAYLIGHT
TZOFFSETFROM:-0500
TZOFFSETTO:-0400
TZNAME:EDT
DTSTART:20140309T070000
END:DAYLIGHT
BEGIN:STANDARD
TZOFFSETFROM:-0400
TZOFFSETTO:-0500
TZNAME:EST
DTSTART:20141102T060000
END:STANDARD
BEGIN:DAYLIGHT
TZOFFSETFROM:-0500
TZOFFSETTO:-0400
TZNAME:EDT
DTSTART:20150308T070000
END:DAYLIGHT
BEGIN:STANDARD
TZOFFSETFROM:-0400
TZOFFSETTO:-0500
TZNAME:EST
DTSTART:20151101T060000
END:STANDARD
END:VTIMEZONE
BEGIN:VEVENT
DTSTART;VALUE=DATE:20141228
DTEND;VALUE=DATE:20141229
DTSTAMP:20260422T083803
CREATED:20141203T053638Z
LAST-MODIFIED:20141203T053638Z
UID:8144-1419724800-1419811199@playpittsburgh.com
SUMMARY:Gemini Children’s Theater presents The Gift of the Ice Queen
DESCRIPTION:Join Gemini Children’s Theater for an original holiday adventure in interactive\, musical theater production. \nPlease remember that first row bench seating is reserved for children 8 and under and all children must be accompanied by an adult. Enjoy the show!
URL:https://playpittsburgh.com/event/gemini-childrens-theater-presents-the-gift-of-the-ice-queen-2/2014-12-28/
LOCATION:Gemini Children’s Theater\, 7501 Penn Ave\, Pittsburgh \, PA\, 15208\, United States
GEO:40.447942;-79.895957
X-APPLE-STRUCTURED-LOCATION;VALUE=URI;X-ADDRESS=Gemini Children’s Theater 7501 Penn Ave Pittsburgh  PA 15208 United States;X-APPLE-RADIUS=500;X-TITLE=7501 Penn Ave:geo:-79.895957,40.447942
END:VEVENT
BEGIN:VEVENT
DTSTART;VALUE=DATE:20141221
DTEND;VALUE=DATE:20141222
DTSTAMP:20260422T083803
CREATED:20141203T053638Z
LAST-MODIFIED:20141203T053638Z
UID:8143-1419120000-1419206399@playpittsburgh.com
SUMMARY:Gemini Children’s Theater presents The Gift of the Ice Queen
DESCRIPTION:Join Gemini Children’s Theater for an original holiday adventure in interactive\, musical theater production. \nPlease remember that first row bench seating is reserved for children 8 and under and all children must be accompanied by an adult. Enjoy the show!
URL:https://playpittsburgh.com/event/gemini-childrens-theater-presents-the-gift-of-the-ice-queen-2/2014-12-21/
LOCATION:Gemini Children’s Theater\, 7501 Penn Ave\, Pittsburgh \, PA\, 15208\, United States
GEO:40.447942;-79.895957
X-APPLE-STRUCTURED-LOCATION;VALUE=URI;X-ADDRESS=Gemini Children’s Theater 7501 Penn Ave Pittsburgh  PA 15208 United States;X-APPLE-RADIUS=500;X-TITLE=7501 Penn Ave:geo:-79.895957,40.447942
END:VEVENT
BEGIN:VEVENT
DTSTART;VALUE=DATE:20141214
DTEND;VALUE=DATE:20141215
DTSTAMP:20260422T083803
CREATED:20141203T053638Z
LAST-MODIFIED:20141203T053638Z
UID:8142-1418515200-1418601599@playpittsburgh.com
SUMMARY:Gemini Children’s Theater presents The Gift of the Ice Queen
DESCRIPTION:Join Gemini Children’s Theater for an original holiday adventure in interactive\, musical theater production. \nPlease remember that first row bench seating is reserved for children 8 and under and all children must be accompanied by an adult. Enjoy the show!
URL:https://playpittsburgh.com/event/gemini-childrens-theater-presents-the-gift-of-the-ice-queen-2/2014-12-14/
LOCATION:Gemini Children’s Theater\, 7501 Penn Ave\, Pittsburgh \, PA\, 15208\, United States
GEO:40.447942;-79.895957
X-APPLE-STRUCTURED-LOCATION;VALUE=URI;X-ADDRESS=Gemini Children’s Theater 7501 Penn Ave Pittsburgh  PA 15208 United States;X-APPLE-RADIUS=500;X-TITLE=7501 Penn Ave:geo:-79.895957,40.447942
END:VEVENT
BEGIN:VEVENT
DTSTART;VALUE=DATE:20141207
DTEND;VALUE=DATE:20141208
DTSTAMP:20260422T083803
CREATED:20141203T053638Z
LAST-MODIFIED:20141203T053638Z
UID:5019-1417910400-1417996799@playpittsburgh.com
SUMMARY:Gemini Children’s Theater presents The Gift of the Ice Queen
DESCRIPTION:Join Gemini Children’s Theater for an original holiday adventure in interactive\, musical theater production. \nPlease remember that first row bench seating is reserved for children 8 and under and all children must be accompanied by an adult. Enjoy the show!
URL:https://playpittsburgh.com/event/gemini-childrens-theater-presents-the-gift-of-the-ice-queen-2/2014-12-07/
LOCATION:Gemini Children’s Theater\, 7501 Penn Ave\, Pittsburgh \, PA\, 15208\, United States
GEO:40.447942;-79.895957
X-APPLE-STRUCTURED-LOCATION;VALUE=URI;X-ADDRESS=Gemini Children’s Theater 7501 Penn Ave Pittsburgh  PA 15208 United States;X-APPLE-RADIUS=500;X-TITLE=7501 Penn Ave:geo:-79.895957,40.447942
END:VEVENT
END:VCALENDAR