BEGIN:VCALENDAR
VERSION:2.0
PRODID:-//Play Pittsburgh - ECPv6.15.20//NONSGML v1.0//EN
CALSCALE:GREGORIAN
METHOD:PUBLISH
X-WR-CALNAME:Play Pittsburgh
X-ORIGINAL-URL:https://playpittsburgh.com
X-WR-CALDESC:Events for Play Pittsburgh
REFRESH-INTERVAL;VALUE=DURATION:PT1H
X-Robots-Tag:noindex
X-PUBLISHED-TTL:PT1H
BEGIN:VTIMEZONE
TZID:America/New_York
BEGIN:DAYLIGHT
TZOFFSETFROM:-0500
TZOFFSETTO:-0400
TZNAME:EDT
DTSTART:20140309T070000
END:DAYLIGHT
BEGIN:STANDARD
TZOFFSETFROM:-0400
TZOFFSETTO:-0500
TZNAME:EST
DTSTART:20141102T060000
END:STANDARD
BEGIN:DAYLIGHT
TZOFFSETFROM:-0500
TZOFFSETTO:-0400
TZNAME:EDT
DTSTART:20150308T070000
END:DAYLIGHT
BEGIN:STANDARD
TZOFFSETFROM:-0400
TZOFFSETTO:-0500
TZNAME:EST
DTSTART:20151101T060000
END:STANDARD
BEGIN:DAYLIGHT
TZOFFSETFROM:-0500
TZOFFSETTO:-0400
TZNAME:EDT
DTSTART:20160313T070000
END:DAYLIGHT
BEGIN:STANDARD
TZOFFSETFROM:-0400
TZOFFSETTO:-0500
TZNAME:EST
DTSTART:20161106T060000
END:STANDARD
END:VTIMEZONE
BEGIN:VEVENT
DTSTART;TZID=America/New_York:20150904T193000
DTEND;TZID=America/New_York:20150904T220000
DTSTAMP:20260422T071311
CREATED:20150529T193257Z
LAST-MODIFIED:20150529T193257Z
UID:8650-1441395000-1441404000@playpittsburgh.com
SUMMARY:Free Summer Concert Series at South Park Amphitheater
DESCRIPTION:Every Friday at 7:30\, Through September 4th. Here’s the line up for the 2015 Allegheny County concert series at South Park Amphitheater. FREE admission\, all ages welcome! \nJune 5 Donna Groom of The Skyliners 7:30 p.m.\nJune 12 Field Report with Andre Costello & The Cool Minors 7:30 p.m.\nJune 19 Stella James with Sydney Hutchko 7:30 p.m.\nJune 26 Eve 6 7:30 p.m.\nJuly 3 Pittsburgh Symphony Orchestra 8 p.m.\nJuly 10 Blue Oyster Cult 7:30 p.m.\nJuly 17 Chris Smither with Rusty Belle Blues 7:30 p.m.\nJuly 24 Joe Lagnese Swingtet 8 with Johnny Angel & Debbie Zugates 7:30 p.m.\nJuly 31 Red Baraat with Rachel B 7:30 p.m.\nAug. 7 Paul Luc and The Commonheart 7:30 p.m.\nAug. 14 Southside Johnny & The Asbury Jukes with Joe Grushecky 7:30 p.m.\nAug. 21 BNY Mellon Jazz presents Dirty Dozen Brass Band 7:30 p.m.\nAug. 28 Duquesne University Tamburitzans 7:30 p.m.\nSept. 4 Dancing Queen 7:30 p.m.
URL:https://playpittsburgh.com/event/free-summer-concert-series-at-south-park-amphitheater/2015-09-04/
LOCATION:South Park Amphitheater\, Buffalo Drive\, Library \, PA\, 15219\, United States
GEO:40.3053675;-79.9958723
X-APPLE-STRUCTURED-LOCATION;VALUE=URI;X-ADDRESS=South Park Amphitheater Buffalo Drive Library  PA 15219 United States;X-APPLE-RADIUS=500;X-TITLE=Buffalo Drive:geo:-79.9958723,40.3053675
END:VEVENT
BEGIN:VEVENT
DTSTART;TZID=America/New_York:20150828T193000
DTEND;TZID=America/New_York:20150828T220000
DTSTAMP:20260422T071311
CREATED:20150529T193257Z
LAST-MODIFIED:20150529T193257Z
UID:8649-1440790200-1440799200@playpittsburgh.com
SUMMARY:Free Summer Concert Series at South Park Amphitheater
DESCRIPTION:Every Friday at 7:30\, Through September 4th. Here’s the line up for the 2015 Allegheny County concert series at South Park Amphitheater. FREE admission\, all ages welcome! \nJune 5 Donna Groom of The Skyliners 7:30 p.m.\nJune 12 Field Report with Andre Costello & The Cool Minors 7:30 p.m.\nJune 19 Stella James with Sydney Hutchko 7:30 p.m.\nJune 26 Eve 6 7:30 p.m.\nJuly 3 Pittsburgh Symphony Orchestra 8 p.m.\nJuly 10 Blue Oyster Cult 7:30 p.m.\nJuly 17 Chris Smither with Rusty Belle Blues 7:30 p.m.\nJuly 24 Joe Lagnese Swingtet 8 with Johnny Angel & Debbie Zugates 7:30 p.m.\nJuly 31 Red Baraat with Rachel B 7:30 p.m.\nAug. 7 Paul Luc and The Commonheart 7:30 p.m.\nAug. 14 Southside Johnny & The Asbury Jukes with Joe Grushecky 7:30 p.m.\nAug. 21 BNY Mellon Jazz presents Dirty Dozen Brass Band 7:30 p.m.\nAug. 28 Duquesne University Tamburitzans 7:30 p.m.\nSept. 4 Dancing Queen 7:30 p.m.
URL:https://playpittsburgh.com/event/free-summer-concert-series-at-south-park-amphitheater/2015-08-28/
LOCATION:South Park Amphitheater\, Buffalo Drive\, Library \, PA\, 15219\, United States
GEO:40.3053675;-79.9958723
X-APPLE-STRUCTURED-LOCATION;VALUE=URI;X-ADDRESS=South Park Amphitheater Buffalo Drive Library  PA 15219 United States;X-APPLE-RADIUS=500;X-TITLE=Buffalo Drive:geo:-79.9958723,40.3053675
END:VEVENT
BEGIN:VEVENT
DTSTART;TZID=America/New_York:20150821T193000
DTEND;TZID=America/New_York:20150821T220000
DTSTAMP:20260422T071311
CREATED:20150529T193257Z
LAST-MODIFIED:20150529T193257Z
UID:8648-1440185400-1440194400@playpittsburgh.com
SUMMARY:Free Summer Concert Series at South Park Amphitheater
DESCRIPTION:Every Friday at 7:30\, Through September 4th. Here’s the line up for the 2015 Allegheny County concert series at South Park Amphitheater. FREE admission\, all ages welcome! \nJune 5 Donna Groom of The Skyliners 7:30 p.m.\nJune 12 Field Report with Andre Costello & The Cool Minors 7:30 p.m.\nJune 19 Stella James with Sydney Hutchko 7:30 p.m.\nJune 26 Eve 6 7:30 p.m.\nJuly 3 Pittsburgh Symphony Orchestra 8 p.m.\nJuly 10 Blue Oyster Cult 7:30 p.m.\nJuly 17 Chris Smither with Rusty Belle Blues 7:30 p.m.\nJuly 24 Joe Lagnese Swingtet 8 with Johnny Angel & Debbie Zugates 7:30 p.m.\nJuly 31 Red Baraat with Rachel B 7:30 p.m.\nAug. 7 Paul Luc and The Commonheart 7:30 p.m.\nAug. 14 Southside Johnny & The Asbury Jukes with Joe Grushecky 7:30 p.m.\nAug. 21 BNY Mellon Jazz presents Dirty Dozen Brass Band 7:30 p.m.\nAug. 28 Duquesne University Tamburitzans 7:30 p.m.\nSept. 4 Dancing Queen 7:30 p.m.
URL:https://playpittsburgh.com/event/free-summer-concert-series-at-south-park-amphitheater/2015-08-21/
LOCATION:South Park Amphitheater\, Buffalo Drive\, Library \, PA\, 15219\, United States
GEO:40.3053675;-79.9958723
X-APPLE-STRUCTURED-LOCATION;VALUE=URI;X-ADDRESS=South Park Amphitheater Buffalo Drive Library  PA 15219 United States;X-APPLE-RADIUS=500;X-TITLE=Buffalo Drive:geo:-79.9958723,40.3053675
END:VEVENT
BEGIN:VEVENT
DTSTART;TZID=America/New_York:20150814T193000
DTEND;TZID=America/New_York:20150814T220000
DTSTAMP:20260422T071311
CREATED:20150529T193257Z
LAST-MODIFIED:20150529T193257Z
UID:8647-1439580600-1439589600@playpittsburgh.com
SUMMARY:Free Summer Concert Series at South Park Amphitheater
DESCRIPTION:Every Friday at 7:30\, Through September 4th. Here’s the line up for the 2015 Allegheny County concert series at South Park Amphitheater. FREE admission\, all ages welcome! \nJune 5 Donna Groom of The Skyliners 7:30 p.m.\nJune 12 Field Report with Andre Costello & The Cool Minors 7:30 p.m.\nJune 19 Stella James with Sydney Hutchko 7:30 p.m.\nJune 26 Eve 6 7:30 p.m.\nJuly 3 Pittsburgh Symphony Orchestra 8 p.m.\nJuly 10 Blue Oyster Cult 7:30 p.m.\nJuly 17 Chris Smither with Rusty Belle Blues 7:30 p.m.\nJuly 24 Joe Lagnese Swingtet 8 with Johnny Angel & Debbie Zugates 7:30 p.m.\nJuly 31 Red Baraat with Rachel B 7:30 p.m.\nAug. 7 Paul Luc and The Commonheart 7:30 p.m.\nAug. 14 Southside Johnny & The Asbury Jukes with Joe Grushecky 7:30 p.m.\nAug. 21 BNY Mellon Jazz presents Dirty Dozen Brass Band 7:30 p.m.\nAug. 28 Duquesne University Tamburitzans 7:30 p.m.\nSept. 4 Dancing Queen 7:30 p.m.
URL:https://playpittsburgh.com/event/free-summer-concert-series-at-south-park-amphitheater/2015-08-14/
LOCATION:South Park Amphitheater\, Buffalo Drive\, Library \, PA\, 15219\, United States
GEO:40.3053675;-79.9958723
X-APPLE-STRUCTURED-LOCATION;VALUE=URI;X-ADDRESS=South Park Amphitheater Buffalo Drive Library  PA 15219 United States;X-APPLE-RADIUS=500;X-TITLE=Buffalo Drive:geo:-79.9958723,40.3053675
END:VEVENT
BEGIN:VEVENT
DTSTART;TZID=America/New_York:20150807T193000
DTEND;TZID=America/New_York:20150807T220000
DTSTAMP:20260422T071311
CREATED:20150529T193257Z
LAST-MODIFIED:20150529T193257Z
UID:8646-1438975800-1438984800@playpittsburgh.com
SUMMARY:Free Summer Concert Series at South Park Amphitheater
DESCRIPTION:Every Friday at 7:30\, Through September 4th. Here’s the line up for the 2015 Allegheny County concert series at South Park Amphitheater. FREE admission\, all ages welcome! \nJune 5 Donna Groom of The Skyliners 7:30 p.m.\nJune 12 Field Report with Andre Costello & The Cool Minors 7:30 p.m.\nJune 19 Stella James with Sydney Hutchko 7:30 p.m.\nJune 26 Eve 6 7:30 p.m.\nJuly 3 Pittsburgh Symphony Orchestra 8 p.m.\nJuly 10 Blue Oyster Cult 7:30 p.m.\nJuly 17 Chris Smither with Rusty Belle Blues 7:30 p.m.\nJuly 24 Joe Lagnese Swingtet 8 with Johnny Angel & Debbie Zugates 7:30 p.m.\nJuly 31 Red Baraat with Rachel B 7:30 p.m.\nAug. 7 Paul Luc and The Commonheart 7:30 p.m.\nAug. 14 Southside Johnny & The Asbury Jukes with Joe Grushecky 7:30 p.m.\nAug. 21 BNY Mellon Jazz presents Dirty Dozen Brass Band 7:30 p.m.\nAug. 28 Duquesne University Tamburitzans 7:30 p.m.\nSept. 4 Dancing Queen 7:30 p.m.
URL:https://playpittsburgh.com/event/free-summer-concert-series-at-south-park-amphitheater/2015-08-07/
LOCATION:South Park Amphitheater\, Buffalo Drive\, Library \, PA\, 15219\, United States
GEO:40.3053675;-79.9958723
X-APPLE-STRUCTURED-LOCATION;VALUE=URI;X-ADDRESS=South Park Amphitheater Buffalo Drive Library  PA 15219 United States;X-APPLE-RADIUS=500;X-TITLE=Buffalo Drive:geo:-79.9958723,40.3053675
END:VEVENT
BEGIN:VEVENT
DTSTART;TZID=America/New_York:20150731T193000
DTEND;TZID=America/New_York:20150731T220000
DTSTAMP:20260422T071311
CREATED:20150529T193257Z
LAST-MODIFIED:20150529T193257Z
UID:8645-1438371000-1438380000@playpittsburgh.com
SUMMARY:Free Summer Concert Series at South Park Amphitheater
DESCRIPTION:Every Friday at 7:30\, Through September 4th. Here’s the line up for the 2015 Allegheny County concert series at South Park Amphitheater. FREE admission\, all ages welcome! \nJune 5 Donna Groom of The Skyliners 7:30 p.m.\nJune 12 Field Report with Andre Costello & The Cool Minors 7:30 p.m.\nJune 19 Stella James with Sydney Hutchko 7:30 p.m.\nJune 26 Eve 6 7:30 p.m.\nJuly 3 Pittsburgh Symphony Orchestra 8 p.m.\nJuly 10 Blue Oyster Cult 7:30 p.m.\nJuly 17 Chris Smither with Rusty Belle Blues 7:30 p.m.\nJuly 24 Joe Lagnese Swingtet 8 with Johnny Angel & Debbie Zugates 7:30 p.m.\nJuly 31 Red Baraat with Rachel B 7:30 p.m.\nAug. 7 Paul Luc and The Commonheart 7:30 p.m.\nAug. 14 Southside Johnny & The Asbury Jukes with Joe Grushecky 7:30 p.m.\nAug. 21 BNY Mellon Jazz presents Dirty Dozen Brass Band 7:30 p.m.\nAug. 28 Duquesne University Tamburitzans 7:30 p.m.\nSept. 4 Dancing Queen 7:30 p.m.
URL:https://playpittsburgh.com/event/free-summer-concert-series-at-south-park-amphitheater/2015-07-31/
LOCATION:South Park Amphitheater\, Buffalo Drive\, Library \, PA\, 15219\, United States
GEO:40.3053675;-79.9958723
X-APPLE-STRUCTURED-LOCATION;VALUE=URI;X-ADDRESS=South Park Amphitheater Buffalo Drive Library  PA 15219 United States;X-APPLE-RADIUS=500;X-TITLE=Buffalo Drive:geo:-79.9958723,40.3053675
END:VEVENT
BEGIN:VEVENT
DTSTART;TZID=America/New_York:20150724T193000
DTEND;TZID=America/New_York:20150724T220000
DTSTAMP:20260422T071311
CREATED:20150529T193257Z
LAST-MODIFIED:20150529T193257Z
UID:8644-1437766200-1437775200@playpittsburgh.com
SUMMARY:Free Summer Concert Series at South Park Amphitheater
DESCRIPTION:Every Friday at 7:30\, Through September 4th. Here’s the line up for the 2015 Allegheny County concert series at South Park Amphitheater. FREE admission\, all ages welcome! \nJune 5 Donna Groom of The Skyliners 7:30 p.m.\nJune 12 Field Report with Andre Costello & The Cool Minors 7:30 p.m.\nJune 19 Stella James with Sydney Hutchko 7:30 p.m.\nJune 26 Eve 6 7:30 p.m.\nJuly 3 Pittsburgh Symphony Orchestra 8 p.m.\nJuly 10 Blue Oyster Cult 7:30 p.m.\nJuly 17 Chris Smither with Rusty Belle Blues 7:30 p.m.\nJuly 24 Joe Lagnese Swingtet 8 with Johnny Angel & Debbie Zugates 7:30 p.m.\nJuly 31 Red Baraat with Rachel B 7:30 p.m.\nAug. 7 Paul Luc and The Commonheart 7:30 p.m.\nAug. 14 Southside Johnny & The Asbury Jukes with Joe Grushecky 7:30 p.m.\nAug. 21 BNY Mellon Jazz presents Dirty Dozen Brass Band 7:30 p.m.\nAug. 28 Duquesne University Tamburitzans 7:30 p.m.\nSept. 4 Dancing Queen 7:30 p.m.
URL:https://playpittsburgh.com/event/free-summer-concert-series-at-south-park-amphitheater/2015-07-24/
LOCATION:South Park Amphitheater\, Buffalo Drive\, Library \, PA\, 15219\, United States
GEO:40.3053675;-79.9958723
X-APPLE-STRUCTURED-LOCATION;VALUE=URI;X-ADDRESS=South Park Amphitheater Buffalo Drive Library  PA 15219 United States;X-APPLE-RADIUS=500;X-TITLE=Buffalo Drive:geo:-79.9958723,40.3053675
END:VEVENT
BEGIN:VEVENT
DTSTART;TZID=America/New_York:20150717T193000
DTEND;TZID=America/New_York:20150717T220000
DTSTAMP:20260422T071311
CREATED:20150529T193257Z
LAST-MODIFIED:20150529T193257Z
UID:8643-1437161400-1437170400@playpittsburgh.com
SUMMARY:Free Summer Concert Series at South Park Amphitheater
DESCRIPTION:Every Friday at 7:30\, Through September 4th. Here’s the line up for the 2015 Allegheny County concert series at South Park Amphitheater. FREE admission\, all ages welcome! \nJune 5 Donna Groom of The Skyliners 7:30 p.m.\nJune 12 Field Report with Andre Costello & The Cool Minors 7:30 p.m.\nJune 19 Stella James with Sydney Hutchko 7:30 p.m.\nJune 26 Eve 6 7:30 p.m.\nJuly 3 Pittsburgh Symphony Orchestra 8 p.m.\nJuly 10 Blue Oyster Cult 7:30 p.m.\nJuly 17 Chris Smither with Rusty Belle Blues 7:30 p.m.\nJuly 24 Joe Lagnese Swingtet 8 with Johnny Angel & Debbie Zugates 7:30 p.m.\nJuly 31 Red Baraat with Rachel B 7:30 p.m.\nAug. 7 Paul Luc and The Commonheart 7:30 p.m.\nAug. 14 Southside Johnny & The Asbury Jukes with Joe Grushecky 7:30 p.m.\nAug. 21 BNY Mellon Jazz presents Dirty Dozen Brass Band 7:30 p.m.\nAug. 28 Duquesne University Tamburitzans 7:30 p.m.\nSept. 4 Dancing Queen 7:30 p.m.
URL:https://playpittsburgh.com/event/free-summer-concert-series-at-south-park-amphitheater/2015-07-17/
LOCATION:South Park Amphitheater\, Buffalo Drive\, Library \, PA\, 15219\, United States
GEO:40.3053675;-79.9958723
X-APPLE-STRUCTURED-LOCATION;VALUE=URI;X-ADDRESS=South Park Amphitheater Buffalo Drive Library  PA 15219 United States;X-APPLE-RADIUS=500;X-TITLE=Buffalo Drive:geo:-79.9958723,40.3053675
END:VEVENT
BEGIN:VEVENT
DTSTART;TZID=America/New_York:20150710T193000
DTEND;TZID=America/New_York:20150710T220000
DTSTAMP:20260422T071311
CREATED:20150529T193257Z
LAST-MODIFIED:20150529T193257Z
UID:8642-1436556600-1436565600@playpittsburgh.com
SUMMARY:Free Summer Concert Series at South Park Amphitheater
DESCRIPTION:Every Friday at 7:30\, Through September 4th. Here’s the line up for the 2015 Allegheny County concert series at South Park Amphitheater. FREE admission\, all ages welcome! \nJune 5 Donna Groom of The Skyliners 7:30 p.m.\nJune 12 Field Report with Andre Costello & The Cool Minors 7:30 p.m.\nJune 19 Stella James with Sydney Hutchko 7:30 p.m.\nJune 26 Eve 6 7:30 p.m.\nJuly 3 Pittsburgh Symphony Orchestra 8 p.m.\nJuly 10 Blue Oyster Cult 7:30 p.m.\nJuly 17 Chris Smither with Rusty Belle Blues 7:30 p.m.\nJuly 24 Joe Lagnese Swingtet 8 with Johnny Angel & Debbie Zugates 7:30 p.m.\nJuly 31 Red Baraat with Rachel B 7:30 p.m.\nAug. 7 Paul Luc and The Commonheart 7:30 p.m.\nAug. 14 Southside Johnny & The Asbury Jukes with Joe Grushecky 7:30 p.m.\nAug. 21 BNY Mellon Jazz presents Dirty Dozen Brass Band 7:30 p.m.\nAug. 28 Duquesne University Tamburitzans 7:30 p.m.\nSept. 4 Dancing Queen 7:30 p.m.
URL:https://playpittsburgh.com/event/free-summer-concert-series-at-south-park-amphitheater/2015-07-10/
LOCATION:South Park Amphitheater\, Buffalo Drive\, Library \, PA\, 15219\, United States
GEO:40.3053675;-79.9958723
X-APPLE-STRUCTURED-LOCATION;VALUE=URI;X-ADDRESS=South Park Amphitheater Buffalo Drive Library  PA 15219 United States;X-APPLE-RADIUS=500;X-TITLE=Buffalo Drive:geo:-79.9958723,40.3053675
END:VEVENT
BEGIN:VEVENT
DTSTART;TZID=America/New_York:20150703T193000
DTEND;TZID=America/New_York:20150703T220000
DTSTAMP:20260422T071311
CREATED:20150529T193257Z
LAST-MODIFIED:20150529T193257Z
UID:8641-1435951800-1435960800@playpittsburgh.com
SUMMARY:Free Summer Concert Series at South Park Amphitheater
DESCRIPTION:Every Friday at 7:30\, Through September 4th. Here’s the line up for the 2015 Allegheny County concert series at South Park Amphitheater. FREE admission\, all ages welcome! \nJune 5 Donna Groom of The Skyliners 7:30 p.m.\nJune 12 Field Report with Andre Costello & The Cool Minors 7:30 p.m.\nJune 19 Stella James with Sydney Hutchko 7:30 p.m.\nJune 26 Eve 6 7:30 p.m.\nJuly 3 Pittsburgh Symphony Orchestra 8 p.m.\nJuly 10 Blue Oyster Cult 7:30 p.m.\nJuly 17 Chris Smither with Rusty Belle Blues 7:30 p.m.\nJuly 24 Joe Lagnese Swingtet 8 with Johnny Angel & Debbie Zugates 7:30 p.m.\nJuly 31 Red Baraat with Rachel B 7:30 p.m.\nAug. 7 Paul Luc and The Commonheart 7:30 p.m.\nAug. 14 Southside Johnny & The Asbury Jukes with Joe Grushecky 7:30 p.m.\nAug. 21 BNY Mellon Jazz presents Dirty Dozen Brass Band 7:30 p.m.\nAug. 28 Duquesne University Tamburitzans 7:30 p.m.\nSept. 4 Dancing Queen 7:30 p.m.
URL:https://playpittsburgh.com/event/free-summer-concert-series-at-south-park-amphitheater/2015-07-03/
LOCATION:South Park Amphitheater\, Buffalo Drive\, Library \, PA\, 15219\, United States
GEO:40.3053675;-79.9958723
X-APPLE-STRUCTURED-LOCATION;VALUE=URI;X-ADDRESS=South Park Amphitheater Buffalo Drive Library  PA 15219 United States;X-APPLE-RADIUS=500;X-TITLE=Buffalo Drive:geo:-79.9958723,40.3053675
END:VEVENT
BEGIN:VEVENT
DTSTART;TZID=America/New_York:20150626T193000
DTEND;TZID=America/New_York:20150626T220000
DTSTAMP:20260422T071311
CREATED:20150529T193257Z
LAST-MODIFIED:20150529T193257Z
UID:8640-1435347000-1435356000@playpittsburgh.com
SUMMARY:Free Summer Concert Series at South Park Amphitheater
DESCRIPTION:Every Friday at 7:30\, Through September 4th. Here’s the line up for the 2015 Allegheny County concert series at South Park Amphitheater. FREE admission\, all ages welcome! \nJune 5 Donna Groom of The Skyliners 7:30 p.m.\nJune 12 Field Report with Andre Costello & The Cool Minors 7:30 p.m.\nJune 19 Stella James with Sydney Hutchko 7:30 p.m.\nJune 26 Eve 6 7:30 p.m.\nJuly 3 Pittsburgh Symphony Orchestra 8 p.m.\nJuly 10 Blue Oyster Cult 7:30 p.m.\nJuly 17 Chris Smither with Rusty Belle Blues 7:30 p.m.\nJuly 24 Joe Lagnese Swingtet 8 with Johnny Angel & Debbie Zugates 7:30 p.m.\nJuly 31 Red Baraat with Rachel B 7:30 p.m.\nAug. 7 Paul Luc and The Commonheart 7:30 p.m.\nAug. 14 Southside Johnny & The Asbury Jukes with Joe Grushecky 7:30 p.m.\nAug. 21 BNY Mellon Jazz presents Dirty Dozen Brass Band 7:30 p.m.\nAug. 28 Duquesne University Tamburitzans 7:30 p.m.\nSept. 4 Dancing Queen 7:30 p.m.
URL:https://playpittsburgh.com/event/free-summer-concert-series-at-south-park-amphitheater/2015-06-26/
LOCATION:South Park Amphitheater\, Buffalo Drive\, Library \, PA\, 15219\, United States
GEO:40.3053675;-79.9958723
X-APPLE-STRUCTURED-LOCATION;VALUE=URI;X-ADDRESS=South Park Amphitheater Buffalo Drive Library  PA 15219 United States;X-APPLE-RADIUS=500;X-TITLE=Buffalo Drive:geo:-79.9958723,40.3053675
END:VEVENT
BEGIN:VEVENT
DTSTART;TZID=America/New_York:20150619T193000
DTEND;TZID=America/New_York:20150619T220000
DTSTAMP:20260422T071311
CREATED:20150529T193257Z
LAST-MODIFIED:20150529T193257Z
UID:8639-1434742200-1434751200@playpittsburgh.com
SUMMARY:Free Summer Concert Series at South Park Amphitheater
DESCRIPTION:Every Friday at 7:30\, Through September 4th. Here’s the line up for the 2015 Allegheny County concert series at South Park Amphitheater. FREE admission\, all ages welcome! \nJune 5 Donna Groom of The Skyliners 7:30 p.m.\nJune 12 Field Report with Andre Costello & The Cool Minors 7:30 p.m.\nJune 19 Stella James with Sydney Hutchko 7:30 p.m.\nJune 26 Eve 6 7:30 p.m.\nJuly 3 Pittsburgh Symphony Orchestra 8 p.m.\nJuly 10 Blue Oyster Cult 7:30 p.m.\nJuly 17 Chris Smither with Rusty Belle Blues 7:30 p.m.\nJuly 24 Joe Lagnese Swingtet 8 with Johnny Angel & Debbie Zugates 7:30 p.m.\nJuly 31 Red Baraat with Rachel B 7:30 p.m.\nAug. 7 Paul Luc and The Commonheart 7:30 p.m.\nAug. 14 Southside Johnny & The Asbury Jukes with Joe Grushecky 7:30 p.m.\nAug. 21 BNY Mellon Jazz presents Dirty Dozen Brass Band 7:30 p.m.\nAug. 28 Duquesne University Tamburitzans 7:30 p.m.\nSept. 4 Dancing Queen 7:30 p.m.
URL:https://playpittsburgh.com/event/free-summer-concert-series-at-south-park-amphitheater/2015-06-19/
LOCATION:South Park Amphitheater\, Buffalo Drive\, Library \, PA\, 15219\, United States
GEO:40.3053675;-79.9958723
X-APPLE-STRUCTURED-LOCATION;VALUE=URI;X-ADDRESS=South Park Amphitheater Buffalo Drive Library  PA 15219 United States;X-APPLE-RADIUS=500;X-TITLE=Buffalo Drive:geo:-79.9958723,40.3053675
END:VEVENT
BEGIN:VEVENT
DTSTART;TZID=America/New_York:20150612T193000
DTEND;TZID=America/New_York:20150612T220000
DTSTAMP:20260422T071311
CREATED:20150529T193257Z
LAST-MODIFIED:20150529T193257Z
UID:8638-1434137400-1434146400@playpittsburgh.com
SUMMARY:Free Summer Concert Series at South Park Amphitheater
DESCRIPTION:Every Friday at 7:30\, Through September 4th. Here’s the line up for the 2015 Allegheny County concert series at South Park Amphitheater. FREE admission\, all ages welcome! \nJune 5 Donna Groom of The Skyliners 7:30 p.m.\nJune 12 Field Report with Andre Costello & The Cool Minors 7:30 p.m.\nJune 19 Stella James with Sydney Hutchko 7:30 p.m.\nJune 26 Eve 6 7:30 p.m.\nJuly 3 Pittsburgh Symphony Orchestra 8 p.m.\nJuly 10 Blue Oyster Cult 7:30 p.m.\nJuly 17 Chris Smither with Rusty Belle Blues 7:30 p.m.\nJuly 24 Joe Lagnese Swingtet 8 with Johnny Angel & Debbie Zugates 7:30 p.m.\nJuly 31 Red Baraat with Rachel B 7:30 p.m.\nAug. 7 Paul Luc and The Commonheart 7:30 p.m.\nAug. 14 Southside Johnny & The Asbury Jukes with Joe Grushecky 7:30 p.m.\nAug. 21 BNY Mellon Jazz presents Dirty Dozen Brass Band 7:30 p.m.\nAug. 28 Duquesne University Tamburitzans 7:30 p.m.\nSept. 4 Dancing Queen 7:30 p.m.
URL:https://playpittsburgh.com/event/free-summer-concert-series-at-south-park-amphitheater/2015-06-12/
LOCATION:South Park Amphitheater\, Buffalo Drive\, Library \, PA\, 15219\, United States
GEO:40.3053675;-79.9958723
X-APPLE-STRUCTURED-LOCATION;VALUE=URI;X-ADDRESS=South Park Amphitheater Buffalo Drive Library  PA 15219 United States;X-APPLE-RADIUS=500;X-TITLE=Buffalo Drive:geo:-79.9958723,40.3053675
END:VEVENT
BEGIN:VEVENT
DTSTART;TZID=America/New_York:20150605T193000
DTEND;TZID=America/New_York:20150605T220000
DTSTAMP:20260422T071311
CREATED:20150529T193257Z
LAST-MODIFIED:20150529T193257Z
UID:8637-1433532600-1433541600@playpittsburgh.com
SUMMARY:Free Summer Concert Series at South Park Amphitheater
DESCRIPTION:Every Friday at 7:30\, Through September 4th. Here’s the line up for the 2015 Allegheny County concert series at South Park Amphitheater. FREE admission\, all ages welcome! \nJune 5 Donna Groom of The Skyliners 7:30 p.m.\nJune 12 Field Report with Andre Costello & The Cool Minors 7:30 p.m.\nJune 19 Stella James with Sydney Hutchko 7:30 p.m.\nJune 26 Eve 6 7:30 p.m.\nJuly 3 Pittsburgh Symphony Orchestra 8 p.m.\nJuly 10 Blue Oyster Cult 7:30 p.m.\nJuly 17 Chris Smither with Rusty Belle Blues 7:30 p.m.\nJuly 24 Joe Lagnese Swingtet 8 with Johnny Angel & Debbie Zugates 7:30 p.m.\nJuly 31 Red Baraat with Rachel B 7:30 p.m.\nAug. 7 Paul Luc and The Commonheart 7:30 p.m.\nAug. 14 Southside Johnny & The Asbury Jukes with Joe Grushecky 7:30 p.m.\nAug. 21 BNY Mellon Jazz presents Dirty Dozen Brass Band 7:30 p.m.\nAug. 28 Duquesne University Tamburitzans 7:30 p.m.\nSept. 4 Dancing Queen 7:30 p.m.
URL:https://playpittsburgh.com/event/free-summer-concert-series-at-south-park-amphitheater/2015-06-05/
LOCATION:South Park Amphitheater\, Buffalo Drive\, Library \, PA\, 15219\, United States
GEO:40.3053675;-79.9958723
X-APPLE-STRUCTURED-LOCATION;VALUE=URI;X-ADDRESS=South Park Amphitheater Buffalo Drive Library  PA 15219 United States;X-APPLE-RADIUS=500;X-TITLE=Buffalo Drive:geo:-79.9958723,40.3053675
END:VEVENT
END:VCALENDAR