BEGIN:VCALENDAR
VERSION:2.0
PRODID:-//Play Pittsburgh - ECPv6.15.20//NONSGML v1.0//EN
CALSCALE:GREGORIAN
METHOD:PUBLISH
X-ORIGINAL-URL:https://playpittsburgh.com
X-WR-CALDESC:Events for Play Pittsburgh
REFRESH-INTERVAL;VALUE=DURATION:PT1H
X-Robots-Tag:noindex
X-PUBLISHED-TTL:PT1H
BEGIN:VTIMEZONE
TZID:America/New_York
BEGIN:DAYLIGHT
TZOFFSETFROM:-0500
TZOFFSETTO:-0400
TZNAME:EDT
DTSTART:20130310T070000
END:DAYLIGHT
BEGIN:STANDARD
TZOFFSETFROM:-0400
TZOFFSETTO:-0500
TZNAME:EST
DTSTART:20131103T060000
END:STANDARD
BEGIN:DAYLIGHT
TZOFFSETFROM:-0500
TZOFFSETTO:-0400
TZNAME:EDT
DTSTART:20140309T070000
END:DAYLIGHT
BEGIN:STANDARD
TZOFFSETFROM:-0400
TZOFFSETTO:-0500
TZNAME:EST
DTSTART:20141102T060000
END:STANDARD
BEGIN:DAYLIGHT
TZOFFSETFROM:-0500
TZOFFSETTO:-0400
TZNAME:EDT
DTSTART:20150308T070000
END:DAYLIGHT
BEGIN:STANDARD
TZOFFSETFROM:-0400
TZOFFSETTO:-0500
TZNAME:EST
DTSTART:20151101T060000
END:STANDARD
END:VTIMEZONE
BEGIN:VEVENT
DTSTART;TZID=America/New_York:20140702T100000
DTEND;TZID=America/New_York:20140702T113000
DTSTAMP:20260422T101131
CREATED:20140629T183724Z
LAST-MODIFIED:20140629T183724Z
UID:2378-1404295200-1404300600@playpittsburgh.com
SUMMARY:Free Kids Summer Movies
DESCRIPTION:Every Wednesday and Thursday enjoy FREE kids movies at Waterworks & Cranberry Cinemas! Doors open at 9 a.m. Movies are at 10:00 a.m. Seating is limited so come early! \n\nThe Croods 6/25/14 & 6/26/14\nAlvin and the Chipmunks 2: The Squeakquel 7/2/14 & 7/3/14\nAlvin and the Chipmunks 3: Chipwrecked 7/9/14 & 7/10/14\nTurbo 7/16/14 & 7/17/14\nIce Age 3: Dawn of the Dinosaurs 7/23/14 & 7/24/14\nIce Age 4: Continental Drift 7/30/14 & 7/31/14\nEpic 8/6/14 & 8/7/14\nWalking with Dinosaurs 8/13/14 & 8/14/14\n\nWaterworks Cinemas: 930 Freeport Road\, Pittsburgh\, PA 15238 \nCranberry Cinemas: 20111 Route 19 and Freedom Road\, Cranberry Township\, PA 16066
URL:https://playpittsburgh.com/event/free-kids-summer-movies/2014-07-02/
CATEGORIES:Free,Indoor Play
END:VEVENT
END:VCALENDAR