BEGIN:VCALENDAR
VERSION:2.0
PRODID:-//Play Pittsburgh - ECPv6.15.20//NONSGML v1.0//EN
CALSCALE:GREGORIAN
METHOD:PUBLISH
X-ORIGINAL-URL:https://playpittsburgh.com
X-WR-CALDESC:Events for Play Pittsburgh
REFRESH-INTERVAL;VALUE=DURATION:PT1H
X-Robots-Tag:noindex
X-PUBLISHED-TTL:PT1H
BEGIN:VTIMEZONE
TZID:America/New_York
BEGIN:DAYLIGHT
TZOFFSETFROM:-0500
TZOFFSETTO:-0400
TZNAME:EDT
DTSTART:20130310T070000
END:DAYLIGHT
BEGIN:STANDARD
TZOFFSETFROM:-0400
TZOFFSETTO:-0500
TZNAME:EST
DTSTART:20131103T060000
END:STANDARD
BEGIN:DAYLIGHT
TZOFFSETFROM:-0500
TZOFFSETTO:-0400
TZNAME:EDT
DTSTART:20140309T070000
END:DAYLIGHT
BEGIN:STANDARD
TZOFFSETFROM:-0400
TZOFFSETTO:-0500
TZNAME:EST
DTSTART:20141102T060000
END:STANDARD
BEGIN:DAYLIGHT
TZOFFSETFROM:-0500
TZOFFSETTO:-0400
TZNAME:EDT
DTSTART:20150308T070000
END:DAYLIGHT
BEGIN:STANDARD
TZOFFSETFROM:-0400
TZOFFSETTO:-0500
TZNAME:EST
DTSTART:20151101T060000
END:STANDARD
END:VTIMEZONE
BEGIN:VEVENT
DTSTART;TZID=America/New_York:20141206T110000
DTEND;TZID=America/New_York:20141206T200000
DTSTAMP:20260424T081509
CREATED:20141203T035128Z
LAST-MODIFIED:20141203T035128Z
UID:4926-1417863600-1417896000@playpittsburgh.com
SUMMARY:FREE Horse Drawn Carriage Rides at PPG
DESCRIPTION:Experience downtown in a whole new way during a complimentary horse-drawn carriage ride through Downtown. Arrive early as rides fill up quickly – first come\, first served (no reservations taken).\nBoard on Fourth Avenue next to the PPG Place Plaza \nSaturdays\, Nov. 22 – Dec. 20\n11:00AM – 3:00PM & 4:00 – 8:00PM
URL:https://playpittsburgh.com/event/free-horse-drawn-carriage-rides-at-ppg/2014-12-06/
LOCATION:PPG Place Plaza\, 1 PPG Pl\, Pittsburgh\, PA\, 15222\, United States
GEO:40.4398818;-80.0037001
X-APPLE-STRUCTURED-LOCATION;VALUE=URI;X-ADDRESS=PPG Place Plaza 1 PPG Pl Pittsburgh PA 15222 United States;X-APPLE-RADIUS=500;X-TITLE=1 PPG Pl:geo:-80.0037001,40.4398818
END:VEVENT
END:VCALENDAR