BEGIN:VCALENDAR
VERSION:2.0
PRODID:-//Play Pittsburgh - ECPv6.15.20//NONSGML v1.0//EN
CALSCALE:GREGORIAN
METHOD:PUBLISH
X-WR-CALNAME:Play Pittsburgh
X-ORIGINAL-URL:https://playpittsburgh.com
X-WR-CALDESC:Events for Play Pittsburgh
REFRESH-INTERVAL;VALUE=DURATION:PT1H
X-Robots-Tag:noindex
X-PUBLISHED-TTL:PT1H
BEGIN:VTIMEZONE
TZID:America/New_York
BEGIN:DAYLIGHT
TZOFFSETFROM:-0500
TZOFFSETTO:-0400
TZNAME:EDT
DTSTART:20140309T070000
END:DAYLIGHT
BEGIN:STANDARD
TZOFFSETFROM:-0400
TZOFFSETTO:-0500
TZNAME:EST
DTSTART:20141102T060000
END:STANDARD
BEGIN:DAYLIGHT
TZOFFSETFROM:-0500
TZOFFSETTO:-0400
TZNAME:EDT
DTSTART:20150308T070000
END:DAYLIGHT
BEGIN:STANDARD
TZOFFSETFROM:-0400
TZOFFSETTO:-0500
TZNAME:EST
DTSTART:20151101T060000
END:STANDARD
BEGIN:DAYLIGHT
TZOFFSETFROM:-0500
TZOFFSETTO:-0400
TZNAME:EDT
DTSTART:20160313T070000
END:DAYLIGHT
BEGIN:STANDARD
TZOFFSETFROM:-0400
TZOFFSETTO:-0500
TZNAME:EST
DTSTART:20161106T060000
END:STANDARD
END:VTIMEZONE
BEGIN:VEVENT
DTSTART;TZID=America/New_York:20150818T100000
DTEND;TZID=America/New_York:20150818T113000
DTSTAMP:20260422T030235
CREATED:20150531T004526Z
LAST-MODIFIED:20150531T004526Z
UID:8851-1439892000-1439897400@playpittsburgh.com
SUMMARY:FREE Family Movie Series at Chartiers Valley Stadium 18
DESCRIPTION:Free family friendly movies at 10am every Tuesday\, Wednesday & Thursday. Different G and PG rated films for 10 weeks over the summer. FREE Admission. All Ages & Groups Welcome. Doors open at 9:00 AM. Special Snack Packs Available. Seating Limited to Auditorium Capacity – No Purchase Necessary. Current Feature Films Not Included in Free Admission. \n\nJune 16 – 18 : Epic / Wallace & Gromit: Curse of the Were-Rabbit\nJune 23 – 25 : Mr. Peabody & Sherman / Ramona & Beezus\nJune 30 – July 2 : Penguins of Madagascar / Chicken Run\nJuly 7 – 9 : Madagascar 3 Europe’s Most Wanted / Rio\nJuly 14 – 16 : Puss in Boots / Rio 2\nJuly 21 – 23 : The Croods / Dr. Seuss’ Horton Hears a Who\nJuly 28 – 30 : How To Train Your Dragon 2 / Alvin & the Chipmunks: Chipwrecked\nAugust 4 – 6 : Ice Age 4: Continental Drift / Everyone’s Hero\nAugust 11 – 13 : Turbo / Mr. Magorium’s Wonder Emporium\nAugust 18 – 20 : Night at the Museum Secret of the Tomb / Space Chimps
URL:https://playpittsburgh.com/event/free-family-movie-series-at-chartiers-valley-stadium-18/2015-08-18/
LOCATION:Chartiers Valley Stadium 18\, 1025 Washington Pike\, Bridgeville\, PA\, 15071\, United States
GEO:40.367155;-80.1101296
X-APPLE-STRUCTURED-LOCATION;VALUE=URI;X-ADDRESS=Chartiers Valley Stadium 18 1025 Washington Pike Bridgeville PA 15071 United States;X-APPLE-RADIUS=500;X-TITLE=1025 Washington Pike:geo:-80.1101296,40.367155
END:VEVENT
BEGIN:VEVENT
DTSTART;TZID=America/New_York:20150811T100000
DTEND;TZID=America/New_York:20150811T113000
DTSTAMP:20260422T030235
CREATED:20150531T004526Z
LAST-MODIFIED:20150531T004526Z
UID:8850-1439287200-1439292600@playpittsburgh.com
SUMMARY:FREE Family Movie Series at Chartiers Valley Stadium 18
DESCRIPTION:Free family friendly movies at 10am every Tuesday\, Wednesday & Thursday. Different G and PG rated films for 10 weeks over the summer. FREE Admission. All Ages & Groups Welcome. Doors open at 9:00 AM. Special Snack Packs Available. Seating Limited to Auditorium Capacity – No Purchase Necessary. Current Feature Films Not Included in Free Admission. \n\nJune 16 – 18 : Epic / Wallace & Gromit: Curse of the Were-Rabbit\nJune 23 – 25 : Mr. Peabody & Sherman / Ramona & Beezus\nJune 30 – July 2 : Penguins of Madagascar / Chicken Run\nJuly 7 – 9 : Madagascar 3 Europe’s Most Wanted / Rio\nJuly 14 – 16 : Puss in Boots / Rio 2\nJuly 21 – 23 : The Croods / Dr. Seuss’ Horton Hears a Who\nJuly 28 – 30 : How To Train Your Dragon 2 / Alvin & the Chipmunks: Chipwrecked\nAugust 4 – 6 : Ice Age 4: Continental Drift / Everyone’s Hero\nAugust 11 – 13 : Turbo / Mr. Magorium’s Wonder Emporium\nAugust 18 – 20 : Night at the Museum Secret of the Tomb / Space Chimps
URL:https://playpittsburgh.com/event/free-family-movie-series-at-chartiers-valley-stadium-18/2015-08-11/
LOCATION:Chartiers Valley Stadium 18\, 1025 Washington Pike\, Bridgeville\, PA\, 15071\, United States
GEO:40.367155;-80.1101296
X-APPLE-STRUCTURED-LOCATION;VALUE=URI;X-ADDRESS=Chartiers Valley Stadium 18 1025 Washington Pike Bridgeville PA 15071 United States;X-APPLE-RADIUS=500;X-TITLE=1025 Washington Pike:geo:-80.1101296,40.367155
END:VEVENT
BEGIN:VEVENT
DTSTART;TZID=America/New_York:20150804T100000
DTEND;TZID=America/New_York:20150804T113000
DTSTAMP:20260422T030235
CREATED:20150531T004526Z
LAST-MODIFIED:20150531T004526Z
UID:8849-1438682400-1438687800@playpittsburgh.com
SUMMARY:FREE Family Movie Series at Chartiers Valley Stadium 18
DESCRIPTION:Free family friendly movies at 10am every Tuesday\, Wednesday & Thursday. Different G and PG rated films for 10 weeks over the summer. FREE Admission. All Ages & Groups Welcome. Doors open at 9:00 AM. Special Snack Packs Available. Seating Limited to Auditorium Capacity – No Purchase Necessary. Current Feature Films Not Included in Free Admission. \n\nJune 16 – 18 : Epic / Wallace & Gromit: Curse of the Were-Rabbit\nJune 23 – 25 : Mr. Peabody & Sherman / Ramona & Beezus\nJune 30 – July 2 : Penguins of Madagascar / Chicken Run\nJuly 7 – 9 : Madagascar 3 Europe’s Most Wanted / Rio\nJuly 14 – 16 : Puss in Boots / Rio 2\nJuly 21 – 23 : The Croods / Dr. Seuss’ Horton Hears a Who\nJuly 28 – 30 : How To Train Your Dragon 2 / Alvin & the Chipmunks: Chipwrecked\nAugust 4 – 6 : Ice Age 4: Continental Drift / Everyone’s Hero\nAugust 11 – 13 : Turbo / Mr. Magorium’s Wonder Emporium\nAugust 18 – 20 : Night at the Museum Secret of the Tomb / Space Chimps
URL:https://playpittsburgh.com/event/free-family-movie-series-at-chartiers-valley-stadium-18/2015-08-04/
LOCATION:Chartiers Valley Stadium 18\, 1025 Washington Pike\, Bridgeville\, PA\, 15071\, United States
GEO:40.367155;-80.1101296
X-APPLE-STRUCTURED-LOCATION;VALUE=URI;X-ADDRESS=Chartiers Valley Stadium 18 1025 Washington Pike Bridgeville PA 15071 United States;X-APPLE-RADIUS=500;X-TITLE=1025 Washington Pike:geo:-80.1101296,40.367155
END:VEVENT
BEGIN:VEVENT
DTSTART;TZID=America/New_York:20150728T100000
DTEND;TZID=America/New_York:20150728T113000
DTSTAMP:20260422T030235
CREATED:20150531T004526Z
LAST-MODIFIED:20150531T004526Z
UID:8848-1438077600-1438083000@playpittsburgh.com
SUMMARY:FREE Family Movie Series at Chartiers Valley Stadium 18
DESCRIPTION:Free family friendly movies at 10am every Tuesday\, Wednesday & Thursday. Different G and PG rated films for 10 weeks over the summer. FREE Admission. All Ages & Groups Welcome. Doors open at 9:00 AM. Special Snack Packs Available. Seating Limited to Auditorium Capacity – No Purchase Necessary. Current Feature Films Not Included in Free Admission. \n\nJune 16 – 18 : Epic / Wallace & Gromit: Curse of the Were-Rabbit\nJune 23 – 25 : Mr. Peabody & Sherman / Ramona & Beezus\nJune 30 – July 2 : Penguins of Madagascar / Chicken Run\nJuly 7 – 9 : Madagascar 3 Europe’s Most Wanted / Rio\nJuly 14 – 16 : Puss in Boots / Rio 2\nJuly 21 – 23 : The Croods / Dr. Seuss’ Horton Hears a Who\nJuly 28 – 30 : How To Train Your Dragon 2 / Alvin & the Chipmunks: Chipwrecked\nAugust 4 – 6 : Ice Age 4: Continental Drift / Everyone’s Hero\nAugust 11 – 13 : Turbo / Mr. Magorium’s Wonder Emporium\nAugust 18 – 20 : Night at the Museum Secret of the Tomb / Space Chimps
URL:https://playpittsburgh.com/event/free-family-movie-series-at-chartiers-valley-stadium-18/2015-07-28/
LOCATION:Chartiers Valley Stadium 18\, 1025 Washington Pike\, Bridgeville\, PA\, 15071\, United States
GEO:40.367155;-80.1101296
X-APPLE-STRUCTURED-LOCATION;VALUE=URI;X-ADDRESS=Chartiers Valley Stadium 18 1025 Washington Pike Bridgeville PA 15071 United States;X-APPLE-RADIUS=500;X-TITLE=1025 Washington Pike:geo:-80.1101296,40.367155
END:VEVENT
BEGIN:VEVENT
DTSTART;TZID=America/New_York:20150721T100000
DTEND;TZID=America/New_York:20150721T113000
DTSTAMP:20260422T030235
CREATED:20150531T004526Z
LAST-MODIFIED:20150531T004526Z
UID:8847-1437472800-1437478200@playpittsburgh.com
SUMMARY:FREE Family Movie Series at Chartiers Valley Stadium 18
DESCRIPTION:Free family friendly movies at 10am every Tuesday\, Wednesday & Thursday. Different G and PG rated films for 10 weeks over the summer. FREE Admission. All Ages & Groups Welcome. Doors open at 9:00 AM. Special Snack Packs Available. Seating Limited to Auditorium Capacity – No Purchase Necessary. Current Feature Films Not Included in Free Admission. \n\nJune 16 – 18 : Epic / Wallace & Gromit: Curse of the Were-Rabbit\nJune 23 – 25 : Mr. Peabody & Sherman / Ramona & Beezus\nJune 30 – July 2 : Penguins of Madagascar / Chicken Run\nJuly 7 – 9 : Madagascar 3 Europe’s Most Wanted / Rio\nJuly 14 – 16 : Puss in Boots / Rio 2\nJuly 21 – 23 : The Croods / Dr. Seuss’ Horton Hears a Who\nJuly 28 – 30 : How To Train Your Dragon 2 / Alvin & the Chipmunks: Chipwrecked\nAugust 4 – 6 : Ice Age 4: Continental Drift / Everyone’s Hero\nAugust 11 – 13 : Turbo / Mr. Magorium’s Wonder Emporium\nAugust 18 – 20 : Night at the Museum Secret of the Tomb / Space Chimps
URL:https://playpittsburgh.com/event/free-family-movie-series-at-chartiers-valley-stadium-18/2015-07-21/
LOCATION:Chartiers Valley Stadium 18\, 1025 Washington Pike\, Bridgeville\, PA\, 15071\, United States
GEO:40.367155;-80.1101296
X-APPLE-STRUCTURED-LOCATION;VALUE=URI;X-ADDRESS=Chartiers Valley Stadium 18 1025 Washington Pike Bridgeville PA 15071 United States;X-APPLE-RADIUS=500;X-TITLE=1025 Washington Pike:geo:-80.1101296,40.367155
END:VEVENT
BEGIN:VEVENT
DTSTART;TZID=America/New_York:20150714T100000
DTEND;TZID=America/New_York:20150714T113000
DTSTAMP:20260422T030235
CREATED:20150531T004526Z
LAST-MODIFIED:20150531T004526Z
UID:8846-1436868000-1436873400@playpittsburgh.com
SUMMARY:FREE Family Movie Series at Chartiers Valley Stadium 18
DESCRIPTION:Free family friendly movies at 10am every Tuesday\, Wednesday & Thursday. Different G and PG rated films for 10 weeks over the summer. FREE Admission. All Ages & Groups Welcome. Doors open at 9:00 AM. Special Snack Packs Available. Seating Limited to Auditorium Capacity – No Purchase Necessary. Current Feature Films Not Included in Free Admission. \n\nJune 16 – 18 : Epic / Wallace & Gromit: Curse of the Were-Rabbit\nJune 23 – 25 : Mr. Peabody & Sherman / Ramona & Beezus\nJune 30 – July 2 : Penguins of Madagascar / Chicken Run\nJuly 7 – 9 : Madagascar 3 Europe’s Most Wanted / Rio\nJuly 14 – 16 : Puss in Boots / Rio 2\nJuly 21 – 23 : The Croods / Dr. Seuss’ Horton Hears a Who\nJuly 28 – 30 : How To Train Your Dragon 2 / Alvin & the Chipmunks: Chipwrecked\nAugust 4 – 6 : Ice Age 4: Continental Drift / Everyone’s Hero\nAugust 11 – 13 : Turbo / Mr. Magorium’s Wonder Emporium\nAugust 18 – 20 : Night at the Museum Secret of the Tomb / Space Chimps
URL:https://playpittsburgh.com/event/free-family-movie-series-at-chartiers-valley-stadium-18/2015-07-14/
LOCATION:Chartiers Valley Stadium 18\, 1025 Washington Pike\, Bridgeville\, PA\, 15071\, United States
GEO:40.367155;-80.1101296
X-APPLE-STRUCTURED-LOCATION;VALUE=URI;X-ADDRESS=Chartiers Valley Stadium 18 1025 Washington Pike Bridgeville PA 15071 United States;X-APPLE-RADIUS=500;X-TITLE=1025 Washington Pike:geo:-80.1101296,40.367155
END:VEVENT
BEGIN:VEVENT
DTSTART;TZID=America/New_York:20150707T100000
DTEND;TZID=America/New_York:20150707T113000
DTSTAMP:20260422T030235
CREATED:20150531T004526Z
LAST-MODIFIED:20150531T004526Z
UID:8845-1436263200-1436268600@playpittsburgh.com
SUMMARY:FREE Family Movie Series at Chartiers Valley Stadium 18
DESCRIPTION:Free family friendly movies at 10am every Tuesday\, Wednesday & Thursday. Different G and PG rated films for 10 weeks over the summer. FREE Admission. All Ages & Groups Welcome. Doors open at 9:00 AM. Special Snack Packs Available. Seating Limited to Auditorium Capacity – No Purchase Necessary. Current Feature Films Not Included in Free Admission. \n\nJune 16 – 18 : Epic / Wallace & Gromit: Curse of the Were-Rabbit\nJune 23 – 25 : Mr. Peabody & Sherman / Ramona & Beezus\nJune 30 – July 2 : Penguins of Madagascar / Chicken Run\nJuly 7 – 9 : Madagascar 3 Europe’s Most Wanted / Rio\nJuly 14 – 16 : Puss in Boots / Rio 2\nJuly 21 – 23 : The Croods / Dr. Seuss’ Horton Hears a Who\nJuly 28 – 30 : How To Train Your Dragon 2 / Alvin & the Chipmunks: Chipwrecked\nAugust 4 – 6 : Ice Age 4: Continental Drift / Everyone’s Hero\nAugust 11 – 13 : Turbo / Mr. Magorium’s Wonder Emporium\nAugust 18 – 20 : Night at the Museum Secret of the Tomb / Space Chimps
URL:https://playpittsburgh.com/event/free-family-movie-series-at-chartiers-valley-stadium-18/2015-07-07/
LOCATION:Chartiers Valley Stadium 18\, 1025 Washington Pike\, Bridgeville\, PA\, 15071\, United States
GEO:40.367155;-80.1101296
X-APPLE-STRUCTURED-LOCATION;VALUE=URI;X-ADDRESS=Chartiers Valley Stadium 18 1025 Washington Pike Bridgeville PA 15071 United States;X-APPLE-RADIUS=500;X-TITLE=1025 Washington Pike:geo:-80.1101296,40.367155
END:VEVENT
BEGIN:VEVENT
DTSTART;TZID=America/New_York:20150630T100000
DTEND;TZID=America/New_York:20150630T113000
DTSTAMP:20260422T030235
CREATED:20150531T004526Z
LAST-MODIFIED:20150531T004526Z
UID:8844-1435658400-1435663800@playpittsburgh.com
SUMMARY:FREE Family Movie Series at Chartiers Valley Stadium 18
DESCRIPTION:Free family friendly movies at 10am every Tuesday\, Wednesday & Thursday. Different G and PG rated films for 10 weeks over the summer. FREE Admission. All Ages & Groups Welcome. Doors open at 9:00 AM. Special Snack Packs Available. Seating Limited to Auditorium Capacity – No Purchase Necessary. Current Feature Films Not Included in Free Admission. \n\nJune 16 – 18 : Epic / Wallace & Gromit: Curse of the Were-Rabbit\nJune 23 – 25 : Mr. Peabody & Sherman / Ramona & Beezus\nJune 30 – July 2 : Penguins of Madagascar / Chicken Run\nJuly 7 – 9 : Madagascar 3 Europe’s Most Wanted / Rio\nJuly 14 – 16 : Puss in Boots / Rio 2\nJuly 21 – 23 : The Croods / Dr. Seuss’ Horton Hears a Who\nJuly 28 – 30 : How To Train Your Dragon 2 / Alvin & the Chipmunks: Chipwrecked\nAugust 4 – 6 : Ice Age 4: Continental Drift / Everyone’s Hero\nAugust 11 – 13 : Turbo / Mr. Magorium’s Wonder Emporium\nAugust 18 – 20 : Night at the Museum Secret of the Tomb / Space Chimps
URL:https://playpittsburgh.com/event/free-family-movie-series-at-chartiers-valley-stadium-18/2015-06-30/
LOCATION:Chartiers Valley Stadium 18\, 1025 Washington Pike\, Bridgeville\, PA\, 15071\, United States
GEO:40.367155;-80.1101296
X-APPLE-STRUCTURED-LOCATION;VALUE=URI;X-ADDRESS=Chartiers Valley Stadium 18 1025 Washington Pike Bridgeville PA 15071 United States;X-APPLE-RADIUS=500;X-TITLE=1025 Washington Pike:geo:-80.1101296,40.367155
END:VEVENT
BEGIN:VEVENT
DTSTART;TZID=America/New_York:20150623T100000
DTEND;TZID=America/New_York:20150623T113000
DTSTAMP:20260422T030235
CREATED:20150531T004526Z
LAST-MODIFIED:20150531T004526Z
UID:8843-1435053600-1435059000@playpittsburgh.com
SUMMARY:FREE Family Movie Series at Chartiers Valley Stadium 18
DESCRIPTION:Free family friendly movies at 10am every Tuesday\, Wednesday & Thursday. Different G and PG rated films for 10 weeks over the summer. FREE Admission. All Ages & Groups Welcome. Doors open at 9:00 AM. Special Snack Packs Available. Seating Limited to Auditorium Capacity – No Purchase Necessary. Current Feature Films Not Included in Free Admission. \n\nJune 16 – 18 : Epic / Wallace & Gromit: Curse of the Were-Rabbit\nJune 23 – 25 : Mr. Peabody & Sherman / Ramona & Beezus\nJune 30 – July 2 : Penguins of Madagascar / Chicken Run\nJuly 7 – 9 : Madagascar 3 Europe’s Most Wanted / Rio\nJuly 14 – 16 : Puss in Boots / Rio 2\nJuly 21 – 23 : The Croods / Dr. Seuss’ Horton Hears a Who\nJuly 28 – 30 : How To Train Your Dragon 2 / Alvin & the Chipmunks: Chipwrecked\nAugust 4 – 6 : Ice Age 4: Continental Drift / Everyone’s Hero\nAugust 11 – 13 : Turbo / Mr. Magorium’s Wonder Emporium\nAugust 18 – 20 : Night at the Museum Secret of the Tomb / Space Chimps
URL:https://playpittsburgh.com/event/free-family-movie-series-at-chartiers-valley-stadium-18/2015-06-23/
LOCATION:Chartiers Valley Stadium 18\, 1025 Washington Pike\, Bridgeville\, PA\, 15071\, United States
GEO:40.367155;-80.1101296
X-APPLE-STRUCTURED-LOCATION;VALUE=URI;X-ADDRESS=Chartiers Valley Stadium 18 1025 Washington Pike Bridgeville PA 15071 United States;X-APPLE-RADIUS=500;X-TITLE=1025 Washington Pike:geo:-80.1101296,40.367155
END:VEVENT
BEGIN:VEVENT
DTSTART;TZID=America/New_York:20150616T100000
DTEND;TZID=America/New_York:20150616T113000
DTSTAMP:20260422T030235
CREATED:20150531T004526Z
LAST-MODIFIED:20150531T004526Z
UID:8842-1434448800-1434454200@playpittsburgh.com
SUMMARY:FREE Family Movie Series at Chartiers Valley Stadium 18
DESCRIPTION:Free family friendly movies at 10am every Tuesday\, Wednesday & Thursday. Different G and PG rated films for 10 weeks over the summer. FREE Admission. All Ages & Groups Welcome. Doors open at 9:00 AM. Special Snack Packs Available. Seating Limited to Auditorium Capacity – No Purchase Necessary. Current Feature Films Not Included in Free Admission. \n\nJune 16 – 18 : Epic / Wallace & Gromit: Curse of the Were-Rabbit\nJune 23 – 25 : Mr. Peabody & Sherman / Ramona & Beezus\nJune 30 – July 2 : Penguins of Madagascar / Chicken Run\nJuly 7 – 9 : Madagascar 3 Europe’s Most Wanted / Rio\nJuly 14 – 16 : Puss in Boots / Rio 2\nJuly 21 – 23 : The Croods / Dr. Seuss’ Horton Hears a Who\nJuly 28 – 30 : How To Train Your Dragon 2 / Alvin & the Chipmunks: Chipwrecked\nAugust 4 – 6 : Ice Age 4: Continental Drift / Everyone’s Hero\nAugust 11 – 13 : Turbo / Mr. Magorium’s Wonder Emporium\nAugust 18 – 20 : Night at the Museum Secret of the Tomb / Space Chimps
URL:https://playpittsburgh.com/event/free-family-movie-series-at-chartiers-valley-stadium-18/2015-06-16/
LOCATION:Chartiers Valley Stadium 18\, 1025 Washington Pike\, Bridgeville\, PA\, 15071\, United States
GEO:40.367155;-80.1101296
X-APPLE-STRUCTURED-LOCATION;VALUE=URI;X-ADDRESS=Chartiers Valley Stadium 18 1025 Washington Pike Bridgeville PA 15071 United States;X-APPLE-RADIUS=500;X-TITLE=1025 Washington Pike:geo:-80.1101296,40.367155
END:VEVENT
END:VCALENDAR