BEGIN:VCALENDAR
VERSION:2.0
PRODID:-//Play Pittsburgh - ECPv6.15.20//NONSGML v1.0//EN
CALSCALE:GREGORIAN
METHOD:PUBLISH
X-WR-CALNAME:Play Pittsburgh
X-ORIGINAL-URL:https://playpittsburgh.com
X-WR-CALDESC:Events for Play Pittsburgh
REFRESH-INTERVAL;VALUE=DURATION:PT1H
X-Robots-Tag:noindex
X-PUBLISHED-TTL:PT1H
BEGIN:VTIMEZONE
TZID:America/New_York
BEGIN:DAYLIGHT
TZOFFSETFROM:-0500
TZOFFSETTO:-0400
TZNAME:EDT
DTSTART:20140309T070000
END:DAYLIGHT
BEGIN:STANDARD
TZOFFSETFROM:-0400
TZOFFSETTO:-0500
TZNAME:EST
DTSTART:20141102T060000
END:STANDARD
BEGIN:DAYLIGHT
TZOFFSETFROM:-0500
TZOFFSETTO:-0400
TZNAME:EDT
DTSTART:20150308T070000
END:DAYLIGHT
BEGIN:STANDARD
TZOFFSETFROM:-0400
TZOFFSETTO:-0500
TZNAME:EST
DTSTART:20151101T060000
END:STANDARD
BEGIN:DAYLIGHT
TZOFFSETFROM:-0500
TZOFFSETTO:-0400
TZNAME:EDT
DTSTART:20160313T070000
END:DAYLIGHT
BEGIN:STANDARD
TZOFFSETFROM:-0400
TZOFFSETTO:-0500
TZNAME:EST
DTSTART:20161106T060000
END:STANDARD
END:VTIMEZONE
BEGIN:VEVENT
DTSTART;TZID=America/New_York:20150820T100000
DTEND;TZID=America/New_York:20150820T113000
DTSTAMP:20260422T060044
CREATED:20150531T004957Z
LAST-MODIFIED:20150531T004957Z
UID:8871-1440064800-1440070200@playpittsburgh.com
SUMMARY:FREE Family Movie Series at Chartiers Valley Stadium 18
DESCRIPTION:Free family friendly movies at 10am every Tuesday\, Wednesday & Thursday. Different G and PG rated films for 10 weeks over the summer. FREE Admission. All Ages & Groups Welcome. Doors open at 9:00 AM. Special Snack Packs Available. Seating Limited to Auditorium Capacity – No Purchase Necessary. Current Feature Films Not Included in Free Admission. \n\nJune 16 – 18 : Epic / Wallace & Gromit: Curse of the Were-Rabbit\nJune 23 – 25 : Mr. Peabody & Sherman / Ramona & Beezus\nJune 30 – July 2 : Penguins of Madagascar / Chicken Run\nJuly 7 – 9 : Madagascar 3 Europe’s Most Wanted / Rio\nJuly 14 – 16 : Puss in Boots / Rio 2\nJuly 21 – 23 : The Croods / Dr. Seuss’ Horton Hears a Who\nJuly 28 – 30 : How To Train Your Dragon 2 / Alvin & the Chipmunks: Chipwrecked\nAugust 4 – 6 : Ice Age 4: Continental Drift / Everyone’s Hero\nAugust 11 – 13 : Turbo / Mr. Magorium’s Wonder Emporium\nAugust 18 – 20 : Night at the Museum Secret of the Tomb / Space Chimps
URL:https://playpittsburgh.com/event/free-family-movie-series-at-chartiers-valley-stadium-18-3/2015-08-20/
LOCATION:Chartiers Valley Stadium 18\, 1025 Washington Pike\, Bridgeville\, PA\, 15071\, United States
GEO:40.367155;-80.1101296
X-APPLE-STRUCTURED-LOCATION;VALUE=URI;X-ADDRESS=Chartiers Valley Stadium 18 1025 Washington Pike Bridgeville PA 15071 United States;X-APPLE-RADIUS=500;X-TITLE=1025 Washington Pike:geo:-80.1101296,40.367155
END:VEVENT
BEGIN:VEVENT
DTSTART;TZID=America/New_York:20150813T100000
DTEND;TZID=America/New_York:20150813T113000
DTSTAMP:20260422T060044
CREATED:20150531T004957Z
LAST-MODIFIED:20150531T004957Z
UID:8870-1439460000-1439465400@playpittsburgh.com
SUMMARY:FREE Family Movie Series at Chartiers Valley Stadium 18
DESCRIPTION:Free family friendly movies at 10am every Tuesday\, Wednesday & Thursday. Different G and PG rated films for 10 weeks over the summer. FREE Admission. All Ages & Groups Welcome. Doors open at 9:00 AM. Special Snack Packs Available. Seating Limited to Auditorium Capacity – No Purchase Necessary. Current Feature Films Not Included in Free Admission. \n\nJune 16 – 18 : Epic / Wallace & Gromit: Curse of the Were-Rabbit\nJune 23 – 25 : Mr. Peabody & Sherman / Ramona & Beezus\nJune 30 – July 2 : Penguins of Madagascar / Chicken Run\nJuly 7 – 9 : Madagascar 3 Europe’s Most Wanted / Rio\nJuly 14 – 16 : Puss in Boots / Rio 2\nJuly 21 – 23 : The Croods / Dr. Seuss’ Horton Hears a Who\nJuly 28 – 30 : How To Train Your Dragon 2 / Alvin & the Chipmunks: Chipwrecked\nAugust 4 – 6 : Ice Age 4: Continental Drift / Everyone’s Hero\nAugust 11 – 13 : Turbo / Mr. Magorium’s Wonder Emporium\nAugust 18 – 20 : Night at the Museum Secret of the Tomb / Space Chimps
URL:https://playpittsburgh.com/event/free-family-movie-series-at-chartiers-valley-stadium-18-3/2015-08-13/
LOCATION:Chartiers Valley Stadium 18\, 1025 Washington Pike\, Bridgeville\, PA\, 15071\, United States
GEO:40.367155;-80.1101296
X-APPLE-STRUCTURED-LOCATION;VALUE=URI;X-ADDRESS=Chartiers Valley Stadium 18 1025 Washington Pike Bridgeville PA 15071 United States;X-APPLE-RADIUS=500;X-TITLE=1025 Washington Pike:geo:-80.1101296,40.367155
END:VEVENT
BEGIN:VEVENT
DTSTART;TZID=America/New_York:20150806T100000
DTEND;TZID=America/New_York:20150806T113000
DTSTAMP:20260422T060044
CREATED:20150531T004957Z
LAST-MODIFIED:20150531T004957Z
UID:8869-1438855200-1438860600@playpittsburgh.com
SUMMARY:FREE Family Movie Series at Chartiers Valley Stadium 18
DESCRIPTION:Free family friendly movies at 10am every Tuesday\, Wednesday & Thursday. Different G and PG rated films for 10 weeks over the summer. FREE Admission. All Ages & Groups Welcome. Doors open at 9:00 AM. Special Snack Packs Available. Seating Limited to Auditorium Capacity – No Purchase Necessary. Current Feature Films Not Included in Free Admission. \n\nJune 16 – 18 : Epic / Wallace & Gromit: Curse of the Were-Rabbit\nJune 23 – 25 : Mr. Peabody & Sherman / Ramona & Beezus\nJune 30 – July 2 : Penguins of Madagascar / Chicken Run\nJuly 7 – 9 : Madagascar 3 Europe’s Most Wanted / Rio\nJuly 14 – 16 : Puss in Boots / Rio 2\nJuly 21 – 23 : The Croods / Dr. Seuss’ Horton Hears a Who\nJuly 28 – 30 : How To Train Your Dragon 2 / Alvin & the Chipmunks: Chipwrecked\nAugust 4 – 6 : Ice Age 4: Continental Drift / Everyone’s Hero\nAugust 11 – 13 : Turbo / Mr. Magorium’s Wonder Emporium\nAugust 18 – 20 : Night at the Museum Secret of the Tomb / Space Chimps
URL:https://playpittsburgh.com/event/free-family-movie-series-at-chartiers-valley-stadium-18-3/2015-08-06/
LOCATION:Chartiers Valley Stadium 18\, 1025 Washington Pike\, Bridgeville\, PA\, 15071\, United States
GEO:40.367155;-80.1101296
X-APPLE-STRUCTURED-LOCATION;VALUE=URI;X-ADDRESS=Chartiers Valley Stadium 18 1025 Washington Pike Bridgeville PA 15071 United States;X-APPLE-RADIUS=500;X-TITLE=1025 Washington Pike:geo:-80.1101296,40.367155
END:VEVENT
BEGIN:VEVENT
DTSTART;TZID=America/New_York:20150730T100000
DTEND;TZID=America/New_York:20150730T113000
DTSTAMP:20260422T060044
CREATED:20150531T004957Z
LAST-MODIFIED:20150531T004957Z
UID:8868-1438250400-1438255800@playpittsburgh.com
SUMMARY:FREE Family Movie Series at Chartiers Valley Stadium 18
DESCRIPTION:Free family friendly movies at 10am every Tuesday\, Wednesday & Thursday. Different G and PG rated films for 10 weeks over the summer. FREE Admission. All Ages & Groups Welcome. Doors open at 9:00 AM. Special Snack Packs Available. Seating Limited to Auditorium Capacity – No Purchase Necessary. Current Feature Films Not Included in Free Admission. \n\nJune 16 – 18 : Epic / Wallace & Gromit: Curse of the Were-Rabbit\nJune 23 – 25 : Mr. Peabody & Sherman / Ramona & Beezus\nJune 30 – July 2 : Penguins of Madagascar / Chicken Run\nJuly 7 – 9 : Madagascar 3 Europe’s Most Wanted / Rio\nJuly 14 – 16 : Puss in Boots / Rio 2\nJuly 21 – 23 : The Croods / Dr. Seuss’ Horton Hears a Who\nJuly 28 – 30 : How To Train Your Dragon 2 / Alvin & the Chipmunks: Chipwrecked\nAugust 4 – 6 : Ice Age 4: Continental Drift / Everyone’s Hero\nAugust 11 – 13 : Turbo / Mr. Magorium’s Wonder Emporium\nAugust 18 – 20 : Night at the Museum Secret of the Tomb / Space Chimps
URL:https://playpittsburgh.com/event/free-family-movie-series-at-chartiers-valley-stadium-18-3/2015-07-30/
LOCATION:Chartiers Valley Stadium 18\, 1025 Washington Pike\, Bridgeville\, PA\, 15071\, United States
GEO:40.367155;-80.1101296
X-APPLE-STRUCTURED-LOCATION;VALUE=URI;X-ADDRESS=Chartiers Valley Stadium 18 1025 Washington Pike Bridgeville PA 15071 United States;X-APPLE-RADIUS=500;X-TITLE=1025 Washington Pike:geo:-80.1101296,40.367155
END:VEVENT
BEGIN:VEVENT
DTSTART;TZID=America/New_York:20150723T100000
DTEND;TZID=America/New_York:20150723T113000
DTSTAMP:20260422T060044
CREATED:20150531T004957Z
LAST-MODIFIED:20150531T004957Z
UID:8867-1437645600-1437651000@playpittsburgh.com
SUMMARY:FREE Family Movie Series at Chartiers Valley Stadium 18
DESCRIPTION:Free family friendly movies at 10am every Tuesday\, Wednesday & Thursday. Different G and PG rated films for 10 weeks over the summer. FREE Admission. All Ages & Groups Welcome. Doors open at 9:00 AM. Special Snack Packs Available. Seating Limited to Auditorium Capacity – No Purchase Necessary. Current Feature Films Not Included in Free Admission. \n\nJune 16 – 18 : Epic / Wallace & Gromit: Curse of the Were-Rabbit\nJune 23 – 25 : Mr. Peabody & Sherman / Ramona & Beezus\nJune 30 – July 2 : Penguins of Madagascar / Chicken Run\nJuly 7 – 9 : Madagascar 3 Europe’s Most Wanted / Rio\nJuly 14 – 16 : Puss in Boots / Rio 2\nJuly 21 – 23 : The Croods / Dr. Seuss’ Horton Hears a Who\nJuly 28 – 30 : How To Train Your Dragon 2 / Alvin & the Chipmunks: Chipwrecked\nAugust 4 – 6 : Ice Age 4: Continental Drift / Everyone’s Hero\nAugust 11 – 13 : Turbo / Mr. Magorium’s Wonder Emporium\nAugust 18 – 20 : Night at the Museum Secret of the Tomb / Space Chimps
URL:https://playpittsburgh.com/event/free-family-movie-series-at-chartiers-valley-stadium-18-3/2015-07-23/
LOCATION:Chartiers Valley Stadium 18\, 1025 Washington Pike\, Bridgeville\, PA\, 15071\, United States
GEO:40.367155;-80.1101296
X-APPLE-STRUCTURED-LOCATION;VALUE=URI;X-ADDRESS=Chartiers Valley Stadium 18 1025 Washington Pike Bridgeville PA 15071 United States;X-APPLE-RADIUS=500;X-TITLE=1025 Washington Pike:geo:-80.1101296,40.367155
END:VEVENT
BEGIN:VEVENT
DTSTART;TZID=America/New_York:20150716T100000
DTEND;TZID=America/New_York:20150716T113000
DTSTAMP:20260422T060044
CREATED:20150531T004957Z
LAST-MODIFIED:20150531T004957Z
UID:8866-1437040800-1437046200@playpittsburgh.com
SUMMARY:FREE Family Movie Series at Chartiers Valley Stadium 18
DESCRIPTION:Free family friendly movies at 10am every Tuesday\, Wednesday & Thursday. Different G and PG rated films for 10 weeks over the summer. FREE Admission. All Ages & Groups Welcome. Doors open at 9:00 AM. Special Snack Packs Available. Seating Limited to Auditorium Capacity – No Purchase Necessary. Current Feature Films Not Included in Free Admission. \n\nJune 16 – 18 : Epic / Wallace & Gromit: Curse of the Were-Rabbit\nJune 23 – 25 : Mr. Peabody & Sherman / Ramona & Beezus\nJune 30 – July 2 : Penguins of Madagascar / Chicken Run\nJuly 7 – 9 : Madagascar 3 Europe’s Most Wanted / Rio\nJuly 14 – 16 : Puss in Boots / Rio 2\nJuly 21 – 23 : The Croods / Dr. Seuss’ Horton Hears a Who\nJuly 28 – 30 : How To Train Your Dragon 2 / Alvin & the Chipmunks: Chipwrecked\nAugust 4 – 6 : Ice Age 4: Continental Drift / Everyone’s Hero\nAugust 11 – 13 : Turbo / Mr. Magorium’s Wonder Emporium\nAugust 18 – 20 : Night at the Museum Secret of the Tomb / Space Chimps
URL:https://playpittsburgh.com/event/free-family-movie-series-at-chartiers-valley-stadium-18-3/2015-07-16/
LOCATION:Chartiers Valley Stadium 18\, 1025 Washington Pike\, Bridgeville\, PA\, 15071\, United States
GEO:40.367155;-80.1101296
X-APPLE-STRUCTURED-LOCATION;VALUE=URI;X-ADDRESS=Chartiers Valley Stadium 18 1025 Washington Pike Bridgeville PA 15071 United States;X-APPLE-RADIUS=500;X-TITLE=1025 Washington Pike:geo:-80.1101296,40.367155
END:VEVENT
BEGIN:VEVENT
DTSTART;TZID=America/New_York:20150709T100000
DTEND;TZID=America/New_York:20150709T113000
DTSTAMP:20260422T060044
CREATED:20150531T004957Z
LAST-MODIFIED:20150531T004957Z
UID:8865-1436436000-1436441400@playpittsburgh.com
SUMMARY:FREE Family Movie Series at Chartiers Valley Stadium 18
DESCRIPTION:Free family friendly movies at 10am every Tuesday\, Wednesday & Thursday. Different G and PG rated films for 10 weeks over the summer. FREE Admission. All Ages & Groups Welcome. Doors open at 9:00 AM. Special Snack Packs Available. Seating Limited to Auditorium Capacity – No Purchase Necessary. Current Feature Films Not Included in Free Admission. \n\nJune 16 – 18 : Epic / Wallace & Gromit: Curse of the Were-Rabbit\nJune 23 – 25 : Mr. Peabody & Sherman / Ramona & Beezus\nJune 30 – July 2 : Penguins of Madagascar / Chicken Run\nJuly 7 – 9 : Madagascar 3 Europe’s Most Wanted / Rio\nJuly 14 – 16 : Puss in Boots / Rio 2\nJuly 21 – 23 : The Croods / Dr. Seuss’ Horton Hears a Who\nJuly 28 – 30 : How To Train Your Dragon 2 / Alvin & the Chipmunks: Chipwrecked\nAugust 4 – 6 : Ice Age 4: Continental Drift / Everyone’s Hero\nAugust 11 – 13 : Turbo / Mr. Magorium’s Wonder Emporium\nAugust 18 – 20 : Night at the Museum Secret of the Tomb / Space Chimps
URL:https://playpittsburgh.com/event/free-family-movie-series-at-chartiers-valley-stadium-18-3/2015-07-09/
LOCATION:Chartiers Valley Stadium 18\, 1025 Washington Pike\, Bridgeville\, PA\, 15071\, United States
GEO:40.367155;-80.1101296
X-APPLE-STRUCTURED-LOCATION;VALUE=URI;X-ADDRESS=Chartiers Valley Stadium 18 1025 Washington Pike Bridgeville PA 15071 United States;X-APPLE-RADIUS=500;X-TITLE=1025 Washington Pike:geo:-80.1101296,40.367155
END:VEVENT
BEGIN:VEVENT
DTSTART;TZID=America/New_York:20150702T100000
DTEND;TZID=America/New_York:20150702T113000
DTSTAMP:20260422T060044
CREATED:20150531T004957Z
LAST-MODIFIED:20150531T004957Z
UID:8864-1435831200-1435836600@playpittsburgh.com
SUMMARY:FREE Family Movie Series at Chartiers Valley Stadium 18
DESCRIPTION:Free family friendly movies at 10am every Tuesday\, Wednesday & Thursday. Different G and PG rated films for 10 weeks over the summer. FREE Admission. All Ages & Groups Welcome. Doors open at 9:00 AM. Special Snack Packs Available. Seating Limited to Auditorium Capacity – No Purchase Necessary. Current Feature Films Not Included in Free Admission. \n\nJune 16 – 18 : Epic / Wallace & Gromit: Curse of the Were-Rabbit\nJune 23 – 25 : Mr. Peabody & Sherman / Ramona & Beezus\nJune 30 – July 2 : Penguins of Madagascar / Chicken Run\nJuly 7 – 9 : Madagascar 3 Europe’s Most Wanted / Rio\nJuly 14 – 16 : Puss in Boots / Rio 2\nJuly 21 – 23 : The Croods / Dr. Seuss’ Horton Hears a Who\nJuly 28 – 30 : How To Train Your Dragon 2 / Alvin & the Chipmunks: Chipwrecked\nAugust 4 – 6 : Ice Age 4: Continental Drift / Everyone’s Hero\nAugust 11 – 13 : Turbo / Mr. Magorium’s Wonder Emporium\nAugust 18 – 20 : Night at the Museum Secret of the Tomb / Space Chimps
URL:https://playpittsburgh.com/event/free-family-movie-series-at-chartiers-valley-stadium-18-3/2015-07-02/
LOCATION:Chartiers Valley Stadium 18\, 1025 Washington Pike\, Bridgeville\, PA\, 15071\, United States
GEO:40.367155;-80.1101296
X-APPLE-STRUCTURED-LOCATION;VALUE=URI;X-ADDRESS=Chartiers Valley Stadium 18 1025 Washington Pike Bridgeville PA 15071 United States;X-APPLE-RADIUS=500;X-TITLE=1025 Washington Pike:geo:-80.1101296,40.367155
END:VEVENT
BEGIN:VEVENT
DTSTART;TZID=America/New_York:20150625T100000
DTEND;TZID=America/New_York:20150625T113000
DTSTAMP:20260422T060044
CREATED:20150531T004957Z
LAST-MODIFIED:20150531T004957Z
UID:8863-1435226400-1435231800@playpittsburgh.com
SUMMARY:FREE Family Movie Series at Chartiers Valley Stadium 18
DESCRIPTION:Free family friendly movies at 10am every Tuesday\, Wednesday & Thursday. Different G and PG rated films for 10 weeks over the summer. FREE Admission. All Ages & Groups Welcome. Doors open at 9:00 AM. Special Snack Packs Available. Seating Limited to Auditorium Capacity – No Purchase Necessary. Current Feature Films Not Included in Free Admission. \n\nJune 16 – 18 : Epic / Wallace & Gromit: Curse of the Were-Rabbit\nJune 23 – 25 : Mr. Peabody & Sherman / Ramona & Beezus\nJune 30 – July 2 : Penguins of Madagascar / Chicken Run\nJuly 7 – 9 : Madagascar 3 Europe’s Most Wanted / Rio\nJuly 14 – 16 : Puss in Boots / Rio 2\nJuly 21 – 23 : The Croods / Dr. Seuss’ Horton Hears a Who\nJuly 28 – 30 : How To Train Your Dragon 2 / Alvin & the Chipmunks: Chipwrecked\nAugust 4 – 6 : Ice Age 4: Continental Drift / Everyone’s Hero\nAugust 11 – 13 : Turbo / Mr. Magorium’s Wonder Emporium\nAugust 18 – 20 : Night at the Museum Secret of the Tomb / Space Chimps
URL:https://playpittsburgh.com/event/free-family-movie-series-at-chartiers-valley-stadium-18-3/2015-06-25/
LOCATION:Chartiers Valley Stadium 18\, 1025 Washington Pike\, Bridgeville\, PA\, 15071\, United States
GEO:40.367155;-80.1101296
X-APPLE-STRUCTURED-LOCATION;VALUE=URI;X-ADDRESS=Chartiers Valley Stadium 18 1025 Washington Pike Bridgeville PA 15071 United States;X-APPLE-RADIUS=500;X-TITLE=1025 Washington Pike:geo:-80.1101296,40.367155
END:VEVENT
BEGIN:VEVENT
DTSTART;TZID=America/New_York:20150618T100000
DTEND;TZID=America/New_York:20150618T113000
DTSTAMP:20260422T060044
CREATED:20150531T004957Z
LAST-MODIFIED:20150531T004957Z
UID:8862-1434621600-1434627000@playpittsburgh.com
SUMMARY:FREE Family Movie Series at Chartiers Valley Stadium 18
DESCRIPTION:Free family friendly movies at 10am every Tuesday\, Wednesday & Thursday. Different G and PG rated films for 10 weeks over the summer. FREE Admission. All Ages & Groups Welcome. Doors open at 9:00 AM. Special Snack Packs Available. Seating Limited to Auditorium Capacity – No Purchase Necessary. Current Feature Films Not Included in Free Admission. \n\nJune 16 – 18 : Epic / Wallace & Gromit: Curse of the Were-Rabbit\nJune 23 – 25 : Mr. Peabody & Sherman / Ramona & Beezus\nJune 30 – July 2 : Penguins of Madagascar / Chicken Run\nJuly 7 – 9 : Madagascar 3 Europe’s Most Wanted / Rio\nJuly 14 – 16 : Puss in Boots / Rio 2\nJuly 21 – 23 : The Croods / Dr. Seuss’ Horton Hears a Who\nJuly 28 – 30 : How To Train Your Dragon 2 / Alvin & the Chipmunks: Chipwrecked\nAugust 4 – 6 : Ice Age 4: Continental Drift / Everyone’s Hero\nAugust 11 – 13 : Turbo / Mr. Magorium’s Wonder Emporium\nAugust 18 – 20 : Night at the Museum Secret of the Tomb / Space Chimps
URL:https://playpittsburgh.com/event/free-family-movie-series-at-chartiers-valley-stadium-18-3/2015-06-18/
LOCATION:Chartiers Valley Stadium 18\, 1025 Washington Pike\, Bridgeville\, PA\, 15071\, United States
GEO:40.367155;-80.1101296
X-APPLE-STRUCTURED-LOCATION;VALUE=URI;X-ADDRESS=Chartiers Valley Stadium 18 1025 Washington Pike Bridgeville PA 15071 United States;X-APPLE-RADIUS=500;X-TITLE=1025 Washington Pike:geo:-80.1101296,40.367155
END:VEVENT
END:VCALENDAR