BEGIN:VCALENDAR
VERSION:2.0
PRODID:-//Play Pittsburgh - ECPv6.15.20//NONSGML v1.0//EN
CALSCALE:GREGORIAN
METHOD:PUBLISH
X-WR-CALNAME:Play Pittsburgh
X-ORIGINAL-URL:https://playpittsburgh.com
X-WR-CALDESC:Events for Play Pittsburgh
REFRESH-INTERVAL;VALUE=DURATION:PT1H
X-Robots-Tag:noindex
X-PUBLISHED-TTL:PT1H
BEGIN:VTIMEZONE
TZID:America/New_York
BEGIN:DAYLIGHT
TZOFFSETFROM:-0500
TZOFFSETTO:-0400
TZNAME:EDT
DTSTART:20140309T070000
END:DAYLIGHT
BEGIN:STANDARD
TZOFFSETFROM:-0400
TZOFFSETTO:-0500
TZNAME:EST
DTSTART:20141102T060000
END:STANDARD
BEGIN:DAYLIGHT
TZOFFSETFROM:-0500
TZOFFSETTO:-0400
TZNAME:EDT
DTSTART:20150308T070000
END:DAYLIGHT
BEGIN:STANDARD
TZOFFSETFROM:-0400
TZOFFSETTO:-0500
TZNAME:EST
DTSTART:20151101T060000
END:STANDARD
BEGIN:DAYLIGHT
TZOFFSETFROM:-0500
TZOFFSETTO:-0400
TZNAME:EDT
DTSTART:20160313T070000
END:DAYLIGHT
BEGIN:STANDARD
TZOFFSETFROM:-0400
TZOFFSETTO:-0500
TZNAME:EST
DTSTART:20161106T060000
END:STANDARD
END:VTIMEZONE
BEGIN:VEVENT
DTSTART;TZID=America/New_York:20150819T100000
DTEND;TZID=America/New_York:20150819T113000
DTSTAMP:20260422T061333
CREATED:20150531T004820Z
LAST-MODIFIED:20150531T004820Z
UID:8861-1439978400-1439983800@playpittsburgh.com
SUMMARY:FREE Family Movie Series at Chartiers Valley Stadium 18
DESCRIPTION:Free family friendly movies at 10am every Tuesday\, Wednesday & Thursday. Different G and PG rated films for 10 weeks over the summer. FREE Admission. All Ages & Groups Welcome. Doors open at 9:00 AM. Special Snack Packs Available. Seating Limited to Auditorium Capacity – No Purchase Necessary. Current Feature Films Not Included in Free Admission. \n\nJune 16 – 18 : Epic / Wallace & Gromit: Curse of the Were-Rabbit\nJune 23 – 25 : Mr. Peabody & Sherman / Ramona & Beezus\nJune 30 – July 2 : Penguins of Madagascar / Chicken Run\nJuly 7 – 9 : Madagascar 3 Europe’s Most Wanted / Rio\nJuly 14 – 16 : Puss in Boots / Rio 2\nJuly 21 – 23 : The Croods / Dr. Seuss’ Horton Hears a Who\nJuly 28 – 30 : How To Train Your Dragon 2 / Alvin & the Chipmunks: Chipwrecked\nAugust 4 – 6 : Ice Age 4: Continental Drift / Everyone’s Hero\nAugust 11 – 13 : Turbo / Mr. Magorium’s Wonder Emporium\nAugust 18 – 20 : Night at the Museum Secret of the Tomb / Space Chimps
URL:https://playpittsburgh.com/event/free-family-movie-series-at-chartiers-valley-stadium-18-2/2015-08-19/
LOCATION:Chartiers Valley Stadium 18\, 1025 Washington Pike\, Bridgeville\, PA\, 15071\, United States
GEO:40.367155;-80.1101296
X-APPLE-STRUCTURED-LOCATION;VALUE=URI;X-ADDRESS=Chartiers Valley Stadium 18 1025 Washington Pike Bridgeville PA 15071 United States;X-APPLE-RADIUS=500;X-TITLE=1025 Washington Pike:geo:-80.1101296,40.367155
END:VEVENT
BEGIN:VEVENT
DTSTART;TZID=America/New_York:20150812T100000
DTEND;TZID=America/New_York:20150812T113000
DTSTAMP:20260422T061333
CREATED:20150531T004820Z
LAST-MODIFIED:20150531T004820Z
UID:8860-1439373600-1439379000@playpittsburgh.com
SUMMARY:FREE Family Movie Series at Chartiers Valley Stadium 18
DESCRIPTION:Free family friendly movies at 10am every Tuesday\, Wednesday & Thursday. Different G and PG rated films for 10 weeks over the summer. FREE Admission. All Ages & Groups Welcome. Doors open at 9:00 AM. Special Snack Packs Available. Seating Limited to Auditorium Capacity – No Purchase Necessary. Current Feature Films Not Included in Free Admission. \n\nJune 16 – 18 : Epic / Wallace & Gromit: Curse of the Were-Rabbit\nJune 23 – 25 : Mr. Peabody & Sherman / Ramona & Beezus\nJune 30 – July 2 : Penguins of Madagascar / Chicken Run\nJuly 7 – 9 : Madagascar 3 Europe’s Most Wanted / Rio\nJuly 14 – 16 : Puss in Boots / Rio 2\nJuly 21 – 23 : The Croods / Dr. Seuss’ Horton Hears a Who\nJuly 28 – 30 : How To Train Your Dragon 2 / Alvin & the Chipmunks: Chipwrecked\nAugust 4 – 6 : Ice Age 4: Continental Drift / Everyone’s Hero\nAugust 11 – 13 : Turbo / Mr. Magorium’s Wonder Emporium\nAugust 18 – 20 : Night at the Museum Secret of the Tomb / Space Chimps
URL:https://playpittsburgh.com/event/free-family-movie-series-at-chartiers-valley-stadium-18-2/2015-08-12/
LOCATION:Chartiers Valley Stadium 18\, 1025 Washington Pike\, Bridgeville\, PA\, 15071\, United States
GEO:40.367155;-80.1101296
X-APPLE-STRUCTURED-LOCATION;VALUE=URI;X-ADDRESS=Chartiers Valley Stadium 18 1025 Washington Pike Bridgeville PA 15071 United States;X-APPLE-RADIUS=500;X-TITLE=1025 Washington Pike:geo:-80.1101296,40.367155
END:VEVENT
BEGIN:VEVENT
DTSTART;TZID=America/New_York:20150805T100000
DTEND;TZID=America/New_York:20150805T113000
DTSTAMP:20260422T061333
CREATED:20150531T004820Z
LAST-MODIFIED:20150531T004820Z
UID:8859-1438768800-1438774200@playpittsburgh.com
SUMMARY:FREE Family Movie Series at Chartiers Valley Stadium 18
DESCRIPTION:Free family friendly movies at 10am every Tuesday\, Wednesday & Thursday. Different G and PG rated films for 10 weeks over the summer. FREE Admission. All Ages & Groups Welcome. Doors open at 9:00 AM. Special Snack Packs Available. Seating Limited to Auditorium Capacity – No Purchase Necessary. Current Feature Films Not Included in Free Admission. \n\nJune 16 – 18 : Epic / Wallace & Gromit: Curse of the Were-Rabbit\nJune 23 – 25 : Mr. Peabody & Sherman / Ramona & Beezus\nJune 30 – July 2 : Penguins of Madagascar / Chicken Run\nJuly 7 – 9 : Madagascar 3 Europe’s Most Wanted / Rio\nJuly 14 – 16 : Puss in Boots / Rio 2\nJuly 21 – 23 : The Croods / Dr. Seuss’ Horton Hears a Who\nJuly 28 – 30 : How To Train Your Dragon 2 / Alvin & the Chipmunks: Chipwrecked\nAugust 4 – 6 : Ice Age 4: Continental Drift / Everyone’s Hero\nAugust 11 – 13 : Turbo / Mr. Magorium’s Wonder Emporium\nAugust 18 – 20 : Night at the Museum Secret of the Tomb / Space Chimps
URL:https://playpittsburgh.com/event/free-family-movie-series-at-chartiers-valley-stadium-18-2/2015-08-05/
LOCATION:Chartiers Valley Stadium 18\, 1025 Washington Pike\, Bridgeville\, PA\, 15071\, United States
GEO:40.367155;-80.1101296
X-APPLE-STRUCTURED-LOCATION;VALUE=URI;X-ADDRESS=Chartiers Valley Stadium 18 1025 Washington Pike Bridgeville PA 15071 United States;X-APPLE-RADIUS=500;X-TITLE=1025 Washington Pike:geo:-80.1101296,40.367155
END:VEVENT
BEGIN:VEVENT
DTSTART;TZID=America/New_York:20150729T100000
DTEND;TZID=America/New_York:20150729T113000
DTSTAMP:20260422T061333
CREATED:20150531T004820Z
LAST-MODIFIED:20150531T004820Z
UID:8858-1438164000-1438169400@playpittsburgh.com
SUMMARY:FREE Family Movie Series at Chartiers Valley Stadium 18
DESCRIPTION:Free family friendly movies at 10am every Tuesday\, Wednesday & Thursday. Different G and PG rated films for 10 weeks over the summer. FREE Admission. All Ages & Groups Welcome. Doors open at 9:00 AM. Special Snack Packs Available. Seating Limited to Auditorium Capacity – No Purchase Necessary. Current Feature Films Not Included in Free Admission. \n\nJune 16 – 18 : Epic / Wallace & Gromit: Curse of the Were-Rabbit\nJune 23 – 25 : Mr. Peabody & Sherman / Ramona & Beezus\nJune 30 – July 2 : Penguins of Madagascar / Chicken Run\nJuly 7 – 9 : Madagascar 3 Europe’s Most Wanted / Rio\nJuly 14 – 16 : Puss in Boots / Rio 2\nJuly 21 – 23 : The Croods / Dr. Seuss’ Horton Hears a Who\nJuly 28 – 30 : How To Train Your Dragon 2 / Alvin & the Chipmunks: Chipwrecked\nAugust 4 – 6 : Ice Age 4: Continental Drift / Everyone’s Hero\nAugust 11 – 13 : Turbo / Mr. Magorium’s Wonder Emporium\nAugust 18 – 20 : Night at the Museum Secret of the Tomb / Space Chimps
URL:https://playpittsburgh.com/event/free-family-movie-series-at-chartiers-valley-stadium-18-2/2015-07-29/
LOCATION:Chartiers Valley Stadium 18\, 1025 Washington Pike\, Bridgeville\, PA\, 15071\, United States
GEO:40.367155;-80.1101296
X-APPLE-STRUCTURED-LOCATION;VALUE=URI;X-ADDRESS=Chartiers Valley Stadium 18 1025 Washington Pike Bridgeville PA 15071 United States;X-APPLE-RADIUS=500;X-TITLE=1025 Washington Pike:geo:-80.1101296,40.367155
END:VEVENT
BEGIN:VEVENT
DTSTART;TZID=America/New_York:20150722T100000
DTEND;TZID=America/New_York:20150722T113000
DTSTAMP:20260422T061333
CREATED:20150531T004820Z
LAST-MODIFIED:20150531T004820Z
UID:8857-1437559200-1437564600@playpittsburgh.com
SUMMARY:FREE Family Movie Series at Chartiers Valley Stadium 18
DESCRIPTION:Free family friendly movies at 10am every Tuesday\, Wednesday & Thursday. Different G and PG rated films for 10 weeks over the summer. FREE Admission. All Ages & Groups Welcome. Doors open at 9:00 AM. Special Snack Packs Available. Seating Limited to Auditorium Capacity – No Purchase Necessary. Current Feature Films Not Included in Free Admission. \n\nJune 16 – 18 : Epic / Wallace & Gromit: Curse of the Were-Rabbit\nJune 23 – 25 : Mr. Peabody & Sherman / Ramona & Beezus\nJune 30 – July 2 : Penguins of Madagascar / Chicken Run\nJuly 7 – 9 : Madagascar 3 Europe’s Most Wanted / Rio\nJuly 14 – 16 : Puss in Boots / Rio 2\nJuly 21 – 23 : The Croods / Dr. Seuss’ Horton Hears a Who\nJuly 28 – 30 : How To Train Your Dragon 2 / Alvin & the Chipmunks: Chipwrecked\nAugust 4 – 6 : Ice Age 4: Continental Drift / Everyone’s Hero\nAugust 11 – 13 : Turbo / Mr. Magorium’s Wonder Emporium\nAugust 18 – 20 : Night at the Museum Secret of the Tomb / Space Chimps
URL:https://playpittsburgh.com/event/free-family-movie-series-at-chartiers-valley-stadium-18-2/2015-07-22/
LOCATION:Chartiers Valley Stadium 18\, 1025 Washington Pike\, Bridgeville\, PA\, 15071\, United States
GEO:40.367155;-80.1101296
X-APPLE-STRUCTURED-LOCATION;VALUE=URI;X-ADDRESS=Chartiers Valley Stadium 18 1025 Washington Pike Bridgeville PA 15071 United States;X-APPLE-RADIUS=500;X-TITLE=1025 Washington Pike:geo:-80.1101296,40.367155
END:VEVENT
BEGIN:VEVENT
DTSTART;TZID=America/New_York:20150715T100000
DTEND;TZID=America/New_York:20150715T113000
DTSTAMP:20260422T061333
CREATED:20150531T004820Z
LAST-MODIFIED:20150531T004820Z
UID:8856-1436954400-1436959800@playpittsburgh.com
SUMMARY:FREE Family Movie Series at Chartiers Valley Stadium 18
DESCRIPTION:Free family friendly movies at 10am every Tuesday\, Wednesday & Thursday. Different G and PG rated films for 10 weeks over the summer. FREE Admission. All Ages & Groups Welcome. Doors open at 9:00 AM. Special Snack Packs Available. Seating Limited to Auditorium Capacity – No Purchase Necessary. Current Feature Films Not Included in Free Admission. \n\nJune 16 – 18 : Epic / Wallace & Gromit: Curse of the Were-Rabbit\nJune 23 – 25 : Mr. Peabody & Sherman / Ramona & Beezus\nJune 30 – July 2 : Penguins of Madagascar / Chicken Run\nJuly 7 – 9 : Madagascar 3 Europe’s Most Wanted / Rio\nJuly 14 – 16 : Puss in Boots / Rio 2\nJuly 21 – 23 : The Croods / Dr. Seuss’ Horton Hears a Who\nJuly 28 – 30 : How To Train Your Dragon 2 / Alvin & the Chipmunks: Chipwrecked\nAugust 4 – 6 : Ice Age 4: Continental Drift / Everyone’s Hero\nAugust 11 – 13 : Turbo / Mr. Magorium’s Wonder Emporium\nAugust 18 – 20 : Night at the Museum Secret of the Tomb / Space Chimps
URL:https://playpittsburgh.com/event/free-family-movie-series-at-chartiers-valley-stadium-18-2/2015-07-15/
LOCATION:Chartiers Valley Stadium 18\, 1025 Washington Pike\, Bridgeville\, PA\, 15071\, United States
GEO:40.367155;-80.1101296
X-APPLE-STRUCTURED-LOCATION;VALUE=URI;X-ADDRESS=Chartiers Valley Stadium 18 1025 Washington Pike Bridgeville PA 15071 United States;X-APPLE-RADIUS=500;X-TITLE=1025 Washington Pike:geo:-80.1101296,40.367155
END:VEVENT
BEGIN:VEVENT
DTSTART;TZID=America/New_York:20150708T100000
DTEND;TZID=America/New_York:20150708T113000
DTSTAMP:20260422T061333
CREATED:20150531T004820Z
LAST-MODIFIED:20150531T004820Z
UID:8855-1436349600-1436355000@playpittsburgh.com
SUMMARY:FREE Family Movie Series at Chartiers Valley Stadium 18
DESCRIPTION:Free family friendly movies at 10am every Tuesday\, Wednesday & Thursday. Different G and PG rated films for 10 weeks over the summer. FREE Admission. All Ages & Groups Welcome. Doors open at 9:00 AM. Special Snack Packs Available. Seating Limited to Auditorium Capacity – No Purchase Necessary. Current Feature Films Not Included in Free Admission. \n\nJune 16 – 18 : Epic / Wallace & Gromit: Curse of the Were-Rabbit\nJune 23 – 25 : Mr. Peabody & Sherman / Ramona & Beezus\nJune 30 – July 2 : Penguins of Madagascar / Chicken Run\nJuly 7 – 9 : Madagascar 3 Europe’s Most Wanted / Rio\nJuly 14 – 16 : Puss in Boots / Rio 2\nJuly 21 – 23 : The Croods / Dr. Seuss’ Horton Hears a Who\nJuly 28 – 30 : How To Train Your Dragon 2 / Alvin & the Chipmunks: Chipwrecked\nAugust 4 – 6 : Ice Age 4: Continental Drift / Everyone’s Hero\nAugust 11 – 13 : Turbo / Mr. Magorium’s Wonder Emporium\nAugust 18 – 20 : Night at the Museum Secret of the Tomb / Space Chimps
URL:https://playpittsburgh.com/event/free-family-movie-series-at-chartiers-valley-stadium-18-2/2015-07-08/
LOCATION:Chartiers Valley Stadium 18\, 1025 Washington Pike\, Bridgeville\, PA\, 15071\, United States
GEO:40.367155;-80.1101296
X-APPLE-STRUCTURED-LOCATION;VALUE=URI;X-ADDRESS=Chartiers Valley Stadium 18 1025 Washington Pike Bridgeville PA 15071 United States;X-APPLE-RADIUS=500;X-TITLE=1025 Washington Pike:geo:-80.1101296,40.367155
END:VEVENT
BEGIN:VEVENT
DTSTART;TZID=America/New_York:20150701T100000
DTEND;TZID=America/New_York:20150701T113000
DTSTAMP:20260422T061333
CREATED:20150531T004820Z
LAST-MODIFIED:20150531T004820Z
UID:8854-1435744800-1435750200@playpittsburgh.com
SUMMARY:FREE Family Movie Series at Chartiers Valley Stadium 18
DESCRIPTION:Free family friendly movies at 10am every Tuesday\, Wednesday & Thursday. Different G and PG rated films for 10 weeks over the summer. FREE Admission. All Ages & Groups Welcome. Doors open at 9:00 AM. Special Snack Packs Available. Seating Limited to Auditorium Capacity – No Purchase Necessary. Current Feature Films Not Included in Free Admission. \n\nJune 16 – 18 : Epic / Wallace & Gromit: Curse of the Were-Rabbit\nJune 23 – 25 : Mr. Peabody & Sherman / Ramona & Beezus\nJune 30 – July 2 : Penguins of Madagascar / Chicken Run\nJuly 7 – 9 : Madagascar 3 Europe’s Most Wanted / Rio\nJuly 14 – 16 : Puss in Boots / Rio 2\nJuly 21 – 23 : The Croods / Dr. Seuss’ Horton Hears a Who\nJuly 28 – 30 : How To Train Your Dragon 2 / Alvin & the Chipmunks: Chipwrecked\nAugust 4 – 6 : Ice Age 4: Continental Drift / Everyone’s Hero\nAugust 11 – 13 : Turbo / Mr. Magorium’s Wonder Emporium\nAugust 18 – 20 : Night at the Museum Secret of the Tomb / Space Chimps
URL:https://playpittsburgh.com/event/free-family-movie-series-at-chartiers-valley-stadium-18-2/2015-07-01/
LOCATION:Chartiers Valley Stadium 18\, 1025 Washington Pike\, Bridgeville\, PA\, 15071\, United States
GEO:40.367155;-80.1101296
X-APPLE-STRUCTURED-LOCATION;VALUE=URI;X-ADDRESS=Chartiers Valley Stadium 18 1025 Washington Pike Bridgeville PA 15071 United States;X-APPLE-RADIUS=500;X-TITLE=1025 Washington Pike:geo:-80.1101296,40.367155
END:VEVENT
BEGIN:VEVENT
DTSTART;TZID=America/New_York:20150624T100000
DTEND;TZID=America/New_York:20150624T113000
DTSTAMP:20260422T061333
CREATED:20150531T004820Z
LAST-MODIFIED:20150531T004820Z
UID:8853-1435140000-1435145400@playpittsburgh.com
SUMMARY:FREE Family Movie Series at Chartiers Valley Stadium 18
DESCRIPTION:Free family friendly movies at 10am every Tuesday\, Wednesday & Thursday. Different G and PG rated films for 10 weeks over the summer. FREE Admission. All Ages & Groups Welcome. Doors open at 9:00 AM. Special Snack Packs Available. Seating Limited to Auditorium Capacity – No Purchase Necessary. Current Feature Films Not Included in Free Admission. \n\nJune 16 – 18 : Epic / Wallace & Gromit: Curse of the Were-Rabbit\nJune 23 – 25 : Mr. Peabody & Sherman / Ramona & Beezus\nJune 30 – July 2 : Penguins of Madagascar / Chicken Run\nJuly 7 – 9 : Madagascar 3 Europe’s Most Wanted / Rio\nJuly 14 – 16 : Puss in Boots / Rio 2\nJuly 21 – 23 : The Croods / Dr. Seuss’ Horton Hears a Who\nJuly 28 – 30 : How To Train Your Dragon 2 / Alvin & the Chipmunks: Chipwrecked\nAugust 4 – 6 : Ice Age 4: Continental Drift / Everyone’s Hero\nAugust 11 – 13 : Turbo / Mr. Magorium’s Wonder Emporium\nAugust 18 – 20 : Night at the Museum Secret of the Tomb / Space Chimps
URL:https://playpittsburgh.com/event/free-family-movie-series-at-chartiers-valley-stadium-18-2/2015-06-24/
LOCATION:Chartiers Valley Stadium 18\, 1025 Washington Pike\, Bridgeville\, PA\, 15071\, United States
GEO:40.367155;-80.1101296
X-APPLE-STRUCTURED-LOCATION;VALUE=URI;X-ADDRESS=Chartiers Valley Stadium 18 1025 Washington Pike Bridgeville PA 15071 United States;X-APPLE-RADIUS=500;X-TITLE=1025 Washington Pike:geo:-80.1101296,40.367155
END:VEVENT
BEGIN:VEVENT
DTSTART;TZID=America/New_York:20150617T100000
DTEND;TZID=America/New_York:20150617T113000
DTSTAMP:20260422T061333
CREATED:20150531T004820Z
LAST-MODIFIED:20150531T004820Z
UID:8852-1434535200-1434540600@playpittsburgh.com
SUMMARY:FREE Family Movie Series at Chartiers Valley Stadium 18
DESCRIPTION:Free family friendly movies at 10am every Tuesday\, Wednesday & Thursday. Different G and PG rated films for 10 weeks over the summer. FREE Admission. All Ages & Groups Welcome. Doors open at 9:00 AM. Special Snack Packs Available. Seating Limited to Auditorium Capacity – No Purchase Necessary. Current Feature Films Not Included in Free Admission. \n\nJune 16 – 18 : Epic / Wallace & Gromit: Curse of the Were-Rabbit\nJune 23 – 25 : Mr. Peabody & Sherman / Ramona & Beezus\nJune 30 – July 2 : Penguins of Madagascar / Chicken Run\nJuly 7 – 9 : Madagascar 3 Europe’s Most Wanted / Rio\nJuly 14 – 16 : Puss in Boots / Rio 2\nJuly 21 – 23 : The Croods / Dr. Seuss’ Horton Hears a Who\nJuly 28 – 30 : How To Train Your Dragon 2 / Alvin & the Chipmunks: Chipwrecked\nAugust 4 – 6 : Ice Age 4: Continental Drift / Everyone’s Hero\nAugust 11 – 13 : Turbo / Mr. Magorium’s Wonder Emporium\nAugust 18 – 20 : Night at the Museum Secret of the Tomb / Space Chimps
URL:https://playpittsburgh.com/event/free-family-movie-series-at-chartiers-valley-stadium-18-2/2015-06-17/
LOCATION:Chartiers Valley Stadium 18\, 1025 Washington Pike\, Bridgeville\, PA\, 15071\, United States
GEO:40.367155;-80.1101296
X-APPLE-STRUCTURED-LOCATION;VALUE=URI;X-ADDRESS=Chartiers Valley Stadium 18 1025 Washington Pike Bridgeville PA 15071 United States;X-APPLE-RADIUS=500;X-TITLE=1025 Washington Pike:geo:-80.1101296,40.367155
END:VEVENT
END:VCALENDAR