BEGIN:VCALENDAR
VERSION:2.0
PRODID:-//Play Pittsburgh - ECPv6.15.20//NONSGML v1.0//EN
CALSCALE:GREGORIAN
METHOD:PUBLISH
X-ORIGINAL-URL:https://playpittsburgh.com
X-WR-CALDESC:Events for Play Pittsburgh
REFRESH-INTERVAL;VALUE=DURATION:PT1H
X-Robots-Tag:noindex
X-PUBLISHED-TTL:PT1H
BEGIN:VTIMEZONE
TZID:America/New_York
BEGIN:DAYLIGHT
TZOFFSETFROM:-0500
TZOFFSETTO:-0400
TZNAME:EDT
DTSTART:20140309T070000
END:DAYLIGHT
BEGIN:STANDARD
TZOFFSETFROM:-0400
TZOFFSETTO:-0500
TZNAME:EST
DTSTART:20141102T060000
END:STANDARD
BEGIN:DAYLIGHT
TZOFFSETFROM:-0500
TZOFFSETTO:-0400
TZNAME:EDT
DTSTART:20150308T070000
END:DAYLIGHT
BEGIN:STANDARD
TZOFFSETFROM:-0400
TZOFFSETTO:-0500
TZNAME:EST
DTSTART:20151101T060000
END:STANDARD
BEGIN:DAYLIGHT
TZOFFSETFROM:-0500
TZOFFSETTO:-0400
TZNAME:EDT
DTSTART:20160313T070000
END:DAYLIGHT
BEGIN:STANDARD
TZOFFSETFROM:-0400
TZOFFSETTO:-0500
TZNAME:EST
DTSTART:20161106T060000
END:STANDARD
END:VTIMEZONE
BEGIN:VEVENT
DTSTART;TZID=America/New_York:20150510T100000
DTEND;TZID=America/New_York:20150510T170000
DTSTAMP:20260422T014020
CREATED:20150508T182156Z
LAST-MODIFIED:20150508T182156Z
UID:8616-1431252000-1431277200@playpittsburgh.com
SUMMARY:FREE Admission for Moms at Frick Museum
DESCRIPTION:With the purchase of one admission\, your mother\, mother-in-law or grandmother will receive free admission to the Clayton Historical Mansion at the Frick.
URL:https://playpittsburgh.com/event/free-admission-for-moms-at-frick-museum/2015-05-10/
LOCATION:The Frick Art & History Museum\, 7227 Reynolds Street \, Pittsburgh\, PA\, 15208\, United States
GEO:40.4484869;-79.9012971
X-APPLE-STRUCTURED-LOCATION;VALUE=URI;X-ADDRESS=The Frick Art & History Museum 7227 Reynolds Street  Pittsburgh PA 15208 United States;X-APPLE-RADIUS=500;X-TITLE=7227 Reynolds Street:geo:-79.9012971,40.4484869
END:VEVENT
BEGIN:VEVENT
DTSTART;TZID=America/New_York:20150509T100000
DTEND;TZID=America/New_York:20150509T170000
DTSTAMP:20260422T014020
CREATED:20150508T182156Z
LAST-MODIFIED:20150508T182156Z
UID:6026-1431165600-1431190800@playpittsburgh.com
SUMMARY:FREE Admission for Moms at Frick Museum
DESCRIPTION:With the purchase of one admission\, your mother\, mother-in-law or grandmother will receive free admission to the Clayton Historical Mansion at the Frick.
URL:https://playpittsburgh.com/event/free-admission-for-moms-at-frick-museum/2015-05-09/
LOCATION:The Frick Art & History Museum\, 7227 Reynolds Street \, Pittsburgh\, PA\, 15208\, United States
GEO:40.4484869;-79.9012971
X-APPLE-STRUCTURED-LOCATION;VALUE=URI;X-ADDRESS=The Frick Art & History Museum 7227 Reynolds Street  Pittsburgh PA 15208 United States;X-APPLE-RADIUS=500;X-TITLE=7227 Reynolds Street:geo:-79.9012971,40.4484869
END:VEVENT
END:VCALENDAR