BEGIN:VCALENDAR
VERSION:2.0
PRODID:-//Play Pittsburgh - ECPv6.15.20//NONSGML v1.0//EN
CALSCALE:GREGORIAN
METHOD:PUBLISH
X-ORIGINAL-URL:https://playpittsburgh.com
X-WR-CALDESC:Events for Play Pittsburgh
REFRESH-INTERVAL;VALUE=DURATION:PT1H
X-Robots-Tag:noindex
X-PUBLISHED-TTL:PT1H
BEGIN:VTIMEZONE
TZID:America/New_York
BEGIN:DAYLIGHT
TZOFFSETFROM:-0500
TZOFFSETTO:-0400
TZNAME:EDT
DTSTART:20130310T070000
END:DAYLIGHT
BEGIN:STANDARD
TZOFFSETFROM:-0400
TZOFFSETTO:-0500
TZNAME:EST
DTSTART:20131103T060000
END:STANDARD
BEGIN:DAYLIGHT
TZOFFSETFROM:-0500
TZOFFSETTO:-0400
TZNAME:EDT
DTSTART:20140309T070000
END:DAYLIGHT
BEGIN:STANDARD
TZOFFSETFROM:-0400
TZOFFSETTO:-0500
TZNAME:EST
DTSTART:20141102T060000
END:STANDARD
BEGIN:DAYLIGHT
TZOFFSETFROM:-0500
TZOFFSETTO:-0400
TZNAME:EDT
DTSTART:20150308T070000
END:DAYLIGHT
BEGIN:STANDARD
TZOFFSETFROM:-0400
TZOFFSETTO:-0500
TZNAME:EST
DTSTART:20151101T060000
END:STANDARD
END:VTIMEZONE
BEGIN:VEVENT
DTSTART;TZID=America/New_York:20141218T160000
DTEND;TZID=America/New_York:20141218T200000
DTSTAMP:20260422T024034
CREATED:20141208T205859Z
LAST-MODIFIED:20141208T205859Z
UID:8230-1418918400-1418932800@playpittsburgh.com
SUMMARY:FREE Admission at Carnegie Museum of Art & Natural History
DESCRIPTION:Free admission from 4—8 p.m. on December 11 and December 18 thanks to the generosity of the Jack Buncher Foundation and the Carnegie Museum of Art’s Women’s Committee. \nParking is $5 after 4 p.m.
URL:https://playpittsburgh.com/event/free-admission-at-carnegie-museum-of-art-natural-history/2014-12-18/
LOCATION:Carnegie Museum of Natural History\, 4400 Forbes Avenue\, Pittsburgh\, 15213\, United States
ATTACH;FMTTYPE=:
GEO:40.4435041;-79.9495881
X-APPLE-STRUCTURED-LOCATION;VALUE=URI;X-ADDRESS=Carnegie Museum of Natural History 4400 Forbes Avenue Pittsburgh 15213 United States;X-APPLE-RADIUS=500;X-TITLE=4400 Forbes Avenue:geo:-79.9495881,40.4435041
END:VEVENT
BEGIN:VEVENT
DTSTART;TZID=America/New_York:20141211T160000
DTEND;TZID=America/New_York:20141211T200000
DTSTAMP:20260422T024034
CREATED:20141208T205859Z
LAST-MODIFIED:20141208T205859Z
UID:5226-1418313600-1418328000@playpittsburgh.com
SUMMARY:FREE Admission at Carnegie Museum of Art & Natural History
DESCRIPTION:Free admission from 4—8 p.m. on December 11 and December 18 thanks to the generosity of the Jack Buncher Foundation and the Carnegie Museum of Art’s Women’s Committee. \nParking is $5 after 4 p.m.
URL:https://playpittsburgh.com/event/free-admission-at-carnegie-museum-of-art-natural-history/2014-12-11/
LOCATION:Carnegie Museum of Natural History\, 4400 Forbes Avenue\, Pittsburgh\, 15213\, United States
ATTACH;FMTTYPE=:
GEO:40.4435041;-79.9495881
X-APPLE-STRUCTURED-LOCATION;VALUE=URI;X-ADDRESS=Carnegie Museum of Natural History 4400 Forbes Avenue Pittsburgh 15213 United States;X-APPLE-RADIUS=500;X-TITLE=4400 Forbes Avenue:geo:-79.9495881,40.4435041
END:VEVENT
END:VCALENDAR