BEGIN:VCALENDAR
VERSION:2.0
PRODID:-//Play Pittsburgh - ECPv6.15.20//NONSGML v1.0//EN
CALSCALE:GREGORIAN
METHOD:PUBLISH
X-ORIGINAL-URL:https://playpittsburgh.com
X-WR-CALDESC:Events for Play Pittsburgh
REFRESH-INTERVAL;VALUE=DURATION:PT1H
X-Robots-Tag:noindex
X-PUBLISHED-TTL:PT1H
BEGIN:VTIMEZONE
TZID:America/New_York
BEGIN:DAYLIGHT
TZOFFSETFROM:-0500
TZOFFSETTO:-0400
TZNAME:EDT
DTSTART:20150308T070000
END:DAYLIGHT
BEGIN:STANDARD
TZOFFSETFROM:-0400
TZOFFSETTO:-0500
TZNAME:EST
DTSTART:20151101T060000
END:STANDARD
BEGIN:DAYLIGHT
TZOFFSETFROM:-0500
TZOFFSETTO:-0400
TZNAME:EDT
DTSTART:20160313T070000
END:DAYLIGHT
BEGIN:STANDARD
TZOFFSETFROM:-0400
TZOFFSETTO:-0500
TZNAME:EST
DTSTART:20161106T060000
END:STANDARD
BEGIN:DAYLIGHT
TZOFFSETFROM:-0500
TZOFFSETTO:-0400
TZNAME:EDT
DTSTART:20170312T070000
END:DAYLIGHT
BEGIN:STANDARD
TZOFFSETFROM:-0400
TZOFFSETTO:-0500
TZNAME:EST
DTSTART:20171105T060000
END:STANDARD
END:VTIMEZONE
BEGIN:VEVENT
DTSTART;TZID=America/New_York:20160705T180000
DTEND;TZID=America/New_York:20160705T210000
DTSTAMP:20260423T051054
CREATED:20160704T140532Z
LAST-MODIFIED:20160704T140532Z
UID:9393-1467741600-1467752400@playpittsburgh.com
SUMMARY:Family Fun Night at the Cabana Bar
DESCRIPTION:Escape (with the kids) to this outdoor tropical oasis located in Northern Pittsburgh! Kids’ entertainment includes contests\, live music\, magician\, balloon animals and SAND! so much SAND! Visit 6-9pm any Tuesday throughout the summer. \nYou can read more about our visit here.
URL:https://playpittsburgh.com/event/family-fun-night-cabana-bar/2016-07-05/
LOCATION:Cabana Bar\, 100 Village Club Dr\, Wexford\, PA\, 15090\, United States
CATEGORIES:Outdoor
GEO:40.633976;-80.0507874
X-APPLE-STRUCTURED-LOCATION;VALUE=URI;X-ADDRESS=Cabana Bar 100 Village Club Dr Wexford PA 15090 United States;X-APPLE-RADIUS=500;X-TITLE=100 Village Club Dr:geo:-80.0507874,40.633976
END:VEVENT
END:VCALENDAR