BEGIN:VCALENDAR
VERSION:2.0
PRODID:-//Play Pittsburgh - ECPv6.15.20//NONSGML v1.0//EN
CALSCALE:GREGORIAN
METHOD:PUBLISH
X-ORIGINAL-URL:https://playpittsburgh.com
X-WR-CALDESC:Events for Play Pittsburgh
REFRESH-INTERVAL;VALUE=DURATION:PT1H
X-Robots-Tag:noindex
X-PUBLISHED-TTL:PT1H
BEGIN:VTIMEZONE
TZID:America/New_York
BEGIN:DAYLIGHT
TZOFFSETFROM:-0500
TZOFFSETTO:-0400
TZNAME:EDT
DTSTART:20130310T070000
END:DAYLIGHT
BEGIN:STANDARD
TZOFFSETFROM:-0400
TZOFFSETTO:-0500
TZNAME:EST
DTSTART:20131103T060000
END:STANDARD
BEGIN:DAYLIGHT
TZOFFSETFROM:-0500
TZOFFSETTO:-0400
TZNAME:EDT
DTSTART:20140309T070000
END:DAYLIGHT
BEGIN:STANDARD
TZOFFSETFROM:-0400
TZOFFSETTO:-0500
TZNAME:EST
DTSTART:20141102T060000
END:STANDARD
BEGIN:DAYLIGHT
TZOFFSETFROM:-0500
TZOFFSETTO:-0400
TZNAME:EDT
DTSTART:20150308T070000
END:DAYLIGHT
BEGIN:STANDARD
TZOFFSETFROM:-0400
TZOFFSETTO:-0500
TZNAME:EST
DTSTART:20151101T060000
END:STANDARD
END:VTIMEZONE
BEGIN:VEVENT
DTSTART;TZID=America/New_York:20141226T110000
DTEND;TZID=America/New_York:20141226T160000
DTSTAMP:20260423T083058
CREATED:20141205T073349Z
LAST-MODIFIED:20141205T073349Z
UID:5199-1419591600-1419609600@playpittsburgh.com
SUMMARY:Family Fun Days at Phipps Conservatory
DESCRIPTION:Looking for something different to do with the kids during their holiday break from school? Look no further than Phipps’s Family Fun Days! Featuring a variety of engaging educational activities\, all free with the price of admission\, these special days at the Conservatory are filled with adventure and fun. Bring the whole family and immerse yourself in our wonderful world!
URL:https://playpittsburgh.com/event/family-fun-days-at-phipps-conservatory/2014-12-26/
LOCATION:Carnegie Science Center\, One Allegheny Ave.\, Pittsburgh\, PA\, 15212\, United States
GEO:40.4456737;-80.0180996
X-APPLE-STRUCTURED-LOCATION;VALUE=URI;X-ADDRESS=Carnegie Science Center One Allegheny Ave. Pittsburgh PA 15212 United States;X-APPLE-RADIUS=500;X-TITLE=One Allegheny Ave.:geo:-80.0180996,40.4456737
END:VEVENT
END:VCALENDAR