BEGIN:VCALENDAR
VERSION:2.0
PRODID:-//Play Pittsburgh - ECPv6.15.20//NONSGML v1.0//EN
CALSCALE:GREGORIAN
METHOD:PUBLISH
X-WR-CALNAME:Play Pittsburgh
X-ORIGINAL-URL:https://playpittsburgh.com
X-WR-CALDESC:Events for Play Pittsburgh
REFRESH-INTERVAL;VALUE=DURATION:PT1H
X-Robots-Tag:noindex
X-PUBLISHED-TTL:PT1H
BEGIN:VTIMEZONE
TZID:America/New_York
BEGIN:DAYLIGHT
TZOFFSETFROM:-0500
TZOFFSETTO:-0400
TZNAME:EDT
DTSTART:20150308T070000
END:DAYLIGHT
BEGIN:STANDARD
TZOFFSETFROM:-0400
TZOFFSETTO:-0500
TZNAME:EST
DTSTART:20151101T060000
END:STANDARD
BEGIN:DAYLIGHT
TZOFFSETFROM:-0500
TZOFFSETTO:-0400
TZNAME:EDT
DTSTART:20160313T070000
END:DAYLIGHT
BEGIN:STANDARD
TZOFFSETFROM:-0400
TZOFFSETTO:-0500
TZNAME:EST
DTSTART:20161106T060000
END:STANDARD
BEGIN:DAYLIGHT
TZOFFSETFROM:-0500
TZOFFSETTO:-0400
TZNAME:EDT
DTSTART:20170312T070000
END:DAYLIGHT
BEGIN:STANDARD
TZOFFSETFROM:-0400
TZOFFSETTO:-0500
TZNAME:EST
DTSTART:20171105T060000
END:STANDARD
END:VTIMEZONE
BEGIN:VEVENT
DTSTART;TZID=America/New_York:20160703T110000
DTEND;TZID=America/New_York:20160703T220000
DTSTAMP:20260421T220000
CREATED:20160701T015038Z
LAST-MODIFIED:20160701T015038Z
UID:9269-1467543600-1467583200@playpittsburgh.com
SUMMARY:Ellwood City Festival
DESCRIPTION:Make plans to attend Ellwood City area’s largest community event celebrating 36 years of fun\, food and friendships! \nThe Festival  is located on the grounds of Ellwood City’s Ewing Park neighborhood and is easily accessible for local residents as well as visitors attending from afar. \nThe Festival  is host to a wide variety of handmade arts and crafts\, delicious ethnic foods and beverages as well as all day entertainment.   Art lovers will enjoy the Juried Art Show located in historic Trefoil Lodge. \nCOMMUNITY DANCE PARTY FROM 8pm – 10 pm WITH DJ NIKKI
URL:https://playpittsburgh.com/event/ellwood-city-festival/2016-07-03/
LOCATION:Ewing Park\, 330 Sims St\, Ellwood City \, PA\, 16117\, United States
CATEGORIES:Festivals,Outdoor
GEO:40.864058;-80.274297
X-APPLE-STRUCTURED-LOCATION;VALUE=URI;X-ADDRESS=Ewing Park 330 Sims St Ellwood City  PA 16117 United States;X-APPLE-RADIUS=500;X-TITLE=330 Sims St:geo:-80.274297,40.864058
END:VEVENT
BEGIN:VEVENT
DTSTART;TZID=America/New_York:20160702T110000
DTEND;TZID=America/New_York:20160702T220000
DTSTAMP:20260421T220000
CREATED:20160701T015038Z
LAST-MODIFIED:20160701T015038Z
UID:9268-1467457200-1467496800@playpittsburgh.com
SUMMARY:Ellwood City Festival
DESCRIPTION:Make plans to attend Ellwood City area’s largest community event celebrating 36 years of fun\, food and friendships! \nThe Festival  is located on the grounds of Ellwood City’s Ewing Park neighborhood and is easily accessible for local residents as well as visitors attending from afar. \nThe Festival  is host to a wide variety of handmade arts and crafts\, delicious ethnic foods and beverages as well as all day entertainment.   Art lovers will enjoy the Juried Art Show located in historic Trefoil Lodge. \nCOMMUNITY DANCE PARTY FROM 8pm – 10 pm WITH DJ NIKKI
URL:https://playpittsburgh.com/event/ellwood-city-festival/2016-07-02/
LOCATION:Ewing Park\, 330 Sims St\, Ellwood City \, PA\, 16117\, United States
CATEGORIES:Festivals,Outdoor
GEO:40.864058;-80.274297
X-APPLE-STRUCTURED-LOCATION;VALUE=URI;X-ADDRESS=Ewing Park 330 Sims St Ellwood City  PA 16117 United States;X-APPLE-RADIUS=500;X-TITLE=330 Sims St:geo:-80.274297,40.864058
END:VEVENT
BEGIN:VEVENT
DTSTART;TZID=America/New_York:20160701T110000
DTEND;TZID=America/New_York:20160701T220000
DTSTAMP:20260421T220000
CREATED:20160701T015038Z
LAST-MODIFIED:20160701T015038Z
UID:9266-1467370800-1467410400@playpittsburgh.com
SUMMARY:Ellwood City Festival
DESCRIPTION:Make plans to attend Ellwood City area’s largest community event celebrating 36 years of fun\, food and friendships! \nThe Festival  is located on the grounds of Ellwood City’s Ewing Park neighborhood and is easily accessible for local residents as well as visitors attending from afar. \nThe Festival  is host to a wide variety of handmade arts and crafts\, delicious ethnic foods and beverages as well as all day entertainment.   Art lovers will enjoy the Juried Art Show located in historic Trefoil Lodge. \nCOMMUNITY DANCE PARTY FROM 8pm – 10 pm WITH DJ NIKKI
URL:https://playpittsburgh.com/event/ellwood-city-festival/2016-07-01/
LOCATION:Ewing Park\, 330 Sims St\, Ellwood City \, PA\, 16117\, United States
CATEGORIES:Festivals,Outdoor
GEO:40.864058;-80.274297
X-APPLE-STRUCTURED-LOCATION;VALUE=URI;X-ADDRESS=Ewing Park 330 Sims St Ellwood City  PA 16117 United States;X-APPLE-RADIUS=500;X-TITLE=330 Sims St:geo:-80.274297,40.864058
END:VEVENT
END:VCALENDAR