BEGIN:VCALENDAR
VERSION:2.0
PRODID:-//Play Pittsburgh - ECPv6.15.20//NONSGML v1.0//EN
CALSCALE:GREGORIAN
METHOD:PUBLISH
X-WR-CALNAME:Play Pittsburgh
X-ORIGINAL-URL:https://playpittsburgh.com
X-WR-CALDESC:Events for Play Pittsburgh
REFRESH-INTERVAL;VALUE=DURATION:PT1H
X-Robots-Tag:noindex
X-PUBLISHED-TTL:PT1H
BEGIN:VTIMEZONE
TZID:America/New_York
BEGIN:DAYLIGHT
TZOFFSETFROM:-0500
TZOFFSETTO:-0400
TZNAME:EDT
DTSTART:20140309T070000
END:DAYLIGHT
BEGIN:STANDARD
TZOFFSETFROM:-0400
TZOFFSETTO:-0500
TZNAME:EST
DTSTART:20141102T060000
END:STANDARD
BEGIN:DAYLIGHT
TZOFFSETFROM:-0500
TZOFFSETTO:-0400
TZNAME:EDT
DTSTART:20150308T070000
END:DAYLIGHT
BEGIN:STANDARD
TZOFFSETFROM:-0400
TZOFFSETTO:-0500
TZNAME:EST
DTSTART:20151101T060000
END:STANDARD
BEGIN:DAYLIGHT
TZOFFSETFROM:-0500
TZOFFSETTO:-0400
TZNAME:EDT
DTSTART:20160313T070000
END:DAYLIGHT
BEGIN:STANDARD
TZOFFSETFROM:-0400
TZOFFSETTO:-0500
TZNAME:EST
DTSTART:20161106T060000
END:STANDARD
END:VTIMEZONE
BEGIN:VEVENT
DTSTART;TZID=America/New_York:20150328T103000
DTEND;TZID=America/New_York:20150328T133000
DTSTAMP:20260423T082740
CREATED:20150325T132915Z
LAST-MODIFIED:20150325T132915Z
UID:5639-1427538600-1427549400@playpittsburgh.com
SUMMARY:Egg Hunts at Trax Farm
DESCRIPTION:Egg Hunts / Outdoors Weather Permitting \nHunt for Easter eggs hidden in the Egg Patch! Three age appropriate patches. Hunts start every 30 minutes beginning at 10:30am. \nDates: March 28-29 & April 3-4\nStart Time: 10:30am\nLast Hunt: 1:30pm \nReservation: Not required; advance ticket purchase recommended. \nOther Easter Activities Include: \n\nBounce House\nPetting Zoo\nEgg Toss\nPony Rides
URL:https://playpittsburgh.com/event/egg-hunts-at-trax-farm/2015-03-28/
LOCATION:Trax Farm\, 528 Trax Rd\, Finleyville \, PA\, 15332\, United States
GEO:40.2765472;-80.0307832
X-APPLE-STRUCTURED-LOCATION;VALUE=URI;X-ADDRESS=Trax Farm 528 Trax Rd Finleyville  PA 15332 United States;X-APPLE-RADIUS=500;X-TITLE=528 Trax Rd:geo:-80.0307832,40.2765472
END:VEVENT
END:VCALENDAR