BEGIN:VCALENDAR
VERSION:2.0
PRODID:-//Play Pittsburgh - ECPv6.15.20//NONSGML v1.0//EN
CALSCALE:GREGORIAN
METHOD:PUBLISH
X-WR-CALNAME:Play Pittsburgh
X-ORIGINAL-URL:https://playpittsburgh.com
X-WR-CALDESC:Events for Play Pittsburgh
REFRESH-INTERVAL;VALUE=DURATION:PT1H
X-Robots-Tag:noindex
X-PUBLISHED-TTL:PT1H
BEGIN:VTIMEZONE
TZID:America/New_York
BEGIN:DAYLIGHT
TZOFFSETFROM:-0500
TZOFFSETTO:-0400
TZNAME:EDT
DTSTART:20140309T070000
END:DAYLIGHT
BEGIN:STANDARD
TZOFFSETFROM:-0400
TZOFFSETTO:-0500
TZNAME:EST
DTSTART:20141102T060000
END:STANDARD
BEGIN:DAYLIGHT
TZOFFSETFROM:-0500
TZOFFSETTO:-0400
TZNAME:EDT
DTSTART:20150308T070000
END:DAYLIGHT
BEGIN:STANDARD
TZOFFSETFROM:-0400
TZOFFSETTO:-0500
TZNAME:EST
DTSTART:20151101T060000
END:STANDARD
BEGIN:DAYLIGHT
TZOFFSETFROM:-0500
TZOFFSETTO:-0400
TZNAME:EDT
DTSTART:20160313T070000
END:DAYLIGHT
BEGIN:STANDARD
TZOFFSETFROM:-0400
TZOFFSETTO:-0500
TZNAME:EST
DTSTART:20161106T060000
END:STANDARD
END:VTIMEZONE
BEGIN:VEVENT
DTSTART;VALUE=DATE:20150510
DTEND;VALUE=DATE:20150511
DTSTAMP:20260422T033756
CREATED:20150508T181527Z
LAST-MODIFIED:20150508T181527Z
UID:8615-1431216000-1431302399@playpittsburgh.com
SUMMARY:Disney FANTASIA presented by Pittsburgh Symphony Orchestra
DESCRIPTION:The Pittsburgh Symphony Orchestra will delight you with a live performance accompanying scenes from Walt Disney’s original Fantasia (1940) and Disney Fantasia 2000. \nPerformances \nSat\, May 9\, 2015 @ 7:30 PM\nSun\, May 10\, 2015 @ 2:30 PM
URL:https://playpittsburgh.com/event/disney-fantasia-presented-by-pittsburgh-symphony-orchestra/2015-05-10/
LOCATION:Heinz Hall\, 600 Penn Ave\, Pittsburgh\, PA\, 15222\, United States
GEO:40.4427239;-80.0017558
X-APPLE-STRUCTURED-LOCATION;VALUE=URI;X-ADDRESS=Heinz Hall 600 Penn Ave Pittsburgh PA 15222 United States;X-APPLE-RADIUS=500;X-TITLE=600 Penn Ave:geo:-80.0017558,40.4427239
END:VEVENT
BEGIN:VEVENT
DTSTART;VALUE=DATE:20150509
DTEND;VALUE=DATE:20150510
DTSTAMP:20260422T033756
CREATED:20150508T181527Z
LAST-MODIFIED:20150508T181527Z
UID:6024-1431129600-1431215999@playpittsburgh.com
SUMMARY:Disney FANTASIA presented by Pittsburgh Symphony Orchestra
DESCRIPTION:The Pittsburgh Symphony Orchestra will delight you with a live performance accompanying scenes from Walt Disney’s original Fantasia (1940) and Disney Fantasia 2000. \nPerformances \nSat\, May 9\, 2015 @ 7:30 PM\nSun\, May 10\, 2015 @ 2:30 PM
URL:https://playpittsburgh.com/event/disney-fantasia-presented-by-pittsburgh-symphony-orchestra/2015-05-09/
LOCATION:Heinz Hall\, 600 Penn Ave\, Pittsburgh\, PA\, 15222\, United States
GEO:40.4427239;-80.0017558
X-APPLE-STRUCTURED-LOCATION;VALUE=URI;X-ADDRESS=Heinz Hall 600 Penn Ave Pittsburgh PA 15222 United States;X-APPLE-RADIUS=500;X-TITLE=600 Penn Ave:geo:-80.0017558,40.4427239
END:VEVENT
END:VCALENDAR