BEGIN:VCALENDAR
VERSION:2.0
PRODID:-//Play Pittsburgh - ECPv6.15.20//NONSGML v1.0//EN
CALSCALE:GREGORIAN
METHOD:PUBLISH
X-ORIGINAL-URL:https://playpittsburgh.com
X-WR-CALDESC:Events for Play Pittsburgh
REFRESH-INTERVAL;VALUE=DURATION:PT1H
X-Robots-Tag:noindex
X-PUBLISHED-TTL:PT1H
BEGIN:VTIMEZONE
TZID:America/New_York
BEGIN:DAYLIGHT
TZOFFSETFROM:-0500
TZOFFSETTO:-0400
TZNAME:EDT
DTSTART:20130310T070000
END:DAYLIGHT
BEGIN:STANDARD
TZOFFSETFROM:-0400
TZOFFSETTO:-0500
TZNAME:EST
DTSTART:20131103T060000
END:STANDARD
BEGIN:DAYLIGHT
TZOFFSETFROM:-0500
TZOFFSETTO:-0400
TZNAME:EDT
DTSTART:20140309T070000
END:DAYLIGHT
BEGIN:STANDARD
TZOFFSETFROM:-0400
TZOFFSETTO:-0500
TZNAME:EST
DTSTART:20141102T060000
END:STANDARD
BEGIN:DAYLIGHT
TZOFFSETFROM:-0500
TZOFFSETTO:-0400
TZNAME:EDT
DTSTART:20150308T070000
END:DAYLIGHT
BEGIN:STANDARD
TZOFFSETFROM:-0400
TZOFFSETTO:-0500
TZNAME:EST
DTSTART:20151101T060000
END:STANDARD
END:VTIMEZONE
BEGIN:VEVENT
DTSTART;VALUE=DATE:20141230
DTEND;VALUE=DATE:20141231
DTSTAMP:20260422T101131
CREATED:20141203T043140Z
LAST-MODIFIED:20141203T043140Z
UID:8115-1419897600-1419983999@playpittsburgh.com
SUMMARY:Discount Tuesdays at Cinemark Theaters
DESCRIPTION:Movies are discounted at participating Cinemark Theaters! \n\nMonaca\, Cinemark Center Township Marketplace – $5.25\nMonroeville\, Cinemark Monroeville Mall – $5.25\nPittsburgh\, Cinemark North Hills and XD – $5.50\nRobinson Township\, Cinemark Robinson Township and XD – $5.50\nTarentum\, Cinemark Galleria at Pittsburgh Mills and IMAX – $5.25
URL:https://playpittsburgh.com/event/discount-tuesdays-at-cinemark-theaters/2014-12-30/
END:VEVENT
BEGIN:VEVENT
DTSTART;VALUE=DATE:20141223
DTEND;VALUE=DATE:20141224
DTSTAMP:20260422T101131
CREATED:20141203T043140Z
LAST-MODIFIED:20141203T043140Z
UID:8114-1419292800-1419379199@playpittsburgh.com
SUMMARY:Discount Tuesdays at Cinemark Theaters
DESCRIPTION:Movies are discounted at participating Cinemark Theaters! \n\nMonaca\, Cinemark Center Township Marketplace – $5.25\nMonroeville\, Cinemark Monroeville Mall – $5.25\nPittsburgh\, Cinemark North Hills and XD – $5.50\nRobinson Township\, Cinemark Robinson Township and XD – $5.50\nTarentum\, Cinemark Galleria at Pittsburgh Mills and IMAX – $5.25
URL:https://playpittsburgh.com/event/discount-tuesdays-at-cinemark-theaters/2014-12-23/
END:VEVENT
BEGIN:VEVENT
DTSTART;VALUE=DATE:20141216
DTEND;VALUE=DATE:20141217
DTSTAMP:20260422T101131
CREATED:20141203T043140Z
LAST-MODIFIED:20141203T043140Z
UID:8113-1418688000-1418774399@playpittsburgh.com
SUMMARY:Discount Tuesdays at Cinemark Theaters
DESCRIPTION:Movies are discounted at participating Cinemark Theaters! \n\nMonaca\, Cinemark Center Township Marketplace – $5.25\nMonroeville\, Cinemark Monroeville Mall – $5.25\nPittsburgh\, Cinemark North Hills and XD – $5.50\nRobinson Township\, Cinemark Robinson Township and XD – $5.50\nTarentum\, Cinemark Galleria at Pittsburgh Mills and IMAX – $5.25
URL:https://playpittsburgh.com/event/discount-tuesdays-at-cinemark-theaters/2014-12-16/
END:VEVENT
BEGIN:VEVENT
DTSTART;VALUE=DATE:20141209
DTEND;VALUE=DATE:20141210
DTSTAMP:20260422T101131
CREATED:20141203T043140Z
LAST-MODIFIED:20141203T043140Z
UID:8112-1418083200-1418169599@playpittsburgh.com
SUMMARY:Discount Tuesdays at Cinemark Theaters
DESCRIPTION:Movies are discounted at participating Cinemark Theaters! \n\nMonaca\, Cinemark Center Township Marketplace – $5.25\nMonroeville\, Cinemark Monroeville Mall – $5.25\nPittsburgh\, Cinemark North Hills and XD – $5.50\nRobinson Township\, Cinemark Robinson Township and XD – $5.50\nTarentum\, Cinemark Galleria at Pittsburgh Mills and IMAX – $5.25
URL:https://playpittsburgh.com/event/discount-tuesdays-at-cinemark-theaters/2014-12-09/
END:VEVENT
BEGIN:VEVENT
DTSTART;VALUE=DATE:20141202
DTEND;VALUE=DATE:20141203
DTSTAMP:20260422T101131
CREATED:20141203T043140Z
LAST-MODIFIED:20141203T043140Z
UID:4976-1417478400-1417564799@playpittsburgh.com
SUMMARY:Discount Tuesdays at Cinemark Theaters
DESCRIPTION:Movies are discounted at participating Cinemark Theaters! \n\nMonaca\, Cinemark Center Township Marketplace – $5.25\nMonroeville\, Cinemark Monroeville Mall – $5.25\nPittsburgh\, Cinemark North Hills and XD – $5.50\nRobinson Township\, Cinemark Robinson Township and XD – $5.50\nTarentum\, Cinemark Galleria at Pittsburgh Mills and IMAX – $5.25
URL:https://playpittsburgh.com/event/discount-tuesdays-at-cinemark-theaters/2014-12-02/
END:VEVENT
END:VCALENDAR