BEGIN:VCALENDAR
VERSION:2.0
PRODID:-//Play Pittsburgh - ECPv6.15.20//NONSGML v1.0//EN
CALSCALE:GREGORIAN
METHOD:PUBLISH
X-WR-CALNAME:Play Pittsburgh
X-ORIGINAL-URL:https://playpittsburgh.com
X-WR-CALDESC:Events for Play Pittsburgh
REFRESH-INTERVAL;VALUE=DURATION:PT1H
X-Robots-Tag:noindex
X-PUBLISHED-TTL:PT1H
BEGIN:VTIMEZONE
TZID:America/New_York
BEGIN:DAYLIGHT
TZOFFSETFROM:-0500
TZOFFSETTO:-0400
TZNAME:EDT
DTSTART:20130310T070000
END:DAYLIGHT
BEGIN:STANDARD
TZOFFSETFROM:-0400
TZOFFSETTO:-0500
TZNAME:EST
DTSTART:20131103T060000
END:STANDARD
BEGIN:DAYLIGHT
TZOFFSETFROM:-0500
TZOFFSETTO:-0400
TZNAME:EDT
DTSTART:20140309T070000
END:DAYLIGHT
BEGIN:STANDARD
TZOFFSETFROM:-0400
TZOFFSETTO:-0500
TZNAME:EST
DTSTART:20141102T060000
END:STANDARD
BEGIN:DAYLIGHT
TZOFFSETFROM:-0500
TZOFFSETTO:-0400
TZNAME:EDT
DTSTART:20150308T070000
END:DAYLIGHT
BEGIN:STANDARD
TZOFFSETFROM:-0400
TZOFFSETTO:-0500
TZNAME:EST
DTSTART:20151101T060000
END:STANDARD
END:VTIMEZONE
BEGIN:VEVENT
DTSTART;TZID=America/New_York:20140717T190000
DTEND;TZID=America/New_York:20140717T220000
DTSTAMP:20260422T125000
CREATED:20140507T182658Z
LAST-MODIFIED:20140507T182658Z
UID:1218-1405623600-1405634400@playpittsburgh.com
SUMMARY:Community Park Concert Series
DESCRIPTION:Free concert series at Cranberry Community Park. Five dates this summer\, Thursdays beginning at 7pm. \n  \nJuly 17 – Michael Christopher \nBring a lawn chair or blanket Despite growing up in a small rural town\, singer/songwriter/guitarist Michael Christopher didn’t discover country music until his college days\, when he found that its storytelling left a lingering impression. In 2008\, he assembled a group of experienced musicians in the Pittsburgh area to form a band. The band has played festivals\, fairs\, celebrations and private events\, as well as broadcast performances and opening for national acts. \nJuly 24 – Aeolian Winds of Pittsburgh.  Dedicated to composing\, promoting and performing chamber music for wind instruments\, the Aeolian Winds of Pittsburgh was founded in 2003 to bring high-quality wind music to the greater Pittsburgh community.  The quintet performs in concert halls\, local cultural events\, private homes\, and is regularly featured on WQED-FM.  For their Cranberry concert\, the ensemble will offer a program of pops music and summer favorites. \nJuly 31 – Kardaz. – Kardaz is a six-member pop rock band styled after American and British bands of the 1960s and ‘70s.  The group flawlessly replicates the harmonic vocals and visuals of that era for audience throughout western Pennsylvania.  In addition to vocals\, Kardaz incorporates flute\, saxophone\, recorder\, 12-string guitar\, harmonica\, and percussions\, into their performances.   \nAugust 7 – The Stickers.  The Stickers – three Western Pennsylvania brothers with a love of country music – have taken their passion onto the global stage with concerts and airplay in both the U.S. and Europe\, including several top ten songs overseas.  Two-time CMA Festival artists\, The Stickers have appeared with some of the genre’s leading performers and have been named Billboard song writing winners on three occasions.  \nAugust 14 – School of Rock.  For more than 15 years\, School of Rock – a music school started in Philadelphia that currently includes 130 franchisees in seven different countries\, including one in Wexford – has inspired kids to rock on stage and in life.  Its students have played thousands of concerts\, to more than 100\,000 people\, including music festivals Lollapalooza\, Austin City Limits\, and Summerfest.   Its Cranberry concert will focus on cover songs from the 1960s to today.  
URL:https://playpittsburgh.com/event/community-park-concert-series/2014-07-17/
LOCATION:Cranberry Community Park\, Ernie Mashuda Drive\, Cranberry Township\, PA\, 16066\, United States
CATEGORIES:Free,Outdoor,Performing Arts
GEO:40.711822;-80.1070393
X-APPLE-STRUCTURED-LOCATION;VALUE=URI;X-ADDRESS=Cranberry Community Park Ernie Mashuda Drive Cranberry Township PA 16066 United States;X-APPLE-RADIUS=500;X-TITLE=Ernie Mashuda Drive:geo:-80.1070393,40.711822
END:VEVENT
END:VCALENDAR