BEGIN:VCALENDAR
VERSION:2.0
PRODID:-//Play Pittsburgh - ECPv6.15.20//NONSGML v1.0//EN
CALSCALE:GREGORIAN
METHOD:PUBLISH
X-ORIGINAL-URL:https://playpittsburgh.com
X-WR-CALDESC:Events for Play Pittsburgh
REFRESH-INTERVAL;VALUE=DURATION:PT1H
X-Robots-Tag:noindex
X-PUBLISHED-TTL:PT1H
BEGIN:VTIMEZONE
TZID:America/New_York
BEGIN:DAYLIGHT
TZOFFSETFROM:-0500
TZOFFSETTO:-0400
TZNAME:EDT
DTSTART:20140309T070000
END:DAYLIGHT
BEGIN:STANDARD
TZOFFSETFROM:-0400
TZOFFSETTO:-0500
TZNAME:EST
DTSTART:20141102T060000
END:STANDARD
BEGIN:DAYLIGHT
TZOFFSETFROM:-0500
TZOFFSETTO:-0400
TZNAME:EDT
DTSTART:20150308T070000
END:DAYLIGHT
BEGIN:STANDARD
TZOFFSETFROM:-0400
TZOFFSETTO:-0500
TZNAME:EST
DTSTART:20151101T060000
END:STANDARD
BEGIN:DAYLIGHT
TZOFFSETFROM:-0500
TZOFFSETTO:-0400
TZNAME:EDT
DTSTART:20160313T070000
END:DAYLIGHT
BEGIN:STANDARD
TZOFFSETFROM:-0400
TZOFFSETTO:-0500
TZNAME:EST
DTSTART:20161106T060000
END:STANDARD
END:VTIMEZONE
BEGIN:VEVENT
DTSTART;TZID=America/New_York:20150430T180000
DTEND;TZID=America/New_York:20150430T190000
DTSTAMP:20260422T092421
CREATED:20150326T213628Z
LAST-MODIFIED:20150326T213628Z
UID:8579-1430416800-1430420400@playpittsburgh.com
SUMMARY:Comic Lab 102 at Learning Express Robinson
DESCRIPTION:Comic Lab 102 – 5-week drawing course\, every Thursday in April at Learning Express in Robinson. \n$15- includes a sketch pad\, pencils\, eraser and a printed copy of the final comic book as well as 5 weeks of instruction. \nSpace is limited for this event\, so please call the store to RSVP. \n\nThursday\, April 2nd: Week 1- Recap/ 102 Intro/ Scripting/ Doodle/ Jam Session\nThursday\, April 9th: Week 2- Cartoons/ Style and Animation\nThursday\, April 16th: Week 3- Caricatures\nThursday\, April 23rd: Week 4- Inking\nThursday\, April 30th: Week 5- Coloring Party
URL:https://playpittsburgh.com/event/comic-lab-102-at-learning-express-robinson/2015-04-30/
LOCATION:PA\, United States
END:VEVENT
BEGIN:VEVENT
DTSTART;TZID=America/New_York:20150423T180000
DTEND;TZID=America/New_York:20150423T190000
DTSTAMP:20260422T092421
CREATED:20150326T213628Z
LAST-MODIFIED:20150326T213628Z
UID:8578-1429812000-1429815600@playpittsburgh.com
SUMMARY:Comic Lab 102 at Learning Express Robinson
DESCRIPTION:Comic Lab 102 – 5-week drawing course\, every Thursday in April at Learning Express in Robinson. \n$15- includes a sketch pad\, pencils\, eraser and a printed copy of the final comic book as well as 5 weeks of instruction. \nSpace is limited for this event\, so please call the store to RSVP. \n\nThursday\, April 2nd: Week 1- Recap/ 102 Intro/ Scripting/ Doodle/ Jam Session\nThursday\, April 9th: Week 2- Cartoons/ Style and Animation\nThursday\, April 16th: Week 3- Caricatures\nThursday\, April 23rd: Week 4- Inking\nThursday\, April 30th: Week 5- Coloring Party
URL:https://playpittsburgh.com/event/comic-lab-102-at-learning-express-robinson/2015-04-23/
LOCATION:PA\, United States
END:VEVENT
BEGIN:VEVENT
DTSTART;TZID=America/New_York:20150416T180000
DTEND;TZID=America/New_York:20150416T190000
DTSTAMP:20260422T092421
CREATED:20150326T213628Z
LAST-MODIFIED:20150326T213628Z
UID:8564-1429207200-1429210800@playpittsburgh.com
SUMMARY:Comic Lab 102 at Learning Express Robinson
DESCRIPTION:Comic Lab 102 – 5-week drawing course\, every Thursday in April at Learning Express in Robinson. \n$15- includes a sketch pad\, pencils\, eraser and a printed copy of the final comic book as well as 5 weeks of instruction. \nSpace is limited for this event\, so please call the store to RSVP. \n\nThursday\, April 2nd: Week 1- Recap/ 102 Intro/ Scripting/ Doodle/ Jam Session\nThursday\, April 9th: Week 2- Cartoons/ Style and Animation\nThursday\, April 16th: Week 3- Caricatures\nThursday\, April 23rd: Week 4- Inking\nThursday\, April 30th: Week 5- Coloring Party
URL:https://playpittsburgh.com/event/comic-lab-102-at-learning-express-robinson/2015-04-16/
LOCATION:PA\, United States
END:VEVENT
BEGIN:VEVENT
DTSTART;TZID=America/New_York:20150409T180000
DTEND;TZID=America/New_York:20150409T190000
DTSTAMP:20260422T092421
CREATED:20150326T213628Z
LAST-MODIFIED:20150326T213628Z
UID:8563-1428602400-1428606000@playpittsburgh.com
SUMMARY:Comic Lab 102 at Learning Express Robinson
DESCRIPTION:Comic Lab 102 – 5-week drawing course\, every Thursday in April at Learning Express in Robinson. \n$15- includes a sketch pad\, pencils\, eraser and a printed copy of the final comic book as well as 5 weeks of instruction. \nSpace is limited for this event\, so please call the store to RSVP. \n\nThursday\, April 2nd: Week 1- Recap/ 102 Intro/ Scripting/ Doodle/ Jam Session\nThursday\, April 9th: Week 2- Cartoons/ Style and Animation\nThursday\, April 16th: Week 3- Caricatures\nThursday\, April 23rd: Week 4- Inking\nThursday\, April 30th: Week 5- Coloring Party
URL:https://playpittsburgh.com/event/comic-lab-102-at-learning-express-robinson/2015-04-09/
LOCATION:PA\, United States
END:VEVENT
BEGIN:VEVENT
DTSTART;TZID=America/New_York:20150402T180000
DTEND;TZID=America/New_York:20150402T190000
DTSTAMP:20260422T092421
CREATED:20150326T213628Z
LAST-MODIFIED:20150326T213628Z
UID:5896-1427997600-1428001200@playpittsburgh.com
SUMMARY:Comic Lab 102 at Learning Express Robinson
DESCRIPTION:Comic Lab 102 – 5-week drawing course\, every Thursday in April at Learning Express in Robinson. \n$15- includes a sketch pad\, pencils\, eraser and a printed copy of the final comic book as well as 5 weeks of instruction. \nSpace is limited for this event\, so please call the store to RSVP. \n\nThursday\, April 2nd: Week 1- Recap/ 102 Intro/ Scripting/ Doodle/ Jam Session\nThursday\, April 9th: Week 2- Cartoons/ Style and Animation\nThursday\, April 16th: Week 3- Caricatures\nThursday\, April 23rd: Week 4- Inking\nThursday\, April 30th: Week 5- Coloring Party
URL:https://playpittsburgh.com/event/comic-lab-102-at-learning-express-robinson/2015-04-02/
LOCATION:PA\, United States
END:VEVENT
END:VCALENDAR