BEGIN:VCALENDAR
VERSION:2.0
PRODID:-//Play Pittsburgh - ECPv6.15.20//NONSGML v1.0//EN
CALSCALE:GREGORIAN
METHOD:PUBLISH
X-ORIGINAL-URL:https://playpittsburgh.com
X-WR-CALDESC:Events for Play Pittsburgh
REFRESH-INTERVAL;VALUE=DURATION:PT1H
X-Robots-Tag:noindex
X-PUBLISHED-TTL:PT1H
BEGIN:VTIMEZONE
TZID:America/New_York
BEGIN:DAYLIGHT
TZOFFSETFROM:-0500
TZOFFSETTO:-0400
TZNAME:EDT
DTSTART:20130310T070000
END:DAYLIGHT
BEGIN:STANDARD
TZOFFSETFROM:-0400
TZOFFSETTO:-0500
TZNAME:EST
DTSTART:20131103T060000
END:STANDARD
BEGIN:DAYLIGHT
TZOFFSETFROM:-0500
TZOFFSETTO:-0400
TZNAME:EDT
DTSTART:20140309T070000
END:DAYLIGHT
BEGIN:STANDARD
TZOFFSETFROM:-0400
TZOFFSETTO:-0500
TZNAME:EST
DTSTART:20141102T060000
END:STANDARD
BEGIN:DAYLIGHT
TZOFFSETFROM:-0500
TZOFFSETTO:-0400
TZNAME:EDT
DTSTART:20150308T070000
END:DAYLIGHT
BEGIN:STANDARD
TZOFFSETFROM:-0400
TZOFFSETTO:-0500
TZNAME:EST
DTSTART:20151101T060000
END:STANDARD
END:VTIMEZONE
BEGIN:VEVENT
DTSTART;TZID=America/New_York:20140701T100000
DTEND;TZID=America/New_York:20140701T113000
DTSTAMP:20260423T051131
CREATED:20140629T180636Z
LAST-MODIFIED:20140629T180636Z
UID:2363-1404208800-1404214200@playpittsburgh.com
SUMMARY:Cinemark Summer Movie Clubhouse
DESCRIPTION:Family friendly movies are just $1 during Cinemark’s Summer Movie Clubhouse. Two locations in Pittsburgh: Robinson (Tuesdays) and Monroeville (Wednesdays). See their flyer for $1 OFF coupon on Snack Packs.
URL:https://playpittsburgh.com/event/cinemark-summer-movie-clubhouse-2/2014-07-01/
LOCATION:Cinemark Robinson\, 2100 Settlers Ridge Center Drive\, Pittsburgh\, PA\, 15205\, United States
CATEGORIES:Indoor Play
GEO:40.4400312;-80.1494184
X-APPLE-STRUCTURED-LOCATION;VALUE=URI;X-ADDRESS=Cinemark Robinson 2100 Settlers Ridge Center Drive Pittsburgh PA 15205 United States;X-APPLE-RADIUS=500;X-TITLE=2100 Settlers Ridge Center Drive:geo:-80.1494184,40.4400312
END:VEVENT
END:VCALENDAR