BEGIN:VCALENDAR
VERSION:2.0
PRODID:-//Play Pittsburgh - ECPv6.15.20//NONSGML v1.0//EN
CALSCALE:GREGORIAN
METHOD:PUBLISH
X-ORIGINAL-URL:https://playpittsburgh.com
X-WR-CALDESC:Events for Play Pittsburgh
REFRESH-INTERVAL;VALUE=DURATION:PT1H
X-Robots-Tag:noindex
X-PUBLISHED-TTL:PT1H
BEGIN:VTIMEZONE
TZID:America/New_York
BEGIN:DAYLIGHT
TZOFFSETFROM:-0500
TZOFFSETTO:-0400
TZNAME:EDT
DTSTART:20140309T070000
END:DAYLIGHT
BEGIN:STANDARD
TZOFFSETFROM:-0400
TZOFFSETTO:-0500
TZNAME:EST
DTSTART:20141102T060000
END:STANDARD
BEGIN:DAYLIGHT
TZOFFSETFROM:-0500
TZOFFSETTO:-0400
TZNAME:EDT
DTSTART:20150308T070000
END:DAYLIGHT
BEGIN:STANDARD
TZOFFSETFROM:-0400
TZOFFSETTO:-0500
TZNAME:EST
DTSTART:20151101T060000
END:STANDARD
BEGIN:DAYLIGHT
TZOFFSETFROM:-0500
TZOFFSETTO:-0400
TZNAME:EDT
DTSTART:20160313T070000
END:DAYLIGHT
BEGIN:STANDARD
TZOFFSETFROM:-0400
TZOFFSETTO:-0500
TZNAME:EST
DTSTART:20161106T060000
END:STANDARD
END:VTIMEZONE
BEGIN:VEVENT
DTSTART;TZID=America/New_York:20150829T210000
DTEND;TZID=America/New_York:20150829T230000
DTSTAMP:20260422T055834
CREATED:20150530T004949Z
LAST-MODIFIED:20150530T004949Z
UID:8783-1440882000-1440889200@playpittsburgh.com
SUMMARY:Cinema in the Park - Riverview Park
DESCRIPTION:Come enjoy free movies at Riverview Park on Observatory Hill every Saturday starting at dusk (through August 29th). \n\nJune 13 Million Dollar Arm (PG)\nJune 20 The Refugees of Shangri-La (NR)\nJune 27 The Hobbit: The Battle of the Five Armies (PG-13)\nJuly 4 Holiday – No Movie\nJuly 11 Cesar Chavez (PG-13)\nJuly 18 X-Men: Days of Future Past (PG-13)\nJuly 25 Godzilla (PG-13)\nAugust 1 The Hunger Games: Mockingjay – Part 1 (PG-13)\nAugust 8 Interstellar (PG-13)\nAugust 15 Selma (PG-13)\nAugust 22 Captain America: The Winter Soldier (PG-13)\nAugust 29 Guardians of the Galaxy (PG-13)
URL:https://playpittsburgh.com/event/cinema-in-the-park-riverview-park/2015-08-29/
LOCATION:Riverview Park\, 1 Riverview Ave\, Pittsburgh \, PA\, 15214\, United States
GEO:40.4843471;-80.0146308
X-APPLE-STRUCTURED-LOCATION;VALUE=URI;X-ADDRESS=Riverview Park 1 Riverview Ave Pittsburgh  PA 15214 United States;X-APPLE-RADIUS=500;X-TITLE=1 Riverview Ave:geo:-80.0146308,40.4843471
END:VEVENT
BEGIN:VEVENT
DTSTART;TZID=America/New_York:20150822T210000
DTEND;TZID=America/New_York:20150822T230000
DTSTAMP:20260422T055834
CREATED:20150530T004949Z
LAST-MODIFIED:20150530T004949Z
UID:8782-1440277200-1440284400@playpittsburgh.com
SUMMARY:Cinema in the Park - Riverview Park
DESCRIPTION:Come enjoy free movies at Riverview Park on Observatory Hill every Saturday starting at dusk (through August 29th). \n\nJune 13 Million Dollar Arm (PG)\nJune 20 The Refugees of Shangri-La (NR)\nJune 27 The Hobbit: The Battle of the Five Armies (PG-13)\nJuly 4 Holiday – No Movie\nJuly 11 Cesar Chavez (PG-13)\nJuly 18 X-Men: Days of Future Past (PG-13)\nJuly 25 Godzilla (PG-13)\nAugust 1 The Hunger Games: Mockingjay – Part 1 (PG-13)\nAugust 8 Interstellar (PG-13)\nAugust 15 Selma (PG-13)\nAugust 22 Captain America: The Winter Soldier (PG-13)\nAugust 29 Guardians of the Galaxy (PG-13)
URL:https://playpittsburgh.com/event/cinema-in-the-park-riverview-park/2015-08-22/
LOCATION:Riverview Park\, 1 Riverview Ave\, Pittsburgh \, PA\, 15214\, United States
GEO:40.4843471;-80.0146308
X-APPLE-STRUCTURED-LOCATION;VALUE=URI;X-ADDRESS=Riverview Park 1 Riverview Ave Pittsburgh  PA 15214 United States;X-APPLE-RADIUS=500;X-TITLE=1 Riverview Ave:geo:-80.0146308,40.4843471
END:VEVENT
BEGIN:VEVENT
DTSTART;TZID=America/New_York:20150815T210000
DTEND;TZID=America/New_York:20150815T230000
DTSTAMP:20260422T055834
CREATED:20150530T004949Z
LAST-MODIFIED:20150530T004949Z
UID:8781-1439672400-1439679600@playpittsburgh.com
SUMMARY:Cinema in the Park - Riverview Park
DESCRIPTION:Come enjoy free movies at Riverview Park on Observatory Hill every Saturday starting at dusk (through August 29th). \n\nJune 13 Million Dollar Arm (PG)\nJune 20 The Refugees of Shangri-La (NR)\nJune 27 The Hobbit: The Battle of the Five Armies (PG-13)\nJuly 4 Holiday – No Movie\nJuly 11 Cesar Chavez (PG-13)\nJuly 18 X-Men: Days of Future Past (PG-13)\nJuly 25 Godzilla (PG-13)\nAugust 1 The Hunger Games: Mockingjay – Part 1 (PG-13)\nAugust 8 Interstellar (PG-13)\nAugust 15 Selma (PG-13)\nAugust 22 Captain America: The Winter Soldier (PG-13)\nAugust 29 Guardians of the Galaxy (PG-13)
URL:https://playpittsburgh.com/event/cinema-in-the-park-riverview-park/2015-08-15/
LOCATION:Riverview Park\, 1 Riverview Ave\, Pittsburgh \, PA\, 15214\, United States
GEO:40.4843471;-80.0146308
X-APPLE-STRUCTURED-LOCATION;VALUE=URI;X-ADDRESS=Riverview Park 1 Riverview Ave Pittsburgh  PA 15214 United States;X-APPLE-RADIUS=500;X-TITLE=1 Riverview Ave:geo:-80.0146308,40.4843471
END:VEVENT
BEGIN:VEVENT
DTSTART;TZID=America/New_York:20150808T210000
DTEND;TZID=America/New_York:20150808T230000
DTSTAMP:20260422T055834
CREATED:20150530T004949Z
LAST-MODIFIED:20150530T004949Z
UID:8780-1439067600-1439074800@playpittsburgh.com
SUMMARY:Cinema in the Park - Riverview Park
DESCRIPTION:Come enjoy free movies at Riverview Park on Observatory Hill every Saturday starting at dusk (through August 29th). \n\nJune 13 Million Dollar Arm (PG)\nJune 20 The Refugees of Shangri-La (NR)\nJune 27 The Hobbit: The Battle of the Five Armies (PG-13)\nJuly 4 Holiday – No Movie\nJuly 11 Cesar Chavez (PG-13)\nJuly 18 X-Men: Days of Future Past (PG-13)\nJuly 25 Godzilla (PG-13)\nAugust 1 The Hunger Games: Mockingjay – Part 1 (PG-13)\nAugust 8 Interstellar (PG-13)\nAugust 15 Selma (PG-13)\nAugust 22 Captain America: The Winter Soldier (PG-13)\nAugust 29 Guardians of the Galaxy (PG-13)
URL:https://playpittsburgh.com/event/cinema-in-the-park-riverview-park/2015-08-08/
LOCATION:Riverview Park\, 1 Riverview Ave\, Pittsburgh \, PA\, 15214\, United States
GEO:40.4843471;-80.0146308
X-APPLE-STRUCTURED-LOCATION;VALUE=URI;X-ADDRESS=Riverview Park 1 Riverview Ave Pittsburgh  PA 15214 United States;X-APPLE-RADIUS=500;X-TITLE=1 Riverview Ave:geo:-80.0146308,40.4843471
END:VEVENT
BEGIN:VEVENT
DTSTART;TZID=America/New_York:20150801T210000
DTEND;TZID=America/New_York:20150801T230000
DTSTAMP:20260422T055834
CREATED:20150530T004949Z
LAST-MODIFIED:20150530T004949Z
UID:8779-1438462800-1438470000@playpittsburgh.com
SUMMARY:Cinema in the Park - Riverview Park
DESCRIPTION:Come enjoy free movies at Riverview Park on Observatory Hill every Saturday starting at dusk (through August 29th). \n\nJune 13 Million Dollar Arm (PG)\nJune 20 The Refugees of Shangri-La (NR)\nJune 27 The Hobbit: The Battle of the Five Armies (PG-13)\nJuly 4 Holiday – No Movie\nJuly 11 Cesar Chavez (PG-13)\nJuly 18 X-Men: Days of Future Past (PG-13)\nJuly 25 Godzilla (PG-13)\nAugust 1 The Hunger Games: Mockingjay – Part 1 (PG-13)\nAugust 8 Interstellar (PG-13)\nAugust 15 Selma (PG-13)\nAugust 22 Captain America: The Winter Soldier (PG-13)\nAugust 29 Guardians of the Galaxy (PG-13)
URL:https://playpittsburgh.com/event/cinema-in-the-park-riverview-park/2015-08-01/
LOCATION:Riverview Park\, 1 Riverview Ave\, Pittsburgh \, PA\, 15214\, United States
GEO:40.4843471;-80.0146308
X-APPLE-STRUCTURED-LOCATION;VALUE=URI;X-ADDRESS=Riverview Park 1 Riverview Ave Pittsburgh  PA 15214 United States;X-APPLE-RADIUS=500;X-TITLE=1 Riverview Ave:geo:-80.0146308,40.4843471
END:VEVENT
BEGIN:VEVENT
DTSTART;TZID=America/New_York:20150725T210000
DTEND;TZID=America/New_York:20150725T230000
DTSTAMP:20260422T055834
CREATED:20150530T004949Z
LAST-MODIFIED:20150530T004949Z
UID:8778-1437858000-1437865200@playpittsburgh.com
SUMMARY:Cinema in the Park - Riverview Park
DESCRIPTION:Come enjoy free movies at Riverview Park on Observatory Hill every Saturday starting at dusk (through August 29th). \n\nJune 13 Million Dollar Arm (PG)\nJune 20 The Refugees of Shangri-La (NR)\nJune 27 The Hobbit: The Battle of the Five Armies (PG-13)\nJuly 4 Holiday – No Movie\nJuly 11 Cesar Chavez (PG-13)\nJuly 18 X-Men: Days of Future Past (PG-13)\nJuly 25 Godzilla (PG-13)\nAugust 1 The Hunger Games: Mockingjay – Part 1 (PG-13)\nAugust 8 Interstellar (PG-13)\nAugust 15 Selma (PG-13)\nAugust 22 Captain America: The Winter Soldier (PG-13)\nAugust 29 Guardians of the Galaxy (PG-13)
URL:https://playpittsburgh.com/event/cinema-in-the-park-riverview-park/2015-07-25/
LOCATION:Riverview Park\, 1 Riverview Ave\, Pittsburgh \, PA\, 15214\, United States
GEO:40.4843471;-80.0146308
X-APPLE-STRUCTURED-LOCATION;VALUE=URI;X-ADDRESS=Riverview Park 1 Riverview Ave Pittsburgh  PA 15214 United States;X-APPLE-RADIUS=500;X-TITLE=1 Riverview Ave:geo:-80.0146308,40.4843471
END:VEVENT
BEGIN:VEVENT
DTSTART;TZID=America/New_York:20150718T210000
DTEND;TZID=America/New_York:20150718T230000
DTSTAMP:20260422T055834
CREATED:20150530T004949Z
LAST-MODIFIED:20150530T004949Z
UID:8777-1437253200-1437260400@playpittsburgh.com
SUMMARY:Cinema in the Park - Riverview Park
DESCRIPTION:Come enjoy free movies at Riverview Park on Observatory Hill every Saturday starting at dusk (through August 29th). \n\nJune 13 Million Dollar Arm (PG)\nJune 20 The Refugees of Shangri-La (NR)\nJune 27 The Hobbit: The Battle of the Five Armies (PG-13)\nJuly 4 Holiday – No Movie\nJuly 11 Cesar Chavez (PG-13)\nJuly 18 X-Men: Days of Future Past (PG-13)\nJuly 25 Godzilla (PG-13)\nAugust 1 The Hunger Games: Mockingjay – Part 1 (PG-13)\nAugust 8 Interstellar (PG-13)\nAugust 15 Selma (PG-13)\nAugust 22 Captain America: The Winter Soldier (PG-13)\nAugust 29 Guardians of the Galaxy (PG-13)
URL:https://playpittsburgh.com/event/cinema-in-the-park-riverview-park/2015-07-18/
LOCATION:Riverview Park\, 1 Riverview Ave\, Pittsburgh \, PA\, 15214\, United States
GEO:40.4843471;-80.0146308
X-APPLE-STRUCTURED-LOCATION;VALUE=URI;X-ADDRESS=Riverview Park 1 Riverview Ave Pittsburgh  PA 15214 United States;X-APPLE-RADIUS=500;X-TITLE=1 Riverview Ave:geo:-80.0146308,40.4843471
END:VEVENT
BEGIN:VEVENT
DTSTART;TZID=America/New_York:20150711T210000
DTEND;TZID=America/New_York:20150711T230000
DTSTAMP:20260422T055834
CREATED:20150530T004949Z
LAST-MODIFIED:20150530T004949Z
UID:8776-1436648400-1436655600@playpittsburgh.com
SUMMARY:Cinema in the Park - Riverview Park
DESCRIPTION:Come enjoy free movies at Riverview Park on Observatory Hill every Saturday starting at dusk (through August 29th). \n\nJune 13 Million Dollar Arm (PG)\nJune 20 The Refugees of Shangri-La (NR)\nJune 27 The Hobbit: The Battle of the Five Armies (PG-13)\nJuly 4 Holiday – No Movie\nJuly 11 Cesar Chavez (PG-13)\nJuly 18 X-Men: Days of Future Past (PG-13)\nJuly 25 Godzilla (PG-13)\nAugust 1 The Hunger Games: Mockingjay – Part 1 (PG-13)\nAugust 8 Interstellar (PG-13)\nAugust 15 Selma (PG-13)\nAugust 22 Captain America: The Winter Soldier (PG-13)\nAugust 29 Guardians of the Galaxy (PG-13)
URL:https://playpittsburgh.com/event/cinema-in-the-park-riverview-park/2015-07-11/
LOCATION:Riverview Park\, 1 Riverview Ave\, Pittsburgh \, PA\, 15214\, United States
GEO:40.4843471;-80.0146308
X-APPLE-STRUCTURED-LOCATION;VALUE=URI;X-ADDRESS=Riverview Park 1 Riverview Ave Pittsburgh  PA 15214 United States;X-APPLE-RADIUS=500;X-TITLE=1 Riverview Ave:geo:-80.0146308,40.4843471
END:VEVENT
BEGIN:VEVENT
DTSTART;TZID=America/New_York:20150704T210000
DTEND;TZID=America/New_York:20150704T230000
DTSTAMP:20260422T055834
CREATED:20150530T004949Z
LAST-MODIFIED:20150530T004949Z
UID:8775-1436043600-1436050800@playpittsburgh.com
SUMMARY:Cinema in the Park - Riverview Park
DESCRIPTION:Come enjoy free movies at Riverview Park on Observatory Hill every Saturday starting at dusk (through August 29th). \n\nJune 13 Million Dollar Arm (PG)\nJune 20 The Refugees of Shangri-La (NR)\nJune 27 The Hobbit: The Battle of the Five Armies (PG-13)\nJuly 4 Holiday – No Movie\nJuly 11 Cesar Chavez (PG-13)\nJuly 18 X-Men: Days of Future Past (PG-13)\nJuly 25 Godzilla (PG-13)\nAugust 1 The Hunger Games: Mockingjay – Part 1 (PG-13)\nAugust 8 Interstellar (PG-13)\nAugust 15 Selma (PG-13)\nAugust 22 Captain America: The Winter Soldier (PG-13)\nAugust 29 Guardians of the Galaxy (PG-13)
URL:https://playpittsburgh.com/event/cinema-in-the-park-riverview-park/2015-07-04/
LOCATION:Riverview Park\, 1 Riverview Ave\, Pittsburgh \, PA\, 15214\, United States
GEO:40.4843471;-80.0146308
X-APPLE-STRUCTURED-LOCATION;VALUE=URI;X-ADDRESS=Riverview Park 1 Riverview Ave Pittsburgh  PA 15214 United States;X-APPLE-RADIUS=500;X-TITLE=1 Riverview Ave:geo:-80.0146308,40.4843471
END:VEVENT
BEGIN:VEVENT
DTSTART;TZID=America/New_York:20150627T210000
DTEND;TZID=America/New_York:20150627T230000
DTSTAMP:20260422T055834
CREATED:20150530T004949Z
LAST-MODIFIED:20150530T004949Z
UID:8774-1435438800-1435446000@playpittsburgh.com
SUMMARY:Cinema in the Park - Riverview Park
DESCRIPTION:Come enjoy free movies at Riverview Park on Observatory Hill every Saturday starting at dusk (through August 29th). \n\nJune 13 Million Dollar Arm (PG)\nJune 20 The Refugees of Shangri-La (NR)\nJune 27 The Hobbit: The Battle of the Five Armies (PG-13)\nJuly 4 Holiday – No Movie\nJuly 11 Cesar Chavez (PG-13)\nJuly 18 X-Men: Days of Future Past (PG-13)\nJuly 25 Godzilla (PG-13)\nAugust 1 The Hunger Games: Mockingjay – Part 1 (PG-13)\nAugust 8 Interstellar (PG-13)\nAugust 15 Selma (PG-13)\nAugust 22 Captain America: The Winter Soldier (PG-13)\nAugust 29 Guardians of the Galaxy (PG-13)
URL:https://playpittsburgh.com/event/cinema-in-the-park-riverview-park/2015-06-27/
LOCATION:Riverview Park\, 1 Riverview Ave\, Pittsburgh \, PA\, 15214\, United States
GEO:40.4843471;-80.0146308
X-APPLE-STRUCTURED-LOCATION;VALUE=URI;X-ADDRESS=Riverview Park 1 Riverview Ave Pittsburgh  PA 15214 United States;X-APPLE-RADIUS=500;X-TITLE=1 Riverview Ave:geo:-80.0146308,40.4843471
END:VEVENT
BEGIN:VEVENT
DTSTART;TZID=America/New_York:20150620T210000
DTEND;TZID=America/New_York:20150620T230000
DTSTAMP:20260422T055834
CREATED:20150530T004949Z
LAST-MODIFIED:20150530T004949Z
UID:8773-1434834000-1434841200@playpittsburgh.com
SUMMARY:Cinema in the Park - Riverview Park
DESCRIPTION:Come enjoy free movies at Riverview Park on Observatory Hill every Saturday starting at dusk (through August 29th). \n\nJune 13 Million Dollar Arm (PG)\nJune 20 The Refugees of Shangri-La (NR)\nJune 27 The Hobbit: The Battle of the Five Armies (PG-13)\nJuly 4 Holiday – No Movie\nJuly 11 Cesar Chavez (PG-13)\nJuly 18 X-Men: Days of Future Past (PG-13)\nJuly 25 Godzilla (PG-13)\nAugust 1 The Hunger Games: Mockingjay – Part 1 (PG-13)\nAugust 8 Interstellar (PG-13)\nAugust 15 Selma (PG-13)\nAugust 22 Captain America: The Winter Soldier (PG-13)\nAugust 29 Guardians of the Galaxy (PG-13)
URL:https://playpittsburgh.com/event/cinema-in-the-park-riverview-park/2015-06-20/
LOCATION:Riverview Park\, 1 Riverview Ave\, Pittsburgh \, PA\, 15214\, United States
GEO:40.4843471;-80.0146308
X-APPLE-STRUCTURED-LOCATION;VALUE=URI;X-ADDRESS=Riverview Park 1 Riverview Ave Pittsburgh  PA 15214 United States;X-APPLE-RADIUS=500;X-TITLE=1 Riverview Ave:geo:-80.0146308,40.4843471
END:VEVENT
BEGIN:VEVENT
DTSTART;TZID=America/New_York:20150613T210000
DTEND;TZID=America/New_York:20150613T230000
DTSTAMP:20260422T055834
CREATED:20150530T004949Z
LAST-MODIFIED:20150530T004949Z
UID:8772-1434229200-1434236400@playpittsburgh.com
SUMMARY:Cinema in the Park - Riverview Park
DESCRIPTION:Come enjoy free movies at Riverview Park on Observatory Hill every Saturday starting at dusk (through August 29th). \n\nJune 13 Million Dollar Arm (PG)\nJune 20 The Refugees of Shangri-La (NR)\nJune 27 The Hobbit: The Battle of the Five Armies (PG-13)\nJuly 4 Holiday – No Movie\nJuly 11 Cesar Chavez (PG-13)\nJuly 18 X-Men: Days of Future Past (PG-13)\nJuly 25 Godzilla (PG-13)\nAugust 1 The Hunger Games: Mockingjay – Part 1 (PG-13)\nAugust 8 Interstellar (PG-13)\nAugust 15 Selma (PG-13)\nAugust 22 Captain America: The Winter Soldier (PG-13)\nAugust 29 Guardians of the Galaxy (PG-13)
URL:https://playpittsburgh.com/event/cinema-in-the-park-riverview-park/2015-06-13/
LOCATION:Riverview Park\, 1 Riverview Ave\, Pittsburgh \, PA\, 15214\, United States
GEO:40.4843471;-80.0146308
X-APPLE-STRUCTURED-LOCATION;VALUE=URI;X-ADDRESS=Riverview Park 1 Riverview Ave Pittsburgh  PA 15214 United States;X-APPLE-RADIUS=500;X-TITLE=1 Riverview Ave:geo:-80.0146308,40.4843471
END:VEVENT
END:VCALENDAR