BEGIN:VCALENDAR
VERSION:2.0
PRODID:-//Play Pittsburgh - ECPv6.15.20//NONSGML v1.0//EN
CALSCALE:GREGORIAN
METHOD:PUBLISH
X-WR-CALNAME:Play Pittsburgh
X-ORIGINAL-URL:https://playpittsburgh.com
X-WR-CALDESC:Events for Play Pittsburgh
REFRESH-INTERVAL;VALUE=DURATION:PT1H
X-Robots-Tag:noindex
X-PUBLISHED-TTL:PT1H
BEGIN:VTIMEZONE
TZID:America/New_York
BEGIN:DAYLIGHT
TZOFFSETFROM:-0500
TZOFFSETTO:-0400
TZNAME:EDT
DTSTART:20140309T070000
END:DAYLIGHT
BEGIN:STANDARD
TZOFFSETFROM:-0400
TZOFFSETTO:-0500
TZNAME:EST
DTSTART:20141102T060000
END:STANDARD
BEGIN:DAYLIGHT
TZOFFSETFROM:-0500
TZOFFSETTO:-0400
TZNAME:EDT
DTSTART:20150308T070000
END:DAYLIGHT
BEGIN:STANDARD
TZOFFSETFROM:-0400
TZOFFSETTO:-0500
TZNAME:EST
DTSTART:20151101T060000
END:STANDARD
BEGIN:DAYLIGHT
TZOFFSETFROM:-0500
TZOFFSETTO:-0400
TZNAME:EDT
DTSTART:20160313T070000
END:DAYLIGHT
BEGIN:STANDARD
TZOFFSETFROM:-0400
TZOFFSETTO:-0500
TZNAME:EST
DTSTART:20161106T060000
END:STANDARD
END:VTIMEZONE
BEGIN:VEVENT
DTSTART;TZID=America/New_York:20150829T210000
DTEND;TZID=America/New_York:20150829T230000
DTSTAMP:20260422T064941
CREATED:20150529T235356Z
LAST-MODIFIED:20150529T235356Z
UID:8768-1440882000-1440889200@playpittsburgh.com
SUMMARY:Cinema in the Park - Grandview Park
DESCRIPTION:Enjoy free\, family friendly movies at Grandview Park every Saturday starting at dusk (around 9pm). Showtimes through August 29th. \n\nJune 13 The Sandlot (PG)\nJune 20 Maleficent (PG)\nJune 27 The Hundred-Foot Journey (PG)\nJuly 4 HOLIDAY – No Movie\nJuly 11 Cantinflas (PG)\nJuly 18 The Lego Movie (PG)\nJuly 25 The Wizard of Oz (NR)\nAugust 1 Big Hero 6 (PG)\nAugust 8 Earth to Echo (PG)\nAugust 15 When the Game Stands Tall (PG)\nAugust 22 The Princess and the Frog (G)\nAugust 29 McFarland\, USA (PG)
URL:https://playpittsburgh.com/event/cinema-in-the-park-grandview-park/2015-08-29/
LOCATION:Grandview Park\, Bailey Avenue\, Pittsburgh\, PA\, 15211\, United States
GEO:40.4269283;-80.0014112
X-APPLE-STRUCTURED-LOCATION;VALUE=URI;X-ADDRESS=Grandview Park Bailey Avenue Pittsburgh PA 15211 United States;X-APPLE-RADIUS=500;X-TITLE=Bailey Avenue:geo:-80.0014112,40.4269283
END:VEVENT
BEGIN:VEVENT
DTSTART;TZID=America/New_York:20150822T210000
DTEND;TZID=America/New_York:20150822T230000
DTSTAMP:20260422T064941
CREATED:20150529T235356Z
LAST-MODIFIED:20150529T235356Z
UID:8767-1440277200-1440284400@playpittsburgh.com
SUMMARY:Cinema in the Park - Grandview Park
DESCRIPTION:Enjoy free\, family friendly movies at Grandview Park every Saturday starting at dusk (around 9pm). Showtimes through August 29th. \n\nJune 13 The Sandlot (PG)\nJune 20 Maleficent (PG)\nJune 27 The Hundred-Foot Journey (PG)\nJuly 4 HOLIDAY – No Movie\nJuly 11 Cantinflas (PG)\nJuly 18 The Lego Movie (PG)\nJuly 25 The Wizard of Oz (NR)\nAugust 1 Big Hero 6 (PG)\nAugust 8 Earth to Echo (PG)\nAugust 15 When the Game Stands Tall (PG)\nAugust 22 The Princess and the Frog (G)\nAugust 29 McFarland\, USA (PG)
URL:https://playpittsburgh.com/event/cinema-in-the-park-grandview-park/2015-08-22/
LOCATION:Grandview Park\, Bailey Avenue\, Pittsburgh\, PA\, 15211\, United States
GEO:40.4269283;-80.0014112
X-APPLE-STRUCTURED-LOCATION;VALUE=URI;X-ADDRESS=Grandview Park Bailey Avenue Pittsburgh PA 15211 United States;X-APPLE-RADIUS=500;X-TITLE=Bailey Avenue:geo:-80.0014112,40.4269283
END:VEVENT
BEGIN:VEVENT
DTSTART;TZID=America/New_York:20150815T210000
DTEND;TZID=America/New_York:20150815T230000
DTSTAMP:20260422T064941
CREATED:20150529T235356Z
LAST-MODIFIED:20150529T235356Z
UID:8766-1439672400-1439679600@playpittsburgh.com
SUMMARY:Cinema in the Park - Grandview Park
DESCRIPTION:Enjoy free\, family friendly movies at Grandview Park every Saturday starting at dusk (around 9pm). Showtimes through August 29th. \n\nJune 13 The Sandlot (PG)\nJune 20 Maleficent (PG)\nJune 27 The Hundred-Foot Journey (PG)\nJuly 4 HOLIDAY – No Movie\nJuly 11 Cantinflas (PG)\nJuly 18 The Lego Movie (PG)\nJuly 25 The Wizard of Oz (NR)\nAugust 1 Big Hero 6 (PG)\nAugust 8 Earth to Echo (PG)\nAugust 15 When the Game Stands Tall (PG)\nAugust 22 The Princess and the Frog (G)\nAugust 29 McFarland\, USA (PG)
URL:https://playpittsburgh.com/event/cinema-in-the-park-grandview-park/2015-08-15/
LOCATION:Grandview Park\, Bailey Avenue\, Pittsburgh\, PA\, 15211\, United States
GEO:40.4269283;-80.0014112
X-APPLE-STRUCTURED-LOCATION;VALUE=URI;X-ADDRESS=Grandview Park Bailey Avenue Pittsburgh PA 15211 United States;X-APPLE-RADIUS=500;X-TITLE=Bailey Avenue:geo:-80.0014112,40.4269283
END:VEVENT
BEGIN:VEVENT
DTSTART;TZID=America/New_York:20150808T210000
DTEND;TZID=America/New_York:20150808T230000
DTSTAMP:20260422T064941
CREATED:20150529T235356Z
LAST-MODIFIED:20150529T235356Z
UID:8765-1439067600-1439074800@playpittsburgh.com
SUMMARY:Cinema in the Park - Grandview Park
DESCRIPTION:Enjoy free\, family friendly movies at Grandview Park every Saturday starting at dusk (around 9pm). Showtimes through August 29th. \n\nJune 13 The Sandlot (PG)\nJune 20 Maleficent (PG)\nJune 27 The Hundred-Foot Journey (PG)\nJuly 4 HOLIDAY – No Movie\nJuly 11 Cantinflas (PG)\nJuly 18 The Lego Movie (PG)\nJuly 25 The Wizard of Oz (NR)\nAugust 1 Big Hero 6 (PG)\nAugust 8 Earth to Echo (PG)\nAugust 15 When the Game Stands Tall (PG)\nAugust 22 The Princess and the Frog (G)\nAugust 29 McFarland\, USA (PG)
URL:https://playpittsburgh.com/event/cinema-in-the-park-grandview-park/2015-08-08/
LOCATION:Grandview Park\, Bailey Avenue\, Pittsburgh\, PA\, 15211\, United States
GEO:40.4269283;-80.0014112
X-APPLE-STRUCTURED-LOCATION;VALUE=URI;X-ADDRESS=Grandview Park Bailey Avenue Pittsburgh PA 15211 United States;X-APPLE-RADIUS=500;X-TITLE=Bailey Avenue:geo:-80.0014112,40.4269283
END:VEVENT
BEGIN:VEVENT
DTSTART;TZID=America/New_York:20150801T210000
DTEND;TZID=America/New_York:20150801T230000
DTSTAMP:20260422T064941
CREATED:20150529T235356Z
LAST-MODIFIED:20150529T235356Z
UID:8764-1438462800-1438470000@playpittsburgh.com
SUMMARY:Cinema in the Park - Grandview Park
DESCRIPTION:Enjoy free\, family friendly movies at Grandview Park every Saturday starting at dusk (around 9pm). Showtimes through August 29th. \n\nJune 13 The Sandlot (PG)\nJune 20 Maleficent (PG)\nJune 27 The Hundred-Foot Journey (PG)\nJuly 4 HOLIDAY – No Movie\nJuly 11 Cantinflas (PG)\nJuly 18 The Lego Movie (PG)\nJuly 25 The Wizard of Oz (NR)\nAugust 1 Big Hero 6 (PG)\nAugust 8 Earth to Echo (PG)\nAugust 15 When the Game Stands Tall (PG)\nAugust 22 The Princess and the Frog (G)\nAugust 29 McFarland\, USA (PG)
URL:https://playpittsburgh.com/event/cinema-in-the-park-grandview-park/2015-08-01/
LOCATION:Grandview Park\, Bailey Avenue\, Pittsburgh\, PA\, 15211\, United States
GEO:40.4269283;-80.0014112
X-APPLE-STRUCTURED-LOCATION;VALUE=URI;X-ADDRESS=Grandview Park Bailey Avenue Pittsburgh PA 15211 United States;X-APPLE-RADIUS=500;X-TITLE=Bailey Avenue:geo:-80.0014112,40.4269283
END:VEVENT
BEGIN:VEVENT
DTSTART;TZID=America/New_York:20150725T210000
DTEND;TZID=America/New_York:20150725T230000
DTSTAMP:20260422T064941
CREATED:20150529T235356Z
LAST-MODIFIED:20150529T235356Z
UID:8763-1437858000-1437865200@playpittsburgh.com
SUMMARY:Cinema in the Park - Grandview Park
DESCRIPTION:Enjoy free\, family friendly movies at Grandview Park every Saturday starting at dusk (around 9pm). Showtimes through August 29th. \n\nJune 13 The Sandlot (PG)\nJune 20 Maleficent (PG)\nJune 27 The Hundred-Foot Journey (PG)\nJuly 4 HOLIDAY – No Movie\nJuly 11 Cantinflas (PG)\nJuly 18 The Lego Movie (PG)\nJuly 25 The Wizard of Oz (NR)\nAugust 1 Big Hero 6 (PG)\nAugust 8 Earth to Echo (PG)\nAugust 15 When the Game Stands Tall (PG)\nAugust 22 The Princess and the Frog (G)\nAugust 29 McFarland\, USA (PG)
URL:https://playpittsburgh.com/event/cinema-in-the-park-grandview-park/2015-07-25/
LOCATION:Grandview Park\, Bailey Avenue\, Pittsburgh\, PA\, 15211\, United States
GEO:40.4269283;-80.0014112
X-APPLE-STRUCTURED-LOCATION;VALUE=URI;X-ADDRESS=Grandview Park Bailey Avenue Pittsburgh PA 15211 United States;X-APPLE-RADIUS=500;X-TITLE=Bailey Avenue:geo:-80.0014112,40.4269283
END:VEVENT
BEGIN:VEVENT
DTSTART;TZID=America/New_York:20150718T210000
DTEND;TZID=America/New_York:20150718T230000
DTSTAMP:20260422T064941
CREATED:20150529T235356Z
LAST-MODIFIED:20150529T235356Z
UID:8762-1437253200-1437260400@playpittsburgh.com
SUMMARY:Cinema in the Park - Grandview Park
DESCRIPTION:Enjoy free\, family friendly movies at Grandview Park every Saturday starting at dusk (around 9pm). Showtimes through August 29th. \n\nJune 13 The Sandlot (PG)\nJune 20 Maleficent (PG)\nJune 27 The Hundred-Foot Journey (PG)\nJuly 4 HOLIDAY – No Movie\nJuly 11 Cantinflas (PG)\nJuly 18 The Lego Movie (PG)\nJuly 25 The Wizard of Oz (NR)\nAugust 1 Big Hero 6 (PG)\nAugust 8 Earth to Echo (PG)\nAugust 15 When the Game Stands Tall (PG)\nAugust 22 The Princess and the Frog (G)\nAugust 29 McFarland\, USA (PG)
URL:https://playpittsburgh.com/event/cinema-in-the-park-grandview-park/2015-07-18/
LOCATION:Grandview Park\, Bailey Avenue\, Pittsburgh\, PA\, 15211\, United States
GEO:40.4269283;-80.0014112
X-APPLE-STRUCTURED-LOCATION;VALUE=URI;X-ADDRESS=Grandview Park Bailey Avenue Pittsburgh PA 15211 United States;X-APPLE-RADIUS=500;X-TITLE=Bailey Avenue:geo:-80.0014112,40.4269283
END:VEVENT
BEGIN:VEVENT
DTSTART;TZID=America/New_York:20150711T210000
DTEND;TZID=America/New_York:20150711T230000
DTSTAMP:20260422T064941
CREATED:20150529T235356Z
LAST-MODIFIED:20150529T235356Z
UID:8761-1436648400-1436655600@playpittsburgh.com
SUMMARY:Cinema in the Park - Grandview Park
DESCRIPTION:Enjoy free\, family friendly movies at Grandview Park every Saturday starting at dusk (around 9pm). Showtimes through August 29th. \n\nJune 13 The Sandlot (PG)\nJune 20 Maleficent (PG)\nJune 27 The Hundred-Foot Journey (PG)\nJuly 4 HOLIDAY – No Movie\nJuly 11 Cantinflas (PG)\nJuly 18 The Lego Movie (PG)\nJuly 25 The Wizard of Oz (NR)\nAugust 1 Big Hero 6 (PG)\nAugust 8 Earth to Echo (PG)\nAugust 15 When the Game Stands Tall (PG)\nAugust 22 The Princess and the Frog (G)\nAugust 29 McFarland\, USA (PG)
URL:https://playpittsburgh.com/event/cinema-in-the-park-grandview-park/2015-07-11/
LOCATION:Grandview Park\, Bailey Avenue\, Pittsburgh\, PA\, 15211\, United States
GEO:40.4269283;-80.0014112
X-APPLE-STRUCTURED-LOCATION;VALUE=URI;X-ADDRESS=Grandview Park Bailey Avenue Pittsburgh PA 15211 United States;X-APPLE-RADIUS=500;X-TITLE=Bailey Avenue:geo:-80.0014112,40.4269283
END:VEVENT
BEGIN:VEVENT
DTSTART;TZID=America/New_York:20150704T210000
DTEND;TZID=America/New_York:20150704T230000
DTSTAMP:20260422T064941
CREATED:20150529T235356Z
LAST-MODIFIED:20150529T235356Z
UID:8760-1436043600-1436050800@playpittsburgh.com
SUMMARY:Cinema in the Park - Grandview Park
DESCRIPTION:Enjoy free\, family friendly movies at Grandview Park every Saturday starting at dusk (around 9pm). Showtimes through August 29th. \n\nJune 13 The Sandlot (PG)\nJune 20 Maleficent (PG)\nJune 27 The Hundred-Foot Journey (PG)\nJuly 4 HOLIDAY – No Movie\nJuly 11 Cantinflas (PG)\nJuly 18 The Lego Movie (PG)\nJuly 25 The Wizard of Oz (NR)\nAugust 1 Big Hero 6 (PG)\nAugust 8 Earth to Echo (PG)\nAugust 15 When the Game Stands Tall (PG)\nAugust 22 The Princess and the Frog (G)\nAugust 29 McFarland\, USA (PG)
URL:https://playpittsburgh.com/event/cinema-in-the-park-grandview-park/2015-07-04/
LOCATION:Grandview Park\, Bailey Avenue\, Pittsburgh\, PA\, 15211\, United States
GEO:40.4269283;-80.0014112
X-APPLE-STRUCTURED-LOCATION;VALUE=URI;X-ADDRESS=Grandview Park Bailey Avenue Pittsburgh PA 15211 United States;X-APPLE-RADIUS=500;X-TITLE=Bailey Avenue:geo:-80.0014112,40.4269283
END:VEVENT
BEGIN:VEVENT
DTSTART;TZID=America/New_York:20150627T210000
DTEND;TZID=America/New_York:20150627T230000
DTSTAMP:20260422T064941
CREATED:20150529T235356Z
LAST-MODIFIED:20150529T235356Z
UID:8759-1435438800-1435446000@playpittsburgh.com
SUMMARY:Cinema in the Park - Grandview Park
DESCRIPTION:Enjoy free\, family friendly movies at Grandview Park every Saturday starting at dusk (around 9pm). Showtimes through August 29th. \n\nJune 13 The Sandlot (PG)\nJune 20 Maleficent (PG)\nJune 27 The Hundred-Foot Journey (PG)\nJuly 4 HOLIDAY – No Movie\nJuly 11 Cantinflas (PG)\nJuly 18 The Lego Movie (PG)\nJuly 25 The Wizard of Oz (NR)\nAugust 1 Big Hero 6 (PG)\nAugust 8 Earth to Echo (PG)\nAugust 15 When the Game Stands Tall (PG)\nAugust 22 The Princess and the Frog (G)\nAugust 29 McFarland\, USA (PG)
URL:https://playpittsburgh.com/event/cinema-in-the-park-grandview-park/2015-06-27/
LOCATION:Grandview Park\, Bailey Avenue\, Pittsburgh\, PA\, 15211\, United States
GEO:40.4269283;-80.0014112
X-APPLE-STRUCTURED-LOCATION;VALUE=URI;X-ADDRESS=Grandview Park Bailey Avenue Pittsburgh PA 15211 United States;X-APPLE-RADIUS=500;X-TITLE=Bailey Avenue:geo:-80.0014112,40.4269283
END:VEVENT
BEGIN:VEVENT
DTSTART;TZID=America/New_York:20150620T210000
DTEND;TZID=America/New_York:20150620T230000
DTSTAMP:20260422T064941
CREATED:20150529T235356Z
LAST-MODIFIED:20150529T235356Z
UID:8758-1434834000-1434841200@playpittsburgh.com
SUMMARY:Cinema in the Park - Grandview Park
DESCRIPTION:Enjoy free\, family friendly movies at Grandview Park every Saturday starting at dusk (around 9pm). Showtimes through August 29th. \n\nJune 13 The Sandlot (PG)\nJune 20 Maleficent (PG)\nJune 27 The Hundred-Foot Journey (PG)\nJuly 4 HOLIDAY – No Movie\nJuly 11 Cantinflas (PG)\nJuly 18 The Lego Movie (PG)\nJuly 25 The Wizard of Oz (NR)\nAugust 1 Big Hero 6 (PG)\nAugust 8 Earth to Echo (PG)\nAugust 15 When the Game Stands Tall (PG)\nAugust 22 The Princess and the Frog (G)\nAugust 29 McFarland\, USA (PG)
URL:https://playpittsburgh.com/event/cinema-in-the-park-grandview-park/2015-06-20/
LOCATION:Grandview Park\, Bailey Avenue\, Pittsburgh\, PA\, 15211\, United States
GEO:40.4269283;-80.0014112
X-APPLE-STRUCTURED-LOCATION;VALUE=URI;X-ADDRESS=Grandview Park Bailey Avenue Pittsburgh PA 15211 United States;X-APPLE-RADIUS=500;X-TITLE=Bailey Avenue:geo:-80.0014112,40.4269283
END:VEVENT
BEGIN:VEVENT
DTSTART;TZID=America/New_York:20150613T210000
DTEND;TZID=America/New_York:20150613T230000
DTSTAMP:20260422T064941
CREATED:20150529T235356Z
LAST-MODIFIED:20150529T235356Z
UID:8757-1434229200-1434236400@playpittsburgh.com
SUMMARY:Cinema in the Park - Grandview Park
DESCRIPTION:Enjoy free\, family friendly movies at Grandview Park every Saturday starting at dusk (around 9pm). Showtimes through August 29th. \n\nJune 13 The Sandlot (PG)\nJune 20 Maleficent (PG)\nJune 27 The Hundred-Foot Journey (PG)\nJuly 4 HOLIDAY – No Movie\nJuly 11 Cantinflas (PG)\nJuly 18 The Lego Movie (PG)\nJuly 25 The Wizard of Oz (NR)\nAugust 1 Big Hero 6 (PG)\nAugust 8 Earth to Echo (PG)\nAugust 15 When the Game Stands Tall (PG)\nAugust 22 The Princess and the Frog (G)\nAugust 29 McFarland\, USA (PG)
URL:https://playpittsburgh.com/event/cinema-in-the-park-grandview-park/2015-06-13/
LOCATION:Grandview Park\, Bailey Avenue\, Pittsburgh\, PA\, 15211\, United States
GEO:40.4269283;-80.0014112
X-APPLE-STRUCTURED-LOCATION;VALUE=URI;X-ADDRESS=Grandview Park Bailey Avenue Pittsburgh PA 15211 United States;X-APPLE-RADIUS=500;X-TITLE=Bailey Avenue:geo:-80.0014112,40.4269283
END:VEVENT
END:VCALENDAR