BEGIN:VCALENDAR
VERSION:2.0
PRODID:-//Play Pittsburgh - ECPv6.15.20//NONSGML v1.0//EN
CALSCALE:GREGORIAN
METHOD:PUBLISH
X-ORIGINAL-URL:https://playpittsburgh.com
X-WR-CALDESC:Events for Play Pittsburgh
REFRESH-INTERVAL;VALUE=DURATION:PT1H
X-Robots-Tag:noindex
X-PUBLISHED-TTL:PT1H
BEGIN:VTIMEZONE
TZID:America/New_York
BEGIN:DAYLIGHT
TZOFFSETFROM:-0500
TZOFFSETTO:-0400
TZNAME:EDT
DTSTART:20140309T070000
END:DAYLIGHT
BEGIN:STANDARD
TZOFFSETFROM:-0400
TZOFFSETTO:-0500
TZNAME:EST
DTSTART:20141102T060000
END:STANDARD
BEGIN:DAYLIGHT
TZOFFSETFROM:-0500
TZOFFSETTO:-0400
TZNAME:EDT
DTSTART:20150308T070000
END:DAYLIGHT
BEGIN:STANDARD
TZOFFSETFROM:-0400
TZOFFSETTO:-0500
TZNAME:EST
DTSTART:20151101T060000
END:STANDARD
BEGIN:DAYLIGHT
TZOFFSETFROM:-0500
TZOFFSETTO:-0400
TZNAME:EDT
DTSTART:20160313T070000
END:DAYLIGHT
BEGIN:STANDARD
TZOFFSETFROM:-0400
TZOFFSETTO:-0500
TZNAME:EST
DTSTART:20161106T060000
END:STANDARD
END:VTIMEZONE
BEGIN:VEVENT
DTSTART;TZID=America/New_York:20150827T210000
DTEND;TZID=America/New_York:20150827T230000
DTSTAMP:20260422T033923
CREATED:20150529T232918Z
LAST-MODIFIED:20150529T232918Z
UID:8744-1440709200-1440716400@playpittsburgh.com
SUMMARY:Cinema in the Park - Brookline Memorial Park
DESCRIPTION:Enjoy free movies in the park at Brookline Memorial Park. Movies begin at dusk (around 9pm) every Thursday through August 27th. \n\nJune 11 The Sandlot (PG)\nJune 18 Maleficent (PG)\nJune 25 The Hundred-Foot Journey (PG)\nJuly 2 The Boxtrolls (PG)\nJuly 9 Cantinflas (PG)\nJuly 16 The Lego Movie (PG)\nJuly 23 The Wizard of Oz (NR)\nJuly 30 Big Hero 6 (PG)\nAugust 6 Earth to Echo (PG)\nAugust 13 When the Game Stands Tall (PG)\nAugust 20 The Princess and the Frog (G)\nAugust 27 McFarland\, USA (PG)
URL:https://playpittsburgh.com/event/cinema-in-the-park-brookline-memorial-park/2015-08-27/
LOCATION:Brookline Memorial Park\, Oakridge Street \, Pittsburgh\, PA\, 15226\, United States
GEO:40.3910792;-80.0131646
X-APPLE-STRUCTURED-LOCATION;VALUE=URI;X-ADDRESS=Brookline Memorial Park Oakridge Street  Pittsburgh PA 15226 United States;X-APPLE-RADIUS=500;X-TITLE=Oakridge Street:geo:-80.0131646,40.3910792
END:VEVENT
BEGIN:VEVENT
DTSTART;TZID=America/New_York:20150820T210000
DTEND;TZID=America/New_York:20150820T230000
DTSTAMP:20260422T033923
CREATED:20150529T232918Z
LAST-MODIFIED:20150529T232918Z
UID:8743-1440104400-1440111600@playpittsburgh.com
SUMMARY:Cinema in the Park - Brookline Memorial Park
DESCRIPTION:Enjoy free movies in the park at Brookline Memorial Park. Movies begin at dusk (around 9pm) every Thursday through August 27th. \n\nJune 11 The Sandlot (PG)\nJune 18 Maleficent (PG)\nJune 25 The Hundred-Foot Journey (PG)\nJuly 2 The Boxtrolls (PG)\nJuly 9 Cantinflas (PG)\nJuly 16 The Lego Movie (PG)\nJuly 23 The Wizard of Oz (NR)\nJuly 30 Big Hero 6 (PG)\nAugust 6 Earth to Echo (PG)\nAugust 13 When the Game Stands Tall (PG)\nAugust 20 The Princess and the Frog (G)\nAugust 27 McFarland\, USA (PG)
URL:https://playpittsburgh.com/event/cinema-in-the-park-brookline-memorial-park/2015-08-20/
LOCATION:Brookline Memorial Park\, Oakridge Street \, Pittsburgh\, PA\, 15226\, United States
GEO:40.3910792;-80.0131646
X-APPLE-STRUCTURED-LOCATION;VALUE=URI;X-ADDRESS=Brookline Memorial Park Oakridge Street  Pittsburgh PA 15226 United States;X-APPLE-RADIUS=500;X-TITLE=Oakridge Street:geo:-80.0131646,40.3910792
END:VEVENT
BEGIN:VEVENT
DTSTART;TZID=America/New_York:20150813T210000
DTEND;TZID=America/New_York:20150813T230000
DTSTAMP:20260422T033923
CREATED:20150529T232918Z
LAST-MODIFIED:20150529T232918Z
UID:8742-1439499600-1439506800@playpittsburgh.com
SUMMARY:Cinema in the Park - Brookline Memorial Park
DESCRIPTION:Enjoy free movies in the park at Brookline Memorial Park. Movies begin at dusk (around 9pm) every Thursday through August 27th. \n\nJune 11 The Sandlot (PG)\nJune 18 Maleficent (PG)\nJune 25 The Hundred-Foot Journey (PG)\nJuly 2 The Boxtrolls (PG)\nJuly 9 Cantinflas (PG)\nJuly 16 The Lego Movie (PG)\nJuly 23 The Wizard of Oz (NR)\nJuly 30 Big Hero 6 (PG)\nAugust 6 Earth to Echo (PG)\nAugust 13 When the Game Stands Tall (PG)\nAugust 20 The Princess and the Frog (G)\nAugust 27 McFarland\, USA (PG)
URL:https://playpittsburgh.com/event/cinema-in-the-park-brookline-memorial-park/2015-08-13/
LOCATION:Brookline Memorial Park\, Oakridge Street \, Pittsburgh\, PA\, 15226\, United States
GEO:40.3910792;-80.0131646
X-APPLE-STRUCTURED-LOCATION;VALUE=URI;X-ADDRESS=Brookline Memorial Park Oakridge Street  Pittsburgh PA 15226 United States;X-APPLE-RADIUS=500;X-TITLE=Oakridge Street:geo:-80.0131646,40.3910792
END:VEVENT
BEGIN:VEVENT
DTSTART;TZID=America/New_York:20150806T210000
DTEND;TZID=America/New_York:20150806T230000
DTSTAMP:20260422T033923
CREATED:20150529T232918Z
LAST-MODIFIED:20150529T232918Z
UID:8741-1438894800-1438902000@playpittsburgh.com
SUMMARY:Cinema in the Park - Brookline Memorial Park
DESCRIPTION:Enjoy free movies in the park at Brookline Memorial Park. Movies begin at dusk (around 9pm) every Thursday through August 27th. \n\nJune 11 The Sandlot (PG)\nJune 18 Maleficent (PG)\nJune 25 The Hundred-Foot Journey (PG)\nJuly 2 The Boxtrolls (PG)\nJuly 9 Cantinflas (PG)\nJuly 16 The Lego Movie (PG)\nJuly 23 The Wizard of Oz (NR)\nJuly 30 Big Hero 6 (PG)\nAugust 6 Earth to Echo (PG)\nAugust 13 When the Game Stands Tall (PG)\nAugust 20 The Princess and the Frog (G)\nAugust 27 McFarland\, USA (PG)
URL:https://playpittsburgh.com/event/cinema-in-the-park-brookline-memorial-park/2015-08-06/
LOCATION:Brookline Memorial Park\, Oakridge Street \, Pittsburgh\, PA\, 15226\, United States
GEO:40.3910792;-80.0131646
X-APPLE-STRUCTURED-LOCATION;VALUE=URI;X-ADDRESS=Brookline Memorial Park Oakridge Street  Pittsburgh PA 15226 United States;X-APPLE-RADIUS=500;X-TITLE=Oakridge Street:geo:-80.0131646,40.3910792
END:VEVENT
BEGIN:VEVENT
DTSTART;TZID=America/New_York:20150730T210000
DTEND;TZID=America/New_York:20150730T230000
DTSTAMP:20260422T033923
CREATED:20150529T232918Z
LAST-MODIFIED:20150529T232918Z
UID:8740-1438290000-1438297200@playpittsburgh.com
SUMMARY:Cinema in the Park - Brookline Memorial Park
DESCRIPTION:Enjoy free movies in the park at Brookline Memorial Park. Movies begin at dusk (around 9pm) every Thursday through August 27th. \n\nJune 11 The Sandlot (PG)\nJune 18 Maleficent (PG)\nJune 25 The Hundred-Foot Journey (PG)\nJuly 2 The Boxtrolls (PG)\nJuly 9 Cantinflas (PG)\nJuly 16 The Lego Movie (PG)\nJuly 23 The Wizard of Oz (NR)\nJuly 30 Big Hero 6 (PG)\nAugust 6 Earth to Echo (PG)\nAugust 13 When the Game Stands Tall (PG)\nAugust 20 The Princess and the Frog (G)\nAugust 27 McFarland\, USA (PG)
URL:https://playpittsburgh.com/event/cinema-in-the-park-brookline-memorial-park/2015-07-30/
LOCATION:Brookline Memorial Park\, Oakridge Street \, Pittsburgh\, PA\, 15226\, United States
GEO:40.3910792;-80.0131646
X-APPLE-STRUCTURED-LOCATION;VALUE=URI;X-ADDRESS=Brookline Memorial Park Oakridge Street  Pittsburgh PA 15226 United States;X-APPLE-RADIUS=500;X-TITLE=Oakridge Street:geo:-80.0131646,40.3910792
END:VEVENT
BEGIN:VEVENT
DTSTART;TZID=America/New_York:20150723T210000
DTEND;TZID=America/New_York:20150723T230000
DTSTAMP:20260422T033923
CREATED:20150529T232918Z
LAST-MODIFIED:20150529T232918Z
UID:8739-1437685200-1437692400@playpittsburgh.com
SUMMARY:Cinema in the Park - Brookline Memorial Park
DESCRIPTION:Enjoy free movies in the park at Brookline Memorial Park. Movies begin at dusk (around 9pm) every Thursday through August 27th. \n\nJune 11 The Sandlot (PG)\nJune 18 Maleficent (PG)\nJune 25 The Hundred-Foot Journey (PG)\nJuly 2 The Boxtrolls (PG)\nJuly 9 Cantinflas (PG)\nJuly 16 The Lego Movie (PG)\nJuly 23 The Wizard of Oz (NR)\nJuly 30 Big Hero 6 (PG)\nAugust 6 Earth to Echo (PG)\nAugust 13 When the Game Stands Tall (PG)\nAugust 20 The Princess and the Frog (G)\nAugust 27 McFarland\, USA (PG)
URL:https://playpittsburgh.com/event/cinema-in-the-park-brookline-memorial-park/2015-07-23/
LOCATION:Brookline Memorial Park\, Oakridge Street \, Pittsburgh\, PA\, 15226\, United States
GEO:40.3910792;-80.0131646
X-APPLE-STRUCTURED-LOCATION;VALUE=URI;X-ADDRESS=Brookline Memorial Park Oakridge Street  Pittsburgh PA 15226 United States;X-APPLE-RADIUS=500;X-TITLE=Oakridge Street:geo:-80.0131646,40.3910792
END:VEVENT
BEGIN:VEVENT
DTSTART;TZID=America/New_York:20150716T210000
DTEND;TZID=America/New_York:20150716T230000
DTSTAMP:20260422T033923
CREATED:20150529T232918Z
LAST-MODIFIED:20150529T232918Z
UID:8738-1437080400-1437087600@playpittsburgh.com
SUMMARY:Cinema in the Park - Brookline Memorial Park
DESCRIPTION:Enjoy free movies in the park at Brookline Memorial Park. Movies begin at dusk (around 9pm) every Thursday through August 27th. \n\nJune 11 The Sandlot (PG)\nJune 18 Maleficent (PG)\nJune 25 The Hundred-Foot Journey (PG)\nJuly 2 The Boxtrolls (PG)\nJuly 9 Cantinflas (PG)\nJuly 16 The Lego Movie (PG)\nJuly 23 The Wizard of Oz (NR)\nJuly 30 Big Hero 6 (PG)\nAugust 6 Earth to Echo (PG)\nAugust 13 When the Game Stands Tall (PG)\nAugust 20 The Princess and the Frog (G)\nAugust 27 McFarland\, USA (PG)
URL:https://playpittsburgh.com/event/cinema-in-the-park-brookline-memorial-park/2015-07-16/
LOCATION:Brookline Memorial Park\, Oakridge Street \, Pittsburgh\, PA\, 15226\, United States
GEO:40.3910792;-80.0131646
X-APPLE-STRUCTURED-LOCATION;VALUE=URI;X-ADDRESS=Brookline Memorial Park Oakridge Street  Pittsburgh PA 15226 United States;X-APPLE-RADIUS=500;X-TITLE=Oakridge Street:geo:-80.0131646,40.3910792
END:VEVENT
BEGIN:VEVENT
DTSTART;TZID=America/New_York:20150709T210000
DTEND;TZID=America/New_York:20150709T230000
DTSTAMP:20260422T033923
CREATED:20150529T232918Z
LAST-MODIFIED:20150529T232918Z
UID:8737-1436475600-1436482800@playpittsburgh.com
SUMMARY:Cinema in the Park - Brookline Memorial Park
DESCRIPTION:Enjoy free movies in the park at Brookline Memorial Park. Movies begin at dusk (around 9pm) every Thursday through August 27th. \n\nJune 11 The Sandlot (PG)\nJune 18 Maleficent (PG)\nJune 25 The Hundred-Foot Journey (PG)\nJuly 2 The Boxtrolls (PG)\nJuly 9 Cantinflas (PG)\nJuly 16 The Lego Movie (PG)\nJuly 23 The Wizard of Oz (NR)\nJuly 30 Big Hero 6 (PG)\nAugust 6 Earth to Echo (PG)\nAugust 13 When the Game Stands Tall (PG)\nAugust 20 The Princess and the Frog (G)\nAugust 27 McFarland\, USA (PG)
URL:https://playpittsburgh.com/event/cinema-in-the-park-brookline-memorial-park/2015-07-09/
LOCATION:Brookline Memorial Park\, Oakridge Street \, Pittsburgh\, PA\, 15226\, United States
GEO:40.3910792;-80.0131646
X-APPLE-STRUCTURED-LOCATION;VALUE=URI;X-ADDRESS=Brookline Memorial Park Oakridge Street  Pittsburgh PA 15226 United States;X-APPLE-RADIUS=500;X-TITLE=Oakridge Street:geo:-80.0131646,40.3910792
END:VEVENT
BEGIN:VEVENT
DTSTART;TZID=America/New_York:20150702T210000
DTEND;TZID=America/New_York:20150702T230000
DTSTAMP:20260422T033923
CREATED:20150529T232918Z
LAST-MODIFIED:20150529T232918Z
UID:8736-1435870800-1435878000@playpittsburgh.com
SUMMARY:Cinema in the Park - Brookline Memorial Park
DESCRIPTION:Enjoy free movies in the park at Brookline Memorial Park. Movies begin at dusk (around 9pm) every Thursday through August 27th. \n\nJune 11 The Sandlot (PG)\nJune 18 Maleficent (PG)\nJune 25 The Hundred-Foot Journey (PG)\nJuly 2 The Boxtrolls (PG)\nJuly 9 Cantinflas (PG)\nJuly 16 The Lego Movie (PG)\nJuly 23 The Wizard of Oz (NR)\nJuly 30 Big Hero 6 (PG)\nAugust 6 Earth to Echo (PG)\nAugust 13 When the Game Stands Tall (PG)\nAugust 20 The Princess and the Frog (G)\nAugust 27 McFarland\, USA (PG)
URL:https://playpittsburgh.com/event/cinema-in-the-park-brookline-memorial-park/2015-07-02/
LOCATION:Brookline Memorial Park\, Oakridge Street \, Pittsburgh\, PA\, 15226\, United States
GEO:40.3910792;-80.0131646
X-APPLE-STRUCTURED-LOCATION;VALUE=URI;X-ADDRESS=Brookline Memorial Park Oakridge Street  Pittsburgh PA 15226 United States;X-APPLE-RADIUS=500;X-TITLE=Oakridge Street:geo:-80.0131646,40.3910792
END:VEVENT
BEGIN:VEVENT
DTSTART;TZID=America/New_York:20150625T210000
DTEND;TZID=America/New_York:20150625T230000
DTSTAMP:20260422T033923
CREATED:20150529T232918Z
LAST-MODIFIED:20150529T232918Z
UID:8735-1435266000-1435273200@playpittsburgh.com
SUMMARY:Cinema in the Park - Brookline Memorial Park
DESCRIPTION:Enjoy free movies in the park at Brookline Memorial Park. Movies begin at dusk (around 9pm) every Thursday through August 27th. \n\nJune 11 The Sandlot (PG)\nJune 18 Maleficent (PG)\nJune 25 The Hundred-Foot Journey (PG)\nJuly 2 The Boxtrolls (PG)\nJuly 9 Cantinflas (PG)\nJuly 16 The Lego Movie (PG)\nJuly 23 The Wizard of Oz (NR)\nJuly 30 Big Hero 6 (PG)\nAugust 6 Earth to Echo (PG)\nAugust 13 When the Game Stands Tall (PG)\nAugust 20 The Princess and the Frog (G)\nAugust 27 McFarland\, USA (PG)
URL:https://playpittsburgh.com/event/cinema-in-the-park-brookline-memorial-park/2015-06-25/
LOCATION:Brookline Memorial Park\, Oakridge Street \, Pittsburgh\, PA\, 15226\, United States
GEO:40.3910792;-80.0131646
X-APPLE-STRUCTURED-LOCATION;VALUE=URI;X-ADDRESS=Brookline Memorial Park Oakridge Street  Pittsburgh PA 15226 United States;X-APPLE-RADIUS=500;X-TITLE=Oakridge Street:geo:-80.0131646,40.3910792
END:VEVENT
BEGIN:VEVENT
DTSTART;TZID=America/New_York:20150618T210000
DTEND;TZID=America/New_York:20150618T230000
DTSTAMP:20260422T033923
CREATED:20150529T232918Z
LAST-MODIFIED:20150529T232918Z
UID:8734-1434661200-1434668400@playpittsburgh.com
SUMMARY:Cinema in the Park - Brookline Memorial Park
DESCRIPTION:Enjoy free movies in the park at Brookline Memorial Park. Movies begin at dusk (around 9pm) every Thursday through August 27th. \n\nJune 11 The Sandlot (PG)\nJune 18 Maleficent (PG)\nJune 25 The Hundred-Foot Journey (PG)\nJuly 2 The Boxtrolls (PG)\nJuly 9 Cantinflas (PG)\nJuly 16 The Lego Movie (PG)\nJuly 23 The Wizard of Oz (NR)\nJuly 30 Big Hero 6 (PG)\nAugust 6 Earth to Echo (PG)\nAugust 13 When the Game Stands Tall (PG)\nAugust 20 The Princess and the Frog (G)\nAugust 27 McFarland\, USA (PG)
URL:https://playpittsburgh.com/event/cinema-in-the-park-brookline-memorial-park/2015-06-18/
LOCATION:Brookline Memorial Park\, Oakridge Street \, Pittsburgh\, PA\, 15226\, United States
GEO:40.3910792;-80.0131646
X-APPLE-STRUCTURED-LOCATION;VALUE=URI;X-ADDRESS=Brookline Memorial Park Oakridge Street  Pittsburgh PA 15226 United States;X-APPLE-RADIUS=500;X-TITLE=Oakridge Street:geo:-80.0131646,40.3910792
END:VEVENT
BEGIN:VEVENT
DTSTART;TZID=America/New_York:20150611T210000
DTEND;TZID=America/New_York:20150611T230000
DTSTAMP:20260422T033923
CREATED:20150529T232918Z
LAST-MODIFIED:20150529T232918Z
UID:8733-1434056400-1434063600@playpittsburgh.com
SUMMARY:Cinema in the Park - Brookline Memorial Park
DESCRIPTION:Enjoy free movies in the park at Brookline Memorial Park. Movies begin at dusk (around 9pm) every Thursday through August 27th. \n\nJune 11 The Sandlot (PG)\nJune 18 Maleficent (PG)\nJune 25 The Hundred-Foot Journey (PG)\nJuly 2 The Boxtrolls (PG)\nJuly 9 Cantinflas (PG)\nJuly 16 The Lego Movie (PG)\nJuly 23 The Wizard of Oz (NR)\nJuly 30 Big Hero 6 (PG)\nAugust 6 Earth to Echo (PG)\nAugust 13 When the Game Stands Tall (PG)\nAugust 20 The Princess and the Frog (G)\nAugust 27 McFarland\, USA (PG)
URL:https://playpittsburgh.com/event/cinema-in-the-park-brookline-memorial-park/2015-06-11/
LOCATION:Brookline Memorial Park\, Oakridge Street \, Pittsburgh\, PA\, 15226\, United States
GEO:40.3910792;-80.0131646
X-APPLE-STRUCTURED-LOCATION;VALUE=URI;X-ADDRESS=Brookline Memorial Park Oakridge Street  Pittsburgh PA 15226 United States;X-APPLE-RADIUS=500;X-TITLE=Oakridge Street:geo:-80.0131646,40.3910792
END:VEVENT
END:VCALENDAR