BEGIN:VCALENDAR
VERSION:2.0
PRODID:-//Play Pittsburgh - ECPv6.15.20//NONSGML v1.0//EN
CALSCALE:GREGORIAN
METHOD:PUBLISH
X-ORIGINAL-URL:https://playpittsburgh.com
X-WR-CALDESC:Events for Play Pittsburgh
REFRESH-INTERVAL;VALUE=DURATION:PT1H
X-Robots-Tag:noindex
X-PUBLISHED-TTL:PT1H
BEGIN:VTIMEZONE
TZID:America/New_York
BEGIN:DAYLIGHT
TZOFFSETFROM:-0500
TZOFFSETTO:-0400
TZNAME:EDT
DTSTART:20140309T070000
END:DAYLIGHT
BEGIN:STANDARD
TZOFFSETFROM:-0400
TZOFFSETTO:-0500
TZNAME:EST
DTSTART:20141102T060000
END:STANDARD
BEGIN:DAYLIGHT
TZOFFSETFROM:-0500
TZOFFSETTO:-0400
TZNAME:EDT
DTSTART:20150308T070000
END:DAYLIGHT
BEGIN:STANDARD
TZOFFSETFROM:-0400
TZOFFSETTO:-0500
TZNAME:EST
DTSTART:20151101T060000
END:STANDARD
BEGIN:DAYLIGHT
TZOFFSETFROM:-0500
TZOFFSETTO:-0400
TZNAME:EDT
DTSTART:20160313T070000
END:DAYLIGHT
BEGIN:STANDARD
TZOFFSETFROM:-0400
TZOFFSETTO:-0500
TZNAME:EST
DTSTART:20161106T060000
END:STANDARD
END:VTIMEZONE
BEGIN:VEVENT
DTSTART;TZID=America/New_York:20150828T210000
DTEND;TZID=America/New_York:20150828T230000
DTSTAMP:20260421T233342
CREATED:20150529T233651Z
LAST-MODIFIED:20150529T233651Z
UID:8756-1440795600-1440802800@playpittsburgh.com
SUMMARY:Cinema in Park - Arsenal Park
DESCRIPTION:Bring a blanket\, some lawn chairs and the family to enjoy Cinema in the Park at Arsenal Park in Lawrenceville. Movies start at dusk (around 9pm) every Friday through August 28th. \n\nJune 12 The Sandlot (PG)\nJune 19 Maleficent (PG)\nJune 26 The Hundred-Foot Journey (PG)\nJuly 3 The Boxtrolls (PG)\nJuly 10 Cantinflas (PG)\nJuly 17 The Lego Movie (PG)\nJuly 24 The Wizard of Oz (NR)\nJuly 31 Big Hero 6 (PG)\nAugust 7 Earth to Echo (PG)\nAugust 14 When the Game Stands Tall (PG)\nAugust 21 The Princess and the Frog (G)\nAugust 28 McFarland\, USA (PG)
URL:https://playpittsburgh.com/event/cinema-in-parkarsenalpark/2015-08-28/
LOCATION:Arsenal Park\, 39th and Butler streets\, Lawrenceville \, PA\, 15224\, United States
GEO:40.4675603;-79.9637391
X-APPLE-STRUCTURED-LOCATION;VALUE=URI;X-ADDRESS=Arsenal Park 39th and Butler streets Lawrenceville  PA 15224 United States;X-APPLE-RADIUS=500;X-TITLE=39th and Butler streets:geo:-79.9637391,40.4675603
END:VEVENT
BEGIN:VEVENT
DTSTART;TZID=America/New_York:20150821T210000
DTEND;TZID=America/New_York:20150821T230000
DTSTAMP:20260421T233342
CREATED:20150529T233651Z
LAST-MODIFIED:20150529T233651Z
UID:8755-1440190800-1440198000@playpittsburgh.com
SUMMARY:Cinema in Park - Arsenal Park
DESCRIPTION:Bring a blanket\, some lawn chairs and the family to enjoy Cinema in the Park at Arsenal Park in Lawrenceville. Movies start at dusk (around 9pm) every Friday through August 28th. \n\nJune 12 The Sandlot (PG)\nJune 19 Maleficent (PG)\nJune 26 The Hundred-Foot Journey (PG)\nJuly 3 The Boxtrolls (PG)\nJuly 10 Cantinflas (PG)\nJuly 17 The Lego Movie (PG)\nJuly 24 The Wizard of Oz (NR)\nJuly 31 Big Hero 6 (PG)\nAugust 7 Earth to Echo (PG)\nAugust 14 When the Game Stands Tall (PG)\nAugust 21 The Princess and the Frog (G)\nAugust 28 McFarland\, USA (PG)
URL:https://playpittsburgh.com/event/cinema-in-parkarsenalpark/2015-08-21/
LOCATION:Arsenal Park\, 39th and Butler streets\, Lawrenceville \, PA\, 15224\, United States
GEO:40.4675603;-79.9637391
X-APPLE-STRUCTURED-LOCATION;VALUE=URI;X-ADDRESS=Arsenal Park 39th and Butler streets Lawrenceville  PA 15224 United States;X-APPLE-RADIUS=500;X-TITLE=39th and Butler streets:geo:-79.9637391,40.4675603
END:VEVENT
BEGIN:VEVENT
DTSTART;TZID=America/New_York:20150814T210000
DTEND;TZID=America/New_York:20150814T230000
DTSTAMP:20260421T233342
CREATED:20150529T233651Z
LAST-MODIFIED:20150529T233651Z
UID:8754-1439586000-1439593200@playpittsburgh.com
SUMMARY:Cinema in Park - Arsenal Park
DESCRIPTION:Bring a blanket\, some lawn chairs and the family to enjoy Cinema in the Park at Arsenal Park in Lawrenceville. Movies start at dusk (around 9pm) every Friday through August 28th. \n\nJune 12 The Sandlot (PG)\nJune 19 Maleficent (PG)\nJune 26 The Hundred-Foot Journey (PG)\nJuly 3 The Boxtrolls (PG)\nJuly 10 Cantinflas (PG)\nJuly 17 The Lego Movie (PG)\nJuly 24 The Wizard of Oz (NR)\nJuly 31 Big Hero 6 (PG)\nAugust 7 Earth to Echo (PG)\nAugust 14 When the Game Stands Tall (PG)\nAugust 21 The Princess and the Frog (G)\nAugust 28 McFarland\, USA (PG)
URL:https://playpittsburgh.com/event/cinema-in-parkarsenalpark/2015-08-14/
LOCATION:Arsenal Park\, 39th and Butler streets\, Lawrenceville \, PA\, 15224\, United States
GEO:40.4675603;-79.9637391
X-APPLE-STRUCTURED-LOCATION;VALUE=URI;X-ADDRESS=Arsenal Park 39th and Butler streets Lawrenceville  PA 15224 United States;X-APPLE-RADIUS=500;X-TITLE=39th and Butler streets:geo:-79.9637391,40.4675603
END:VEVENT
BEGIN:VEVENT
DTSTART;TZID=America/New_York:20150807T210000
DTEND;TZID=America/New_York:20150807T230000
DTSTAMP:20260421T233342
CREATED:20150529T233651Z
LAST-MODIFIED:20150529T233651Z
UID:8753-1438981200-1438988400@playpittsburgh.com
SUMMARY:Cinema in Park - Arsenal Park
DESCRIPTION:Bring a blanket\, some lawn chairs and the family to enjoy Cinema in the Park at Arsenal Park in Lawrenceville. Movies start at dusk (around 9pm) every Friday through August 28th. \n\nJune 12 The Sandlot (PG)\nJune 19 Maleficent (PG)\nJune 26 The Hundred-Foot Journey (PG)\nJuly 3 The Boxtrolls (PG)\nJuly 10 Cantinflas (PG)\nJuly 17 The Lego Movie (PG)\nJuly 24 The Wizard of Oz (NR)\nJuly 31 Big Hero 6 (PG)\nAugust 7 Earth to Echo (PG)\nAugust 14 When the Game Stands Tall (PG)\nAugust 21 The Princess and the Frog (G)\nAugust 28 McFarland\, USA (PG)
URL:https://playpittsburgh.com/event/cinema-in-parkarsenalpark/2015-08-07/
LOCATION:Arsenal Park\, 39th and Butler streets\, Lawrenceville \, PA\, 15224\, United States
GEO:40.4675603;-79.9637391
X-APPLE-STRUCTURED-LOCATION;VALUE=URI;X-ADDRESS=Arsenal Park 39th and Butler streets Lawrenceville  PA 15224 United States;X-APPLE-RADIUS=500;X-TITLE=39th and Butler streets:geo:-79.9637391,40.4675603
END:VEVENT
BEGIN:VEVENT
DTSTART;TZID=America/New_York:20150731T210000
DTEND;TZID=America/New_York:20150731T230000
DTSTAMP:20260421T233342
CREATED:20150529T233651Z
LAST-MODIFIED:20150529T233651Z
UID:8752-1438376400-1438383600@playpittsburgh.com
SUMMARY:Cinema in Park - Arsenal Park
DESCRIPTION:Bring a blanket\, some lawn chairs and the family to enjoy Cinema in the Park at Arsenal Park in Lawrenceville. Movies start at dusk (around 9pm) every Friday through August 28th. \n\nJune 12 The Sandlot (PG)\nJune 19 Maleficent (PG)\nJune 26 The Hundred-Foot Journey (PG)\nJuly 3 The Boxtrolls (PG)\nJuly 10 Cantinflas (PG)\nJuly 17 The Lego Movie (PG)\nJuly 24 The Wizard of Oz (NR)\nJuly 31 Big Hero 6 (PG)\nAugust 7 Earth to Echo (PG)\nAugust 14 When the Game Stands Tall (PG)\nAugust 21 The Princess and the Frog (G)\nAugust 28 McFarland\, USA (PG)
URL:https://playpittsburgh.com/event/cinema-in-parkarsenalpark/2015-07-31/
LOCATION:Arsenal Park\, 39th and Butler streets\, Lawrenceville \, PA\, 15224\, United States
GEO:40.4675603;-79.9637391
X-APPLE-STRUCTURED-LOCATION;VALUE=URI;X-ADDRESS=Arsenal Park 39th and Butler streets Lawrenceville  PA 15224 United States;X-APPLE-RADIUS=500;X-TITLE=39th and Butler streets:geo:-79.9637391,40.4675603
END:VEVENT
BEGIN:VEVENT
DTSTART;TZID=America/New_York:20150724T210000
DTEND;TZID=America/New_York:20150724T230000
DTSTAMP:20260421T233342
CREATED:20150529T233651Z
LAST-MODIFIED:20150529T233651Z
UID:8751-1437771600-1437778800@playpittsburgh.com
SUMMARY:Cinema in Park - Arsenal Park
DESCRIPTION:Bring a blanket\, some lawn chairs and the family to enjoy Cinema in the Park at Arsenal Park in Lawrenceville. Movies start at dusk (around 9pm) every Friday through August 28th. \n\nJune 12 The Sandlot (PG)\nJune 19 Maleficent (PG)\nJune 26 The Hundred-Foot Journey (PG)\nJuly 3 The Boxtrolls (PG)\nJuly 10 Cantinflas (PG)\nJuly 17 The Lego Movie (PG)\nJuly 24 The Wizard of Oz (NR)\nJuly 31 Big Hero 6 (PG)\nAugust 7 Earth to Echo (PG)\nAugust 14 When the Game Stands Tall (PG)\nAugust 21 The Princess and the Frog (G)\nAugust 28 McFarland\, USA (PG)
URL:https://playpittsburgh.com/event/cinema-in-parkarsenalpark/2015-07-24/
LOCATION:Arsenal Park\, 39th and Butler streets\, Lawrenceville \, PA\, 15224\, United States
GEO:40.4675603;-79.9637391
X-APPLE-STRUCTURED-LOCATION;VALUE=URI;X-ADDRESS=Arsenal Park 39th and Butler streets Lawrenceville  PA 15224 United States;X-APPLE-RADIUS=500;X-TITLE=39th and Butler streets:geo:-79.9637391,40.4675603
END:VEVENT
BEGIN:VEVENT
DTSTART;TZID=America/New_York:20150717T210000
DTEND;TZID=America/New_York:20150717T230000
DTSTAMP:20260421T233342
CREATED:20150529T233651Z
LAST-MODIFIED:20150529T233651Z
UID:8750-1437166800-1437174000@playpittsburgh.com
SUMMARY:Cinema in Park - Arsenal Park
DESCRIPTION:Bring a blanket\, some lawn chairs and the family to enjoy Cinema in the Park at Arsenal Park in Lawrenceville. Movies start at dusk (around 9pm) every Friday through August 28th. \n\nJune 12 The Sandlot (PG)\nJune 19 Maleficent (PG)\nJune 26 The Hundred-Foot Journey (PG)\nJuly 3 The Boxtrolls (PG)\nJuly 10 Cantinflas (PG)\nJuly 17 The Lego Movie (PG)\nJuly 24 The Wizard of Oz (NR)\nJuly 31 Big Hero 6 (PG)\nAugust 7 Earth to Echo (PG)\nAugust 14 When the Game Stands Tall (PG)\nAugust 21 The Princess and the Frog (G)\nAugust 28 McFarland\, USA (PG)
URL:https://playpittsburgh.com/event/cinema-in-parkarsenalpark/2015-07-17/
LOCATION:Arsenal Park\, 39th and Butler streets\, Lawrenceville \, PA\, 15224\, United States
GEO:40.4675603;-79.9637391
X-APPLE-STRUCTURED-LOCATION;VALUE=URI;X-ADDRESS=Arsenal Park 39th and Butler streets Lawrenceville  PA 15224 United States;X-APPLE-RADIUS=500;X-TITLE=39th and Butler streets:geo:-79.9637391,40.4675603
END:VEVENT
BEGIN:VEVENT
DTSTART;TZID=America/New_York:20150710T210000
DTEND;TZID=America/New_York:20150710T230000
DTSTAMP:20260421T233342
CREATED:20150529T233651Z
LAST-MODIFIED:20150529T233651Z
UID:8749-1436562000-1436569200@playpittsburgh.com
SUMMARY:Cinema in Park - Arsenal Park
DESCRIPTION:Bring a blanket\, some lawn chairs and the family to enjoy Cinema in the Park at Arsenal Park in Lawrenceville. Movies start at dusk (around 9pm) every Friday through August 28th. \n\nJune 12 The Sandlot (PG)\nJune 19 Maleficent (PG)\nJune 26 The Hundred-Foot Journey (PG)\nJuly 3 The Boxtrolls (PG)\nJuly 10 Cantinflas (PG)\nJuly 17 The Lego Movie (PG)\nJuly 24 The Wizard of Oz (NR)\nJuly 31 Big Hero 6 (PG)\nAugust 7 Earth to Echo (PG)\nAugust 14 When the Game Stands Tall (PG)\nAugust 21 The Princess and the Frog (G)\nAugust 28 McFarland\, USA (PG)
URL:https://playpittsburgh.com/event/cinema-in-parkarsenalpark/2015-07-10/
LOCATION:Arsenal Park\, 39th and Butler streets\, Lawrenceville \, PA\, 15224\, United States
GEO:40.4675603;-79.9637391
X-APPLE-STRUCTURED-LOCATION;VALUE=URI;X-ADDRESS=Arsenal Park 39th and Butler streets Lawrenceville  PA 15224 United States;X-APPLE-RADIUS=500;X-TITLE=39th and Butler streets:geo:-79.9637391,40.4675603
END:VEVENT
BEGIN:VEVENT
DTSTART;TZID=America/New_York:20150703T210000
DTEND;TZID=America/New_York:20150703T230000
DTSTAMP:20260421T233342
CREATED:20150529T233651Z
LAST-MODIFIED:20150529T233651Z
UID:8748-1435957200-1435964400@playpittsburgh.com
SUMMARY:Cinema in Park - Arsenal Park
DESCRIPTION:Bring a blanket\, some lawn chairs and the family to enjoy Cinema in the Park at Arsenal Park in Lawrenceville. Movies start at dusk (around 9pm) every Friday through August 28th. \n\nJune 12 The Sandlot (PG)\nJune 19 Maleficent (PG)\nJune 26 The Hundred-Foot Journey (PG)\nJuly 3 The Boxtrolls (PG)\nJuly 10 Cantinflas (PG)\nJuly 17 The Lego Movie (PG)\nJuly 24 The Wizard of Oz (NR)\nJuly 31 Big Hero 6 (PG)\nAugust 7 Earth to Echo (PG)\nAugust 14 When the Game Stands Tall (PG)\nAugust 21 The Princess and the Frog (G)\nAugust 28 McFarland\, USA (PG)
URL:https://playpittsburgh.com/event/cinema-in-parkarsenalpark/2015-07-03/
LOCATION:Arsenal Park\, 39th and Butler streets\, Lawrenceville \, PA\, 15224\, United States
GEO:40.4675603;-79.9637391
X-APPLE-STRUCTURED-LOCATION;VALUE=URI;X-ADDRESS=Arsenal Park 39th and Butler streets Lawrenceville  PA 15224 United States;X-APPLE-RADIUS=500;X-TITLE=39th and Butler streets:geo:-79.9637391,40.4675603
END:VEVENT
BEGIN:VEVENT
DTSTART;TZID=America/New_York:20150626T210000
DTEND;TZID=America/New_York:20150626T230000
DTSTAMP:20260421T233342
CREATED:20150529T233651Z
LAST-MODIFIED:20150529T233651Z
UID:8747-1435352400-1435359600@playpittsburgh.com
SUMMARY:Cinema in Park - Arsenal Park
DESCRIPTION:Bring a blanket\, some lawn chairs and the family to enjoy Cinema in the Park at Arsenal Park in Lawrenceville. Movies start at dusk (around 9pm) every Friday through August 28th. \n\nJune 12 The Sandlot (PG)\nJune 19 Maleficent (PG)\nJune 26 The Hundred-Foot Journey (PG)\nJuly 3 The Boxtrolls (PG)\nJuly 10 Cantinflas (PG)\nJuly 17 The Lego Movie (PG)\nJuly 24 The Wizard of Oz (NR)\nJuly 31 Big Hero 6 (PG)\nAugust 7 Earth to Echo (PG)\nAugust 14 When the Game Stands Tall (PG)\nAugust 21 The Princess and the Frog (G)\nAugust 28 McFarland\, USA (PG)
URL:https://playpittsburgh.com/event/cinema-in-parkarsenalpark/2015-06-26/
LOCATION:Arsenal Park\, 39th and Butler streets\, Lawrenceville \, PA\, 15224\, United States
GEO:40.4675603;-79.9637391
X-APPLE-STRUCTURED-LOCATION;VALUE=URI;X-ADDRESS=Arsenal Park 39th and Butler streets Lawrenceville  PA 15224 United States;X-APPLE-RADIUS=500;X-TITLE=39th and Butler streets:geo:-79.9637391,40.4675603
END:VEVENT
BEGIN:VEVENT
DTSTART;TZID=America/New_York:20150619T210000
DTEND;TZID=America/New_York:20150619T230000
DTSTAMP:20260421T233342
CREATED:20150529T233651Z
LAST-MODIFIED:20150529T233651Z
UID:8746-1434747600-1434754800@playpittsburgh.com
SUMMARY:Cinema in Park - Arsenal Park
DESCRIPTION:Bring a blanket\, some lawn chairs and the family to enjoy Cinema in the Park at Arsenal Park in Lawrenceville. Movies start at dusk (around 9pm) every Friday through August 28th. \n\nJune 12 The Sandlot (PG)\nJune 19 Maleficent (PG)\nJune 26 The Hundred-Foot Journey (PG)\nJuly 3 The Boxtrolls (PG)\nJuly 10 Cantinflas (PG)\nJuly 17 The Lego Movie (PG)\nJuly 24 The Wizard of Oz (NR)\nJuly 31 Big Hero 6 (PG)\nAugust 7 Earth to Echo (PG)\nAugust 14 When the Game Stands Tall (PG)\nAugust 21 The Princess and the Frog (G)\nAugust 28 McFarland\, USA (PG)
URL:https://playpittsburgh.com/event/cinema-in-parkarsenalpark/2015-06-19/
LOCATION:Arsenal Park\, 39th and Butler streets\, Lawrenceville \, PA\, 15224\, United States
GEO:40.4675603;-79.9637391
X-APPLE-STRUCTURED-LOCATION;VALUE=URI;X-ADDRESS=Arsenal Park 39th and Butler streets Lawrenceville  PA 15224 United States;X-APPLE-RADIUS=500;X-TITLE=39th and Butler streets:geo:-79.9637391,40.4675603
END:VEVENT
BEGIN:VEVENT
DTSTART;TZID=America/New_York:20150612T210000
DTEND;TZID=America/New_York:20150612T230000
DTSTAMP:20260421T233342
CREATED:20150529T233651Z
LAST-MODIFIED:20150529T233651Z
UID:8745-1434142800-1434150000@playpittsburgh.com
SUMMARY:Cinema in Park - Arsenal Park
DESCRIPTION:Bring a blanket\, some lawn chairs and the family to enjoy Cinema in the Park at Arsenal Park in Lawrenceville. Movies start at dusk (around 9pm) every Friday through August 28th. \n\nJune 12 The Sandlot (PG)\nJune 19 Maleficent (PG)\nJune 26 The Hundred-Foot Journey (PG)\nJuly 3 The Boxtrolls (PG)\nJuly 10 Cantinflas (PG)\nJuly 17 The Lego Movie (PG)\nJuly 24 The Wizard of Oz (NR)\nJuly 31 Big Hero 6 (PG)\nAugust 7 Earth to Echo (PG)\nAugust 14 When the Game Stands Tall (PG)\nAugust 21 The Princess and the Frog (G)\nAugust 28 McFarland\, USA (PG)
URL:https://playpittsburgh.com/event/cinema-in-parkarsenalpark/2015-06-12/
LOCATION:Arsenal Park\, 39th and Butler streets\, Lawrenceville \, PA\, 15224\, United States
GEO:40.4675603;-79.9637391
X-APPLE-STRUCTURED-LOCATION;VALUE=URI;X-ADDRESS=Arsenal Park 39th and Butler streets Lawrenceville  PA 15224 United States;X-APPLE-RADIUS=500;X-TITLE=39th and Butler streets:geo:-79.9637391,40.4675603
END:VEVENT
END:VCALENDAR