BEGIN:VCALENDAR
VERSION:2.0
PRODID:-//Play Pittsburgh - ECPv6.15.20//NONSGML v1.0//EN
CALSCALE:GREGORIAN
METHOD:PUBLISH
X-ORIGINAL-URL:https://playpittsburgh.com
X-WR-CALDESC:Events for Play Pittsburgh
REFRESH-INTERVAL;VALUE=DURATION:PT1H
X-Robots-Tag:noindex
X-PUBLISHED-TTL:PT1H
BEGIN:VTIMEZONE
TZID:America/New_York
BEGIN:DAYLIGHT
TZOFFSETFROM:-0500
TZOFFSETTO:-0400
TZNAME:EDT
DTSTART:20130310T070000
END:DAYLIGHT
BEGIN:STANDARD
TZOFFSETFROM:-0400
TZOFFSETTO:-0500
TZNAME:EST
DTSTART:20131103T060000
END:STANDARD
BEGIN:DAYLIGHT
TZOFFSETFROM:-0500
TZOFFSETTO:-0400
TZNAME:EDT
DTSTART:20140309T070000
END:DAYLIGHT
BEGIN:STANDARD
TZOFFSETFROM:-0400
TZOFFSETTO:-0500
TZNAME:EST
DTSTART:20141102T060000
END:STANDARD
BEGIN:DAYLIGHT
TZOFFSETFROM:-0500
TZOFFSETTO:-0400
TZNAME:EDT
DTSTART:20150308T070000
END:DAYLIGHT
BEGIN:STANDARD
TZOFFSETFROM:-0400
TZOFFSETTO:-0500
TZNAME:EST
DTSTART:20151101T060000
END:STANDARD
END:VTIMEZONE
BEGIN:VEVENT
DTSTART;TZID=America/New_York:20141107T100000
DTEND;TZID=America/New_York:20141107T170000
DTSTAMP:20260421T202435
CREATED:20141030T224831Z
LAST-MODIFIED:20141030T224831Z
UID:6876-1415354400-1415379600@playpittsburgh.com
SUMMARY:Christmas in the Village Craft Festival
DESCRIPTION:27th Annual “Christmas in the Village Craft Festival” in Eldersville\, PA on November 7\, 8\, & 9\, 2014 from 10:00 am to 5:00 pm. Stroll through our quaint town as you visit more than 50 crafters in various locations\, and delight in the unique style of each artisan. Enjoy a Horse and Carriage Ride through the Village. The theme for this year’s Festival is “Rainbow over Christmas in the Village.” This is a tribute to Carla Fritch (Rainbow the Clown) who entertained at Christmas in the Village for many years. In her memory\, we will have a color theme of Pink and Red\, both colors used in her various costumes. Admission and parking are free. \nA handcrafted “Welcome House” is centrally located in the Village on Cedar Grove Road where Directories will be available providing specific locations for crafters and food. Every location is designated by a number sign and is on the Directory. Handcrafted Nut Cracker Men hold directional signs for Parking at appropriate areas. There will be a “Children’s Tent” for crafts behind the Fire Hall. \nYou can enjoy the Christmas atmosphere of this free holiday event by walking Fire Road\, Cedar Grove Road\, Eldersville Road and Church Road in the Village. Delicious food will be served in four different locations; the Jefferson Township Fire Hall\, Eldersville Methodist Church\, and the Cornerstone Mennonite Church. These locations will also host many crafters. \nThe festivities begin on Thursday\, November 6th at the Eldersville Methodist Church with an Opening Light-Up Night Service at 7:00 pm. Everyone is welcome to attend. Following the Service\, lighting of the Village snowflake lights will take place.\nA Festival highlight is Breakfast with Santa held at the Jefferson Township Fire Hall at 8:30 a.m. on Saturday\, November 8th. For tickets\, call Paulette Mermon at 724 587-3832. \nChristmas in the Village Parade begins at noon on Saturday\, November 8th. Marching bands\, scouts\, fire trucks\, dancers\, floats and Santa will be in the Parade. The handcrafted Village Express Train will make its third appearance in the Parade. \nDuring Christmas in the Village remember our Veterans by stopping at the Veterans Memorial in the middle of the Village.
URL:https://playpittsburgh.com/event/christmas-in-the-village-craft-festival/2014-11-07/
LOCATION:How to Submit a Listing
ATTACH;FMTTYPE=:
END:VEVENT
END:VCALENDAR