BEGIN:VCALENDAR
VERSION:2.0
PRODID:-//Play Pittsburgh - ECPv6.15.20//NONSGML v1.0//EN
CALSCALE:GREGORIAN
METHOD:PUBLISH
X-ORIGINAL-URL:https://playpittsburgh.com
X-WR-CALDESC:Events for Play Pittsburgh
REFRESH-INTERVAL;VALUE=DURATION:PT1H
X-Robots-Tag:noindex
X-PUBLISHED-TTL:PT1H
BEGIN:VTIMEZONE
TZID:America/New_York
BEGIN:DAYLIGHT
TZOFFSETFROM:-0500
TZOFFSETTO:-0400
TZNAME:EDT
DTSTART:20130310T070000
END:DAYLIGHT
BEGIN:STANDARD
TZOFFSETFROM:-0400
TZOFFSETTO:-0500
TZNAME:EST
DTSTART:20131103T060000
END:STANDARD
BEGIN:DAYLIGHT
TZOFFSETFROM:-0500
TZOFFSETTO:-0400
TZNAME:EDT
DTSTART:20140309T070000
END:DAYLIGHT
BEGIN:STANDARD
TZOFFSETFROM:-0400
TZOFFSETTO:-0500
TZNAME:EST
DTSTART:20141102T060000
END:STANDARD
BEGIN:DAYLIGHT
TZOFFSETFROM:-0500
TZOFFSETTO:-0400
TZNAME:EDT
DTSTART:20150308T070000
END:DAYLIGHT
BEGIN:STANDARD
TZOFFSETFROM:-0400
TZOFFSETTO:-0500
TZNAME:EST
DTSTART:20151101T060000
END:STANDARD
END:VTIMEZONE
BEGIN:VEVENT
DTSTART;VALUE=DATE:20141231
DTEND;VALUE=DATE:20150101
DTSTAMP:20260421T215822
CREATED:20141205T072741Z
LAST-MODIFIED:20141205T072741Z
UID:8222-1419984000-1420070399@playpittsburgh.com
SUMMARY:Carnegie Science Center Holiday Camp
DESCRIPTION:Just for kids ages 4–10\, Holiday Camps are a great way to get kids to use their brains. Your kids will have so much fun they won’t even realize all of the exciting science they’re learning\, even when school is out! Call 412.237.1637 to register. \n9 am – 3 pm each day with pre and post camp\nHalf-day cost $20/$23 Full-day $36/$40\nAM Half day (9 am – noon) camps for kids ages 4-5 \nPre- and Post- care will be available beginning at 7:30 and ending at 5:30. It is an additional $5 for pre-camp and $10 for post-camp. Pre-camp is available for full and half day camps. Post-camp is only available for full day camps. \nDec. 26\nAges 4-5 – All Aboard\nClimb aboard for a look at the Miniature Railroad & Village®. Learn about trains and the culture of workin’ on the railroad all the live-long day! \nAges 6-7 – Holiday Fun\nDiscover the science behind this chilly season as you explore snowflakes\, experiment with candy canes\, and create your own frozen bubbles. This camp is too cooool to miss! \nAges 8-10 – Science Thrill Ride\nExplore the science of amusement parks as you discover the physics\, momentum\, and chemistry behind what makes them tick. \nDec. 29\nAges 4-5 – Wee Bots\nWhat is a robot and what does it do? Is it the same as me and you? Learn as you interact with some robots in action! \nAges 6-7 – Rainbow Zone\nFrom chemistry to chromatography\, learn how color and science go hand in hand. Discover the secret behind magic color-changing beads. Experiment with light and colors and have a psychedelic time. \nAges 8-10 – Holiday Fun\nDiscover the science behind this chilly season as you explore snowflakes\, experiment with candy canes\, and create your own frozen bubbles. This camp is too cooool to miss! \nDec. 30\nAges 4-5 – Science Make Sense\nUse your five senses to explore science. Make some scented play dough and experiment with swirling colors. Touch\, smell\, hear\, taste\, and see with some hands-on fun. \nAges 6-7 – Quirky Chemistry\nDiscover the science of solutions\, create chemical concoctions\, explore states of matter\, and more! You won’t believe the chemistry you can do with everyday materials! \nAges 8-10 – Introduction to Robotics\nCan robots help clean your room AND play basketball? Get up close with some binary beings in roboworld™ and learn about how they were designed and built. Using LEGO Education’s newest EV3 software and technology build a robot and then take command. YOU are in control! \nDec. 31\nAges 4-5 – Science Detectives\nLearn to use the powers of your five senses to explore the world around you\, like a scientist\, and to solve a mystery\, like a detective. \nAges 6-7 – roboworld™ Camp\nHow does a robot sense\, think\, and act? Get up close with some binary beings in roboworld™ and learn about how they were designed and built. Discover how robots help people and come up with some robot design ideas of your very own! \nAges 8-10 – Programming with Scratch\nCombine this simple programming language and your imagination to create your own interactive stories\, animations\, or games. While creating Scratch projects\, participants learn important mathematical and computational ideas\, learn to think creatively\, reason systematically\, and work collaboratively.
URL:https://playpittsburgh.com/event/carnegie-science-center-holiday-camp-2/2014-12-31/
LOCATION:Carnegie Science Center\, One Allegheny Ave.\, Pittsburgh\, PA\, 15212\, United States
GEO:40.4456737;-80.0180996
X-APPLE-STRUCTURED-LOCATION;VALUE=URI;X-ADDRESS=Carnegie Science Center One Allegheny Ave. Pittsburgh PA 15212 United States;X-APPLE-RADIUS=500;X-TITLE=One Allegheny Ave.:geo:-80.0180996,40.4456737
END:VEVENT
BEGIN:VEVENT
DTSTART;VALUE=DATE:20141230
DTEND;VALUE=DATE:20141231
DTSTAMP:20260421T215822
CREATED:20141205T072741Z
LAST-MODIFIED:20141205T072741Z
UID:8221-1419897600-1419983999@playpittsburgh.com
SUMMARY:Carnegie Science Center Holiday Camp
DESCRIPTION:Just for kids ages 4–10\, Holiday Camps are a great way to get kids to use their brains. Your kids will have so much fun they won’t even realize all of the exciting science they’re learning\, even when school is out! Call 412.237.1637 to register. \n9 am – 3 pm each day with pre and post camp\nHalf-day cost $20/$23 Full-day $36/$40\nAM Half day (9 am – noon) camps for kids ages 4-5 \nPre- and Post- care will be available beginning at 7:30 and ending at 5:30. It is an additional $5 for pre-camp and $10 for post-camp. Pre-camp is available for full and half day camps. Post-camp is only available for full day camps. \nDec. 26\nAges 4-5 – All Aboard\nClimb aboard for a look at the Miniature Railroad & Village®. Learn about trains and the culture of workin’ on the railroad all the live-long day! \nAges 6-7 – Holiday Fun\nDiscover the science behind this chilly season as you explore snowflakes\, experiment with candy canes\, and create your own frozen bubbles. This camp is too cooool to miss! \nAges 8-10 – Science Thrill Ride\nExplore the science of amusement parks as you discover the physics\, momentum\, and chemistry behind what makes them tick. \nDec. 29\nAges 4-5 – Wee Bots\nWhat is a robot and what does it do? Is it the same as me and you? Learn as you interact with some robots in action! \nAges 6-7 – Rainbow Zone\nFrom chemistry to chromatography\, learn how color and science go hand in hand. Discover the secret behind magic color-changing beads. Experiment with light and colors and have a psychedelic time. \nAges 8-10 – Holiday Fun\nDiscover the science behind this chilly season as you explore snowflakes\, experiment with candy canes\, and create your own frozen bubbles. This camp is too cooool to miss! \nDec. 30\nAges 4-5 – Science Make Sense\nUse your five senses to explore science. Make some scented play dough and experiment with swirling colors. Touch\, smell\, hear\, taste\, and see with some hands-on fun. \nAges 6-7 – Quirky Chemistry\nDiscover the science of solutions\, create chemical concoctions\, explore states of matter\, and more! You won’t believe the chemistry you can do with everyday materials! \nAges 8-10 – Introduction to Robotics\nCan robots help clean your room AND play basketball? Get up close with some binary beings in roboworld™ and learn about how they were designed and built. Using LEGO Education’s newest EV3 software and technology build a robot and then take command. YOU are in control! \nDec. 31\nAges 4-5 – Science Detectives\nLearn to use the powers of your five senses to explore the world around you\, like a scientist\, and to solve a mystery\, like a detective. \nAges 6-7 – roboworld™ Camp\nHow does a robot sense\, think\, and act? Get up close with some binary beings in roboworld™ and learn about how they were designed and built. Discover how robots help people and come up with some robot design ideas of your very own! \nAges 8-10 – Programming with Scratch\nCombine this simple programming language and your imagination to create your own interactive stories\, animations\, or games. While creating Scratch projects\, participants learn important mathematical and computational ideas\, learn to think creatively\, reason systematically\, and work collaboratively.
URL:https://playpittsburgh.com/event/carnegie-science-center-holiday-camp-2/2014-12-30/
LOCATION:Carnegie Science Center\, One Allegheny Ave.\, Pittsburgh\, PA\, 15212\, United States
GEO:40.4456737;-80.0180996
X-APPLE-STRUCTURED-LOCATION;VALUE=URI;X-ADDRESS=Carnegie Science Center One Allegheny Ave. Pittsburgh PA 15212 United States;X-APPLE-RADIUS=500;X-TITLE=One Allegheny Ave.:geo:-80.0180996,40.4456737
END:VEVENT
BEGIN:VEVENT
DTSTART;VALUE=DATE:20141229
DTEND;VALUE=DATE:20141230
DTSTAMP:20260421T215822
CREATED:20141205T072741Z
LAST-MODIFIED:20141205T072741Z
UID:5196-1419811200-1419897599@playpittsburgh.com
SUMMARY:Carnegie Science Center Holiday Camp
DESCRIPTION:Just for kids ages 4–10\, Holiday Camps are a great way to get kids to use their brains. Your kids will have so much fun they won’t even realize all of the exciting science they’re learning\, even when school is out! Call 412.237.1637 to register. \n9 am – 3 pm each day with pre and post camp\nHalf-day cost $20/$23 Full-day $36/$40\nAM Half day (9 am – noon) camps for kids ages 4-5 \nPre- and Post- care will be available beginning at 7:30 and ending at 5:30. It is an additional $5 for pre-camp and $10 for post-camp. Pre-camp is available for full and half day camps. Post-camp is only available for full day camps. \nDec. 26\nAges 4-5 – All Aboard\nClimb aboard for a look at the Miniature Railroad & Village®. Learn about trains and the culture of workin’ on the railroad all the live-long day! \nAges 6-7 – Holiday Fun\nDiscover the science behind this chilly season as you explore snowflakes\, experiment with candy canes\, and create your own frozen bubbles. This camp is too cooool to miss! \nAges 8-10 – Science Thrill Ride\nExplore the science of amusement parks as you discover the physics\, momentum\, and chemistry behind what makes them tick. \nDec. 29\nAges 4-5 – Wee Bots\nWhat is a robot and what does it do? Is it the same as me and you? Learn as you interact with some robots in action! \nAges 6-7 – Rainbow Zone\nFrom chemistry to chromatography\, learn how color and science go hand in hand. Discover the secret behind magic color-changing beads. Experiment with light and colors and have a psychedelic time. \nAges 8-10 – Holiday Fun\nDiscover the science behind this chilly season as you explore snowflakes\, experiment with candy canes\, and create your own frozen bubbles. This camp is too cooool to miss! \nDec. 30\nAges 4-5 – Science Make Sense\nUse your five senses to explore science. Make some scented play dough and experiment with swirling colors. Touch\, smell\, hear\, taste\, and see with some hands-on fun. \nAges 6-7 – Quirky Chemistry\nDiscover the science of solutions\, create chemical concoctions\, explore states of matter\, and more! You won’t believe the chemistry you can do with everyday materials! \nAges 8-10 – Introduction to Robotics\nCan robots help clean your room AND play basketball? Get up close with some binary beings in roboworld™ and learn about how they were designed and built. Using LEGO Education’s newest EV3 software and technology build a robot and then take command. YOU are in control! \nDec. 31\nAges 4-5 – Science Detectives\nLearn to use the powers of your five senses to explore the world around you\, like a scientist\, and to solve a mystery\, like a detective. \nAges 6-7 – roboworld™ Camp\nHow does a robot sense\, think\, and act? Get up close with some binary beings in roboworld™ and learn about how they were designed and built. Discover how robots help people and come up with some robot design ideas of your very own! \nAges 8-10 – Programming with Scratch\nCombine this simple programming language and your imagination to create your own interactive stories\, animations\, or games. While creating Scratch projects\, participants learn important mathematical and computational ideas\, learn to think creatively\, reason systematically\, and work collaboratively.
URL:https://playpittsburgh.com/event/carnegie-science-center-holiday-camp-2/2014-12-29/
LOCATION:Carnegie Science Center\, One Allegheny Ave.\, Pittsburgh\, PA\, 15212\, United States
GEO:40.4456737;-80.0180996
X-APPLE-STRUCTURED-LOCATION;VALUE=URI;X-ADDRESS=Carnegie Science Center One Allegheny Ave. Pittsburgh PA 15212 United States;X-APPLE-RADIUS=500;X-TITLE=One Allegheny Ave.:geo:-80.0180996,40.4456737
END:VEVENT
END:VCALENDAR