BEGIN:VCALENDAR
VERSION:2.0
PRODID:-//Play Pittsburgh - ECPv6.15.20//NONSGML v1.0//EN
CALSCALE:GREGORIAN
METHOD:PUBLISH
X-ORIGINAL-URL:https://playpittsburgh.com
X-WR-CALDESC:Events for Play Pittsburgh
REFRESH-INTERVAL;VALUE=DURATION:PT1H
X-Robots-Tag:noindex
X-PUBLISHED-TTL:PT1H
BEGIN:VTIMEZONE
TZID:America/New_York
BEGIN:DAYLIGHT
TZOFFSETFROM:-0500
TZOFFSETTO:-0400
TZNAME:EDT
DTSTART:20140309T070000
END:DAYLIGHT
BEGIN:STANDARD
TZOFFSETFROM:-0400
TZOFFSETTO:-0500
TZNAME:EST
DTSTART:20141102T060000
END:STANDARD
BEGIN:DAYLIGHT
TZOFFSETFROM:-0500
TZOFFSETTO:-0400
TZNAME:EDT
DTSTART:20150308T070000
END:DAYLIGHT
BEGIN:STANDARD
TZOFFSETFROM:-0400
TZOFFSETTO:-0500
TZNAME:EST
DTSTART:20151101T060000
END:STANDARD
BEGIN:DAYLIGHT
TZOFFSETFROM:-0500
TZOFFSETTO:-0400
TZNAME:EDT
DTSTART:20160313T070000
END:DAYLIGHT
BEGIN:STANDARD
TZOFFSETFROM:-0400
TZOFFSETTO:-0500
TZNAME:EST
DTSTART:20161106T060000
END:STANDARD
END:VTIMEZONE
BEGIN:VEVENT
DTSTART;VALUE=DATE:20150614
DTEND;VALUE=DATE:20150615
DTSTAMP:20260422T063725
CREATED:20150530T003213Z
LAST-MODIFIED:20150530T003213Z
UID:8771-1434240000-1434326399@playpittsburgh.com
SUMMARY:Bantam Jeep Heritage Festival
DESCRIPTION:Join the fun on June 12-14\, 2015 to celebrate Bantam’s 75th birthday presented by Peoples! #Bantam75th #BeAtBantam
URL:https://playpittsburgh.com/event/bantam-jeep-heritage-festival/2015-06-14/
LOCATION:PA\, United States
END:VEVENT
BEGIN:VEVENT
DTSTART;VALUE=DATE:20150613
DTEND;VALUE=DATE:20150614
DTSTAMP:20260422T063725
CREATED:20150530T003213Z
LAST-MODIFIED:20150530T003213Z
UID:8770-1434153600-1434239999@playpittsburgh.com
SUMMARY:Bantam Jeep Heritage Festival
DESCRIPTION:Join the fun on June 12-14\, 2015 to celebrate Bantam’s 75th birthday presented by Peoples! #Bantam75th #BeAtBantam
URL:https://playpittsburgh.com/event/bantam-jeep-heritage-festival/2015-06-13/
LOCATION:PA\, United States
END:VEVENT
BEGIN:VEVENT
DTSTART;VALUE=DATE:20150612
DTEND;VALUE=DATE:20150613
DTSTAMP:20260422T063725
CREATED:20150530T003213Z
LAST-MODIFIED:20150530T003213Z
UID:8769-1434067200-1434153599@playpittsburgh.com
SUMMARY:Bantam Jeep Heritage Festival
DESCRIPTION:Join the fun on June 12-14\, 2015 to celebrate Bantam’s 75th birthday presented by Peoples! #Bantam75th #BeAtBantam
URL:https://playpittsburgh.com/event/bantam-jeep-heritage-festival/2015-06-12/
LOCATION:PA\, United States
END:VEVENT
END:VCALENDAR