BEGIN:VCALENDAR
VERSION:2.0
PRODID:-//Play Pittsburgh - ECPv6.15.20//NONSGML v1.0//EN
CALSCALE:GREGORIAN
METHOD:PUBLISH
X-WR-CALNAME:Play Pittsburgh
X-ORIGINAL-URL:https://playpittsburgh.com
X-WR-CALDESC:Events for Play Pittsburgh
REFRESH-INTERVAL;VALUE=DURATION:PT1H
X-Robots-Tag:noindex
X-PUBLISHED-TTL:PT1H
BEGIN:VTIMEZONE
TZID:America/New_York
BEGIN:DAYLIGHT
TZOFFSETFROM:-0500
TZOFFSETTO:-0400
TZNAME:EDT
DTSTART:20130310T070000
END:DAYLIGHT
BEGIN:STANDARD
TZOFFSETFROM:-0400
TZOFFSETTO:-0500
TZNAME:EST
DTSTART:20131103T060000
END:STANDARD
BEGIN:DAYLIGHT
TZOFFSETFROM:-0500
TZOFFSETTO:-0400
TZNAME:EDT
DTSTART:20140309T070000
END:DAYLIGHT
BEGIN:STANDARD
TZOFFSETFROM:-0400
TZOFFSETTO:-0500
TZNAME:EST
DTSTART:20141102T060000
END:STANDARD
BEGIN:DAYLIGHT
TZOFFSETFROM:-0500
TZOFFSETTO:-0400
TZNAME:EDT
DTSTART:20150308T070000
END:DAYLIGHT
BEGIN:STANDARD
TZOFFSETFROM:-0400
TZOFFSETTO:-0500
TZNAME:EST
DTSTART:20151101T060000
END:STANDARD
END:VTIMEZONE
BEGIN:VEVENT
DTSTART;TZID=America/New_York:20140803T103000
DTEND;TZID=America/New_York:20140803T120000
DTSTAMP:20260424T063425
CREATED:20140729T224727Z
LAST-MODIFIED:20140729T224727Z
UID:2915-1407061800-1407067200@playpittsburgh.com
SUMMARY:Bach\, Beethoven and Brunch Classical Music Series
DESCRIPTION:This longtime favorite series entertains music lovers on the lawn at Mellon Park. Satisfy your appetite for classical music by treating yourself to a special Sunday morning composed of Bach\, Beethoven and Brunch. Join us for this delightful buffet of classical melodies. \nWhen: Sunday mornings\, June 15 – August 10\, 2014\nTime: 10:30 a.m. – Noon\nLocation: Mellon Park\, Fifth and Shady Avenues\, Point Breeze/Squirrel Hill · Concert Map \nParking: Street parking around perimeter of Mellon Park and meter lot behind Pittsburgh Center for the Arts \nFood: Bagel Factory vendor on site or bring your own picnic basket (alcohol prohibited)
URL:https://playpittsburgh.com/event/bach-beethoven-and-brunch-classical-music-series/2014-08-03/
CATEGORIES:Free,Outdoor,Performing Arts
END:VEVENT
END:VCALENDAR