BEGIN:VCALENDAR
VERSION:2.0
PRODID:-//Play Pittsburgh - ECPv6.15.20//NONSGML v1.0//EN
CALSCALE:GREGORIAN
METHOD:PUBLISH
X-ORIGINAL-URL:https://playpittsburgh.com
X-WR-CALDESC:Events for Play Pittsburgh
REFRESH-INTERVAL;VALUE=DURATION:PT1H
X-Robots-Tag:noindex
X-PUBLISHED-TTL:PT1H
BEGIN:VTIMEZONE
TZID:America/New_York
BEGIN:DAYLIGHT
TZOFFSETFROM:-0500
TZOFFSETTO:-0400
TZNAME:EDT
DTSTART:20140309T070000
END:DAYLIGHT
BEGIN:STANDARD
TZOFFSETFROM:-0400
TZOFFSETTO:-0500
TZNAME:EST
DTSTART:20141102T060000
END:STANDARD
BEGIN:DAYLIGHT
TZOFFSETFROM:-0500
TZOFFSETTO:-0400
TZNAME:EDT
DTSTART:20150308T070000
END:DAYLIGHT
BEGIN:STANDARD
TZOFFSETFROM:-0400
TZOFFSETTO:-0500
TZNAME:EST
DTSTART:20151101T060000
END:STANDARD
BEGIN:DAYLIGHT
TZOFFSETFROM:-0500
TZOFFSETTO:-0400
TZNAME:EDT
DTSTART:20160313T070000
END:DAYLIGHT
BEGIN:STANDARD
TZOFFSETFROM:-0400
TZOFFSETTO:-0500
TZNAME:EST
DTSTART:20161106T060000
END:STANDARD
END:VTIMEZONE
BEGIN:VEVENT
DTSTART;TZID=America/New_York:20150528T160000
DTEND;TZID=America/New_York:20150528T183000
DTSTAMP:20260422T070808
CREATED:20150326T181903Z
LAST-MODIFIED:20150326T181903Z
UID:8464-1432828800-1432837800@playpittsburgh.com
SUMMARY:Assemble After School Program
DESCRIPTION:Youth grades 4th – 8th are invited to participate in a free\, themed after school workshop Tuesdays\, Wednesdays\, and Thursdays from 4:00-6:30 pm\, (though June 4\, 2015) at Assemble. \n\nTuesdays – Imaginative Engineering\nWednesday – DIY Art\nThursday- Tech this out\n\nAssemble Afterschool is limited to 15 students. If you would like to sign up or have any further questions\, please email julia@assemblepgh.org
URL:https://playpittsburgh.com/event/assemble-after-school-program-3/2015-05-28/
LOCATION:Assemble\, 5125 Penn Ave\, Pittsburgh\, PA\, 15224\, United States
GEO:40.4650516;-79.9418044
X-APPLE-STRUCTURED-LOCATION;VALUE=URI;X-ADDRESS=Assemble 5125 Penn Ave Pittsburgh PA 15224 United States;X-APPLE-RADIUS=500;X-TITLE=5125 Penn Ave:geo:-79.9418044,40.4650516
END:VEVENT
BEGIN:VEVENT
DTSTART;TZID=America/New_York:20150521T160000
DTEND;TZID=America/New_York:20150521T183000
DTSTAMP:20260422T070808
CREATED:20150326T181903Z
LAST-MODIFIED:20150326T181903Z
UID:8463-1432224000-1432233000@playpittsburgh.com
SUMMARY:Assemble After School Program
DESCRIPTION:Youth grades 4th – 8th are invited to participate in a free\, themed after school workshop Tuesdays\, Wednesdays\, and Thursdays from 4:00-6:30 pm\, (though June 4\, 2015) at Assemble. \n\nTuesdays – Imaginative Engineering\nWednesday – DIY Art\nThursday- Tech this out\n\nAssemble Afterschool is limited to 15 students. If you would like to sign up or have any further questions\, please email julia@assemblepgh.org
URL:https://playpittsburgh.com/event/assemble-after-school-program-3/2015-05-21/
LOCATION:Assemble\, 5125 Penn Ave\, Pittsburgh\, PA\, 15224\, United States
GEO:40.4650516;-79.9418044
X-APPLE-STRUCTURED-LOCATION;VALUE=URI;X-ADDRESS=Assemble 5125 Penn Ave Pittsburgh PA 15224 United States;X-APPLE-RADIUS=500;X-TITLE=5125 Penn Ave:geo:-79.9418044,40.4650516
END:VEVENT
BEGIN:VEVENT
DTSTART;TZID=America/New_York:20150514T160000
DTEND;TZID=America/New_York:20150514T183000
DTSTAMP:20260422T070808
CREATED:20150326T181903Z
LAST-MODIFIED:20150326T181903Z
UID:8462-1431619200-1431628200@playpittsburgh.com
SUMMARY:Assemble After School Program
DESCRIPTION:Youth grades 4th – 8th are invited to participate in a free\, themed after school workshop Tuesdays\, Wednesdays\, and Thursdays from 4:00-6:30 pm\, (though June 4\, 2015) at Assemble. \n\nTuesdays – Imaginative Engineering\nWednesday – DIY Art\nThursday- Tech this out\n\nAssemble Afterschool is limited to 15 students. If you would like to sign up or have any further questions\, please email julia@assemblepgh.org
URL:https://playpittsburgh.com/event/assemble-after-school-program-3/2015-05-14/
LOCATION:Assemble\, 5125 Penn Ave\, Pittsburgh\, PA\, 15224\, United States
GEO:40.4650516;-79.9418044
X-APPLE-STRUCTURED-LOCATION;VALUE=URI;X-ADDRESS=Assemble 5125 Penn Ave Pittsburgh PA 15224 United States;X-APPLE-RADIUS=500;X-TITLE=5125 Penn Ave:geo:-79.9418044,40.4650516
END:VEVENT
BEGIN:VEVENT
DTSTART;TZID=America/New_York:20150507T160000
DTEND;TZID=America/New_York:20150507T183000
DTSTAMP:20260422T070808
CREATED:20150326T181903Z
LAST-MODIFIED:20150326T181903Z
UID:8461-1431014400-1431023400@playpittsburgh.com
SUMMARY:Assemble After School Program
DESCRIPTION:Youth grades 4th – 8th are invited to participate in a free\, themed after school workshop Tuesdays\, Wednesdays\, and Thursdays from 4:00-6:30 pm\, (though June 4\, 2015) at Assemble. \n\nTuesdays – Imaginative Engineering\nWednesday – DIY Art\nThursday- Tech this out\n\nAssemble Afterschool is limited to 15 students. If you would like to sign up or have any further questions\, please email julia@assemblepgh.org
URL:https://playpittsburgh.com/event/assemble-after-school-program-3/2015-05-07/
LOCATION:Assemble\, 5125 Penn Ave\, Pittsburgh\, PA\, 15224\, United States
GEO:40.4650516;-79.9418044
X-APPLE-STRUCTURED-LOCATION;VALUE=URI;X-ADDRESS=Assemble 5125 Penn Ave Pittsburgh PA 15224 United States;X-APPLE-RADIUS=500;X-TITLE=5125 Penn Ave:geo:-79.9418044,40.4650516
END:VEVENT
BEGIN:VEVENT
DTSTART;TZID=America/New_York:20150430T160000
DTEND;TZID=America/New_York:20150430T183000
DTSTAMP:20260422T070808
CREATED:20150326T181903Z
LAST-MODIFIED:20150326T181903Z
UID:8460-1430409600-1430418600@playpittsburgh.com
SUMMARY:Assemble After School Program
DESCRIPTION:Youth grades 4th – 8th are invited to participate in a free\, themed after school workshop Tuesdays\, Wednesdays\, and Thursdays from 4:00-6:30 pm\, (though June 4\, 2015) at Assemble. \n\nTuesdays – Imaginative Engineering\nWednesday – DIY Art\nThursday- Tech this out\n\nAssemble Afterschool is limited to 15 students. If you would like to sign up or have any further questions\, please email julia@assemblepgh.org
URL:https://playpittsburgh.com/event/assemble-after-school-program-3/2015-04-30/
LOCATION:Assemble\, 5125 Penn Ave\, Pittsburgh\, PA\, 15224\, United States
GEO:40.4650516;-79.9418044
X-APPLE-STRUCTURED-LOCATION;VALUE=URI;X-ADDRESS=Assemble 5125 Penn Ave Pittsburgh PA 15224 United States;X-APPLE-RADIUS=500;X-TITLE=5125 Penn Ave:geo:-79.9418044,40.4650516
END:VEVENT
BEGIN:VEVENT
DTSTART;TZID=America/New_York:20150423T160000
DTEND;TZID=America/New_York:20150423T183000
DTSTAMP:20260422T070808
CREATED:20150326T181903Z
LAST-MODIFIED:20150326T181903Z
UID:8459-1429804800-1429813800@playpittsburgh.com
SUMMARY:Assemble After School Program
DESCRIPTION:Youth grades 4th – 8th are invited to participate in a free\, themed after school workshop Tuesdays\, Wednesdays\, and Thursdays from 4:00-6:30 pm\, (though June 4\, 2015) at Assemble. \n\nTuesdays – Imaginative Engineering\nWednesday – DIY Art\nThursday- Tech this out\n\nAssemble Afterschool is limited to 15 students. If you would like to sign up or have any further questions\, please email julia@assemblepgh.org
URL:https://playpittsburgh.com/event/assemble-after-school-program-3/2015-04-23/
LOCATION:Assemble\, 5125 Penn Ave\, Pittsburgh\, PA\, 15224\, United States
GEO:40.4650516;-79.9418044
X-APPLE-STRUCTURED-LOCATION;VALUE=URI;X-ADDRESS=Assemble 5125 Penn Ave Pittsburgh PA 15224 United States;X-APPLE-RADIUS=500;X-TITLE=5125 Penn Ave:geo:-79.9418044,40.4650516
END:VEVENT
BEGIN:VEVENT
DTSTART;TZID=America/New_York:20150416T160000
DTEND;TZID=America/New_York:20150416T183000
DTSTAMP:20260422T070808
CREATED:20150326T181903Z
LAST-MODIFIED:20150326T181903Z
UID:8458-1429200000-1429209000@playpittsburgh.com
SUMMARY:Assemble After School Program
DESCRIPTION:Youth grades 4th – 8th are invited to participate in a free\, themed after school workshop Tuesdays\, Wednesdays\, and Thursdays from 4:00-6:30 pm\, (though June 4\, 2015) at Assemble. \n\nTuesdays – Imaginative Engineering\nWednesday – DIY Art\nThursday- Tech this out\n\nAssemble Afterschool is limited to 15 students. If you would like to sign up or have any further questions\, please email julia@assemblepgh.org
URL:https://playpittsburgh.com/event/assemble-after-school-program-3/2015-04-16/
LOCATION:Assemble\, 5125 Penn Ave\, Pittsburgh\, PA\, 15224\, United States
GEO:40.4650516;-79.9418044
X-APPLE-STRUCTURED-LOCATION;VALUE=URI;X-ADDRESS=Assemble 5125 Penn Ave Pittsburgh PA 15224 United States;X-APPLE-RADIUS=500;X-TITLE=5125 Penn Ave:geo:-79.9418044,40.4650516
END:VEVENT
BEGIN:VEVENT
DTSTART;TZID=America/New_York:20150409T160000
DTEND;TZID=America/New_York:20150409T183000
DTSTAMP:20260422T070808
CREATED:20150326T181903Z
LAST-MODIFIED:20150326T181903Z
UID:8457-1428595200-1428604200@playpittsburgh.com
SUMMARY:Assemble After School Program
DESCRIPTION:Youth grades 4th – 8th are invited to participate in a free\, themed after school workshop Tuesdays\, Wednesdays\, and Thursdays from 4:00-6:30 pm\, (though June 4\, 2015) at Assemble. \n\nTuesdays – Imaginative Engineering\nWednesday – DIY Art\nThursday- Tech this out\n\nAssemble Afterschool is limited to 15 students. If you would like to sign up or have any further questions\, please email julia@assemblepgh.org
URL:https://playpittsburgh.com/event/assemble-after-school-program-3/2015-04-09/
LOCATION:Assemble\, 5125 Penn Ave\, Pittsburgh\, PA\, 15224\, United States
GEO:40.4650516;-79.9418044
X-APPLE-STRUCTURED-LOCATION;VALUE=URI;X-ADDRESS=Assemble 5125 Penn Ave Pittsburgh PA 15224 United States;X-APPLE-RADIUS=500;X-TITLE=5125 Penn Ave:geo:-79.9418044,40.4650516
END:VEVENT
BEGIN:VEVENT
DTSTART;TZID=America/New_York:20150402T160000
DTEND;TZID=America/New_York:20150402T183000
DTSTAMP:20260422T070808
CREATED:20150326T181903Z
LAST-MODIFIED:20150326T181903Z
UID:5787-1427990400-1427999400@playpittsburgh.com
SUMMARY:Assemble After School Program
DESCRIPTION:Youth grades 4th – 8th are invited to participate in a free\, themed after school workshop Tuesdays\, Wednesdays\, and Thursdays from 4:00-6:30 pm\, (though June 4\, 2015) at Assemble. \n\nTuesdays – Imaginative Engineering\nWednesday – DIY Art\nThursday- Tech this out\n\nAssemble Afterschool is limited to 15 students. If you would like to sign up or have any further questions\, please email julia@assemblepgh.org
URL:https://playpittsburgh.com/event/assemble-after-school-program-3/2015-04-02/
LOCATION:Assemble\, 5125 Penn Ave\, Pittsburgh\, PA\, 15224\, United States
GEO:40.4650516;-79.9418044
X-APPLE-STRUCTURED-LOCATION;VALUE=URI;X-ADDRESS=Assemble 5125 Penn Ave Pittsburgh PA 15224 United States;X-APPLE-RADIUS=500;X-TITLE=5125 Penn Ave:geo:-79.9418044,40.4650516
END:VEVENT
END:VCALENDAR