BEGIN:VCALENDAR
VERSION:2.0
PRODID:-//Play Pittsburgh - ECPv6.15.20//NONSGML v1.0//EN
CALSCALE:GREGORIAN
METHOD:PUBLISH
X-ORIGINAL-URL:https://playpittsburgh.com
X-WR-CALDESC:Events for Play Pittsburgh
REFRESH-INTERVAL;VALUE=DURATION:PT1H
X-Robots-Tag:noindex
X-PUBLISHED-TTL:PT1H
BEGIN:VTIMEZONE
TZID:America/New_York
BEGIN:DAYLIGHT
TZOFFSETFROM:-0500
TZOFFSETTO:-0400
TZNAME:EDT
DTSTART:20140309T070000
END:DAYLIGHT
BEGIN:STANDARD
TZOFFSETFROM:-0400
TZOFFSETTO:-0500
TZNAME:EST
DTSTART:20141102T060000
END:STANDARD
BEGIN:DAYLIGHT
TZOFFSETFROM:-0500
TZOFFSETTO:-0400
TZNAME:EDT
DTSTART:20150308T070000
END:DAYLIGHT
BEGIN:STANDARD
TZOFFSETFROM:-0400
TZOFFSETTO:-0500
TZNAME:EST
DTSTART:20151101T060000
END:STANDARD
BEGIN:DAYLIGHT
TZOFFSETFROM:-0500
TZOFFSETTO:-0400
TZNAME:EDT
DTSTART:20160313T070000
END:DAYLIGHT
BEGIN:STANDARD
TZOFFSETFROM:-0400
TZOFFSETTO:-0500
TZNAME:EST
DTSTART:20161106T060000
END:STANDARD
END:VTIMEZONE
BEGIN:VEVENT
DTSTART;VALUE=DATE:20150826
DTEND;VALUE=DATE:20150827
DTSTAMP:20260421T223423
CREATED:20150326T190008Z
LAST-MODIFIED:20150326T190008Z
UID:8544-1440547200-1440633599@playpittsburgh.com
SUMMARY:99 cent Kid Combo Meals at Fun Fore All
DESCRIPTION:Fun Fore all is Cranberry’s premier family fun center with tons of indoor AND outdoor attractions! Stop by on Wednesdays for their 99 cent Kid’s Combo Meals! Kid’s Combo Meals are for any kids 12 years old and under. \nPick One Entree \n\nChicken Tenders\nHamburger\nMac & Cheese\nGrilled Cheese\nPB & J\nMini Corn Dogs\nHot Dog\n\nPick 2 Sides \n\nFries\nTater Tots\nCookie\nApplesauce\nCheese and crackers\nFruit Cup\n\nPick 1 Drink \n\nRefillable Soft Drink\nWhite or chocolate milk\nApple juice
URL:https://playpittsburgh.com/event/99-cent-kid-combo-meals-at-fun-fore-all/2015-08-26/
LOCATION:Fun Fore All\, 8 Progress Ave\, Cranberry Twp\, PA\, 16066\, United States
GEO:40.709137;-80.105024
X-APPLE-STRUCTURED-LOCATION;VALUE=URI;X-ADDRESS=Fun Fore All 8 Progress Ave Cranberry Twp PA 16066 United States;X-APPLE-RADIUS=500;X-TITLE=8 Progress Ave:geo:-80.105024,40.709137
END:VEVENT
BEGIN:VEVENT
DTSTART;VALUE=DATE:20150819
DTEND;VALUE=DATE:20150820
DTSTAMP:20260421T223423
CREATED:20150326T190008Z
LAST-MODIFIED:20150326T190008Z
UID:8543-1439942400-1440028799@playpittsburgh.com
SUMMARY:99 cent Kid Combo Meals at Fun Fore All
DESCRIPTION:Fun Fore all is Cranberry’s premier family fun center with tons of indoor AND outdoor attractions! Stop by on Wednesdays for their 99 cent Kid’s Combo Meals! Kid’s Combo Meals are for any kids 12 years old and under. \nPick One Entree \n\nChicken Tenders\nHamburger\nMac & Cheese\nGrilled Cheese\nPB & J\nMini Corn Dogs\nHot Dog\n\nPick 2 Sides \n\nFries\nTater Tots\nCookie\nApplesauce\nCheese and crackers\nFruit Cup\n\nPick 1 Drink \n\nRefillable Soft Drink\nWhite or chocolate milk\nApple juice
URL:https://playpittsburgh.com/event/99-cent-kid-combo-meals-at-fun-fore-all/2015-08-19/
LOCATION:Fun Fore All\, 8 Progress Ave\, Cranberry Twp\, PA\, 16066\, United States
GEO:40.709137;-80.105024
X-APPLE-STRUCTURED-LOCATION;VALUE=URI;X-ADDRESS=Fun Fore All 8 Progress Ave Cranberry Twp PA 16066 United States;X-APPLE-RADIUS=500;X-TITLE=8 Progress Ave:geo:-80.105024,40.709137
END:VEVENT
BEGIN:VEVENT
DTSTART;VALUE=DATE:20150812
DTEND;VALUE=DATE:20150813
DTSTAMP:20260421T223423
CREATED:20150326T190008Z
LAST-MODIFIED:20150326T190008Z
UID:8542-1439337600-1439423999@playpittsburgh.com
SUMMARY:99 cent Kid Combo Meals at Fun Fore All
DESCRIPTION:Fun Fore all is Cranberry’s premier family fun center with tons of indoor AND outdoor attractions! Stop by on Wednesdays for their 99 cent Kid’s Combo Meals! Kid’s Combo Meals are for any kids 12 years old and under. \nPick One Entree \n\nChicken Tenders\nHamburger\nMac & Cheese\nGrilled Cheese\nPB & J\nMini Corn Dogs\nHot Dog\n\nPick 2 Sides \n\nFries\nTater Tots\nCookie\nApplesauce\nCheese and crackers\nFruit Cup\n\nPick 1 Drink \n\nRefillable Soft Drink\nWhite or chocolate milk\nApple juice
URL:https://playpittsburgh.com/event/99-cent-kid-combo-meals-at-fun-fore-all/2015-08-12/
LOCATION:Fun Fore All\, 8 Progress Ave\, Cranberry Twp\, PA\, 16066\, United States
GEO:40.709137;-80.105024
X-APPLE-STRUCTURED-LOCATION;VALUE=URI;X-ADDRESS=Fun Fore All 8 Progress Ave Cranberry Twp PA 16066 United States;X-APPLE-RADIUS=500;X-TITLE=8 Progress Ave:geo:-80.105024,40.709137
END:VEVENT
BEGIN:VEVENT
DTSTART;VALUE=DATE:20150805
DTEND;VALUE=DATE:20150806
DTSTAMP:20260421T223423
CREATED:20150326T190008Z
LAST-MODIFIED:20150326T190008Z
UID:8541-1438732800-1438819199@playpittsburgh.com
SUMMARY:99 cent Kid Combo Meals at Fun Fore All
DESCRIPTION:Fun Fore all is Cranberry’s premier family fun center with tons of indoor AND outdoor attractions! Stop by on Wednesdays for their 99 cent Kid’s Combo Meals! Kid’s Combo Meals are for any kids 12 years old and under. \nPick One Entree \n\nChicken Tenders\nHamburger\nMac & Cheese\nGrilled Cheese\nPB & J\nMini Corn Dogs\nHot Dog\n\nPick 2 Sides \n\nFries\nTater Tots\nCookie\nApplesauce\nCheese and crackers\nFruit Cup\n\nPick 1 Drink \n\nRefillable Soft Drink\nWhite or chocolate milk\nApple juice
URL:https://playpittsburgh.com/event/99-cent-kid-combo-meals-at-fun-fore-all/2015-08-05/
LOCATION:Fun Fore All\, 8 Progress Ave\, Cranberry Twp\, PA\, 16066\, United States
GEO:40.709137;-80.105024
X-APPLE-STRUCTURED-LOCATION;VALUE=URI;X-ADDRESS=Fun Fore All 8 Progress Ave Cranberry Twp PA 16066 United States;X-APPLE-RADIUS=500;X-TITLE=8 Progress Ave:geo:-80.105024,40.709137
END:VEVENT
BEGIN:VEVENT
DTSTART;VALUE=DATE:20150729
DTEND;VALUE=DATE:20150730
DTSTAMP:20260421T223423
CREATED:20150326T190008Z
LAST-MODIFIED:20150326T190008Z
UID:8540-1438128000-1438214399@playpittsburgh.com
SUMMARY:99 cent Kid Combo Meals at Fun Fore All
DESCRIPTION:Fun Fore all is Cranberry’s premier family fun center with tons of indoor AND outdoor attractions! Stop by on Wednesdays for their 99 cent Kid’s Combo Meals! Kid’s Combo Meals are for any kids 12 years old and under. \nPick One Entree \n\nChicken Tenders\nHamburger\nMac & Cheese\nGrilled Cheese\nPB & J\nMini Corn Dogs\nHot Dog\n\nPick 2 Sides \n\nFries\nTater Tots\nCookie\nApplesauce\nCheese and crackers\nFruit Cup\n\nPick 1 Drink \n\nRefillable Soft Drink\nWhite or chocolate milk\nApple juice
URL:https://playpittsburgh.com/event/99-cent-kid-combo-meals-at-fun-fore-all/2015-07-29/
LOCATION:Fun Fore All\, 8 Progress Ave\, Cranberry Twp\, PA\, 16066\, United States
GEO:40.709137;-80.105024
X-APPLE-STRUCTURED-LOCATION;VALUE=URI;X-ADDRESS=Fun Fore All 8 Progress Ave Cranberry Twp PA 16066 United States;X-APPLE-RADIUS=500;X-TITLE=8 Progress Ave:geo:-80.105024,40.709137
END:VEVENT
BEGIN:VEVENT
DTSTART;VALUE=DATE:20150722
DTEND;VALUE=DATE:20150723
DTSTAMP:20260421T223423
CREATED:20150326T190008Z
LAST-MODIFIED:20150326T190008Z
UID:8528-1437523200-1437609599@playpittsburgh.com
SUMMARY:99 cent Kid Combo Meals at Fun Fore All
DESCRIPTION:Fun Fore all is Cranberry’s premier family fun center with tons of indoor AND outdoor attractions! Stop by on Wednesdays for their 99 cent Kid’s Combo Meals! Kid’s Combo Meals are for any kids 12 years old and under. \nPick One Entree \n\nChicken Tenders\nHamburger\nMac & Cheese\nGrilled Cheese\nPB & J\nMini Corn Dogs\nHot Dog\n\nPick 2 Sides \n\nFries\nTater Tots\nCookie\nApplesauce\nCheese and crackers\nFruit Cup\n\nPick 1 Drink \n\nRefillable Soft Drink\nWhite or chocolate milk\nApple juice
URL:https://playpittsburgh.com/event/99-cent-kid-combo-meals-at-fun-fore-all/2015-07-22/
LOCATION:Fun Fore All\, 8 Progress Ave\, Cranberry Twp\, PA\, 16066\, United States
GEO:40.709137;-80.105024
X-APPLE-STRUCTURED-LOCATION;VALUE=URI;X-ADDRESS=Fun Fore All 8 Progress Ave Cranberry Twp PA 16066 United States;X-APPLE-RADIUS=500;X-TITLE=8 Progress Ave:geo:-80.105024,40.709137
END:VEVENT
BEGIN:VEVENT
DTSTART;VALUE=DATE:20150715
DTEND;VALUE=DATE:20150716
DTSTAMP:20260421T223423
CREATED:20150326T190008Z
LAST-MODIFIED:20150326T190008Z
UID:8527-1436918400-1437004799@playpittsburgh.com
SUMMARY:99 cent Kid Combo Meals at Fun Fore All
DESCRIPTION:Fun Fore all is Cranberry’s premier family fun center with tons of indoor AND outdoor attractions! Stop by on Wednesdays for their 99 cent Kid’s Combo Meals! Kid’s Combo Meals are for any kids 12 years old and under. \nPick One Entree \n\nChicken Tenders\nHamburger\nMac & Cheese\nGrilled Cheese\nPB & J\nMini Corn Dogs\nHot Dog\n\nPick 2 Sides \n\nFries\nTater Tots\nCookie\nApplesauce\nCheese and crackers\nFruit Cup\n\nPick 1 Drink \n\nRefillable Soft Drink\nWhite or chocolate milk\nApple juice
URL:https://playpittsburgh.com/event/99-cent-kid-combo-meals-at-fun-fore-all/2015-07-15/
LOCATION:Fun Fore All\, 8 Progress Ave\, Cranberry Twp\, PA\, 16066\, United States
GEO:40.709137;-80.105024
X-APPLE-STRUCTURED-LOCATION;VALUE=URI;X-ADDRESS=Fun Fore All 8 Progress Ave Cranberry Twp PA 16066 United States;X-APPLE-RADIUS=500;X-TITLE=8 Progress Ave:geo:-80.105024,40.709137
END:VEVENT
BEGIN:VEVENT
DTSTART;VALUE=DATE:20150708
DTEND;VALUE=DATE:20150709
DTSTAMP:20260421T223423
CREATED:20150326T190008Z
LAST-MODIFIED:20150326T190008Z
UID:8526-1436313600-1436399999@playpittsburgh.com
SUMMARY:99 cent Kid Combo Meals at Fun Fore All
DESCRIPTION:Fun Fore all is Cranberry’s premier family fun center with tons of indoor AND outdoor attractions! Stop by on Wednesdays for their 99 cent Kid’s Combo Meals! Kid’s Combo Meals are for any kids 12 years old and under. \nPick One Entree \n\nChicken Tenders\nHamburger\nMac & Cheese\nGrilled Cheese\nPB & J\nMini Corn Dogs\nHot Dog\n\nPick 2 Sides \n\nFries\nTater Tots\nCookie\nApplesauce\nCheese and crackers\nFruit Cup\n\nPick 1 Drink \n\nRefillable Soft Drink\nWhite or chocolate milk\nApple juice
URL:https://playpittsburgh.com/event/99-cent-kid-combo-meals-at-fun-fore-all/2015-07-08/
LOCATION:Fun Fore All\, 8 Progress Ave\, Cranberry Twp\, PA\, 16066\, United States
GEO:40.709137;-80.105024
X-APPLE-STRUCTURED-LOCATION;VALUE=URI;X-ADDRESS=Fun Fore All 8 Progress Ave Cranberry Twp PA 16066 United States;X-APPLE-RADIUS=500;X-TITLE=8 Progress Ave:geo:-80.105024,40.709137
END:VEVENT
BEGIN:VEVENT
DTSTART;VALUE=DATE:20150701
DTEND;VALUE=DATE:20150702
DTSTAMP:20260421T223423
CREATED:20150326T190008Z
LAST-MODIFIED:20150326T190008Z
UID:8525-1435708800-1435795199@playpittsburgh.com
SUMMARY:99 cent Kid Combo Meals at Fun Fore All
DESCRIPTION:Fun Fore all is Cranberry’s premier family fun center with tons of indoor AND outdoor attractions! Stop by on Wednesdays for their 99 cent Kid’s Combo Meals! Kid’s Combo Meals are for any kids 12 years old and under. \nPick One Entree \n\nChicken Tenders\nHamburger\nMac & Cheese\nGrilled Cheese\nPB & J\nMini Corn Dogs\nHot Dog\n\nPick 2 Sides \n\nFries\nTater Tots\nCookie\nApplesauce\nCheese and crackers\nFruit Cup\n\nPick 1 Drink \n\nRefillable Soft Drink\nWhite or chocolate milk\nApple juice
URL:https://playpittsburgh.com/event/99-cent-kid-combo-meals-at-fun-fore-all/2015-07-01/
LOCATION:Fun Fore All\, 8 Progress Ave\, Cranberry Twp\, PA\, 16066\, United States
GEO:40.709137;-80.105024
X-APPLE-STRUCTURED-LOCATION;VALUE=URI;X-ADDRESS=Fun Fore All 8 Progress Ave Cranberry Twp PA 16066 United States;X-APPLE-RADIUS=500;X-TITLE=8 Progress Ave:geo:-80.105024,40.709137
END:VEVENT
BEGIN:VEVENT
DTSTART;VALUE=DATE:20150624
DTEND;VALUE=DATE:20150625
DTSTAMP:20260421T223423
CREATED:20150326T190008Z
LAST-MODIFIED:20150326T190008Z
UID:8524-1435104000-1435190399@playpittsburgh.com
SUMMARY:99 cent Kid Combo Meals at Fun Fore All
DESCRIPTION:Fun Fore all is Cranberry’s premier family fun center with tons of indoor AND outdoor attractions! Stop by on Wednesdays for their 99 cent Kid’s Combo Meals! Kid’s Combo Meals are for any kids 12 years old and under. \nPick One Entree \n\nChicken Tenders\nHamburger\nMac & Cheese\nGrilled Cheese\nPB & J\nMini Corn Dogs\nHot Dog\n\nPick 2 Sides \n\nFries\nTater Tots\nCookie\nApplesauce\nCheese and crackers\nFruit Cup\n\nPick 1 Drink \n\nRefillable Soft Drink\nWhite or chocolate milk\nApple juice
URL:https://playpittsburgh.com/event/99-cent-kid-combo-meals-at-fun-fore-all/2015-06-24/
LOCATION:Fun Fore All\, 8 Progress Ave\, Cranberry Twp\, PA\, 16066\, United States
GEO:40.709137;-80.105024
X-APPLE-STRUCTURED-LOCATION;VALUE=URI;X-ADDRESS=Fun Fore All 8 Progress Ave Cranberry Twp PA 16066 United States;X-APPLE-RADIUS=500;X-TITLE=8 Progress Ave:geo:-80.105024,40.709137
END:VEVENT
BEGIN:VEVENT
DTSTART;VALUE=DATE:20150617
DTEND;VALUE=DATE:20150618
DTSTAMP:20260421T223423
CREATED:20150326T190008Z
LAST-MODIFIED:20150326T190008Z
UID:8523-1434499200-1434585599@playpittsburgh.com
SUMMARY:99 cent Kid Combo Meals at Fun Fore All
DESCRIPTION:Fun Fore all is Cranberry’s premier family fun center with tons of indoor AND outdoor attractions! Stop by on Wednesdays for their 99 cent Kid’s Combo Meals! Kid’s Combo Meals are for any kids 12 years old and under. \nPick One Entree \n\nChicken Tenders\nHamburger\nMac & Cheese\nGrilled Cheese\nPB & J\nMini Corn Dogs\nHot Dog\n\nPick 2 Sides \n\nFries\nTater Tots\nCookie\nApplesauce\nCheese and crackers\nFruit Cup\n\nPick 1 Drink \n\nRefillable Soft Drink\nWhite or chocolate milk\nApple juice
URL:https://playpittsburgh.com/event/99-cent-kid-combo-meals-at-fun-fore-all/2015-06-17/
LOCATION:Fun Fore All\, 8 Progress Ave\, Cranberry Twp\, PA\, 16066\, United States
GEO:40.709137;-80.105024
X-APPLE-STRUCTURED-LOCATION;VALUE=URI;X-ADDRESS=Fun Fore All 8 Progress Ave Cranberry Twp PA 16066 United States;X-APPLE-RADIUS=500;X-TITLE=8 Progress Ave:geo:-80.105024,40.709137
END:VEVENT
BEGIN:VEVENT
DTSTART;VALUE=DATE:20150610
DTEND;VALUE=DATE:20150611
DTSTAMP:20260421T223423
CREATED:20150326T190008Z
LAST-MODIFIED:20150326T190008Z
UID:8522-1433894400-1433980799@playpittsburgh.com
SUMMARY:99 cent Kid Combo Meals at Fun Fore All
DESCRIPTION:Fun Fore all is Cranberry’s premier family fun center with tons of indoor AND outdoor attractions! Stop by on Wednesdays for their 99 cent Kid’s Combo Meals! Kid’s Combo Meals are for any kids 12 years old and under. \nPick One Entree \n\nChicken Tenders\nHamburger\nMac & Cheese\nGrilled Cheese\nPB & J\nMini Corn Dogs\nHot Dog\n\nPick 2 Sides \n\nFries\nTater Tots\nCookie\nApplesauce\nCheese and crackers\nFruit Cup\n\nPick 1 Drink \n\nRefillable Soft Drink\nWhite or chocolate milk\nApple juice
URL:https://playpittsburgh.com/event/99-cent-kid-combo-meals-at-fun-fore-all/2015-06-10/
LOCATION:Fun Fore All\, 8 Progress Ave\, Cranberry Twp\, PA\, 16066\, United States
GEO:40.709137;-80.105024
X-APPLE-STRUCTURED-LOCATION;VALUE=URI;X-ADDRESS=Fun Fore All 8 Progress Ave Cranberry Twp PA 16066 United States;X-APPLE-RADIUS=500;X-TITLE=8 Progress Ave:geo:-80.105024,40.709137
END:VEVENT
BEGIN:VEVENT
DTSTART;VALUE=DATE:20150603
DTEND;VALUE=DATE:20150604
DTSTAMP:20260421T223423
CREATED:20150326T190008Z
LAST-MODIFIED:20150326T190008Z
UID:8521-1433289600-1433375999@playpittsburgh.com
SUMMARY:99 cent Kid Combo Meals at Fun Fore All
DESCRIPTION:Fun Fore all is Cranberry’s premier family fun center with tons of indoor AND outdoor attractions! Stop by on Wednesdays for their 99 cent Kid’s Combo Meals! Kid’s Combo Meals are for any kids 12 years old and under. \nPick One Entree \n\nChicken Tenders\nHamburger\nMac & Cheese\nGrilled Cheese\nPB & J\nMini Corn Dogs\nHot Dog\n\nPick 2 Sides \n\nFries\nTater Tots\nCookie\nApplesauce\nCheese and crackers\nFruit Cup\n\nPick 1 Drink \n\nRefillable Soft Drink\nWhite or chocolate milk\nApple juice
URL:https://playpittsburgh.com/event/99-cent-kid-combo-meals-at-fun-fore-all/2015-06-03/
LOCATION:Fun Fore All\, 8 Progress Ave\, Cranberry Twp\, PA\, 16066\, United States
GEO:40.709137;-80.105024
X-APPLE-STRUCTURED-LOCATION;VALUE=URI;X-ADDRESS=Fun Fore All 8 Progress Ave Cranberry Twp PA 16066 United States;X-APPLE-RADIUS=500;X-TITLE=8 Progress Ave:geo:-80.105024,40.709137
END:VEVENT
BEGIN:VEVENT
DTSTART;VALUE=DATE:20150527
DTEND;VALUE=DATE:20150528
DTSTAMP:20260421T223423
CREATED:20150326T190008Z
LAST-MODIFIED:20150326T190008Z
UID:8520-1432684800-1432771199@playpittsburgh.com
SUMMARY:99 cent Kid Combo Meals at Fun Fore All
DESCRIPTION:Fun Fore all is Cranberry’s premier family fun center with tons of indoor AND outdoor attractions! Stop by on Wednesdays for their 99 cent Kid’s Combo Meals! Kid’s Combo Meals are for any kids 12 years old and under. \nPick One Entree \n\nChicken Tenders\nHamburger\nMac & Cheese\nGrilled Cheese\nPB & J\nMini Corn Dogs\nHot Dog\n\nPick 2 Sides \n\nFries\nTater Tots\nCookie\nApplesauce\nCheese and crackers\nFruit Cup\n\nPick 1 Drink \n\nRefillable Soft Drink\nWhite or chocolate milk\nApple juice
URL:https://playpittsburgh.com/event/99-cent-kid-combo-meals-at-fun-fore-all/2015-05-27/
LOCATION:Fun Fore All\, 8 Progress Ave\, Cranberry Twp\, PA\, 16066\, United States
GEO:40.709137;-80.105024
X-APPLE-STRUCTURED-LOCATION;VALUE=URI;X-ADDRESS=Fun Fore All 8 Progress Ave Cranberry Twp PA 16066 United States;X-APPLE-RADIUS=500;X-TITLE=8 Progress Ave:geo:-80.105024,40.709137
END:VEVENT
BEGIN:VEVENT
DTSTART;VALUE=DATE:20150520
DTEND;VALUE=DATE:20150521
DTSTAMP:20260421T223423
CREATED:20150326T190008Z
LAST-MODIFIED:20150326T190008Z
UID:8519-1432080000-1432166399@playpittsburgh.com
SUMMARY:99 cent Kid Combo Meals at Fun Fore All
DESCRIPTION:Fun Fore all is Cranberry’s premier family fun center with tons of indoor AND outdoor attractions! Stop by on Wednesdays for their 99 cent Kid’s Combo Meals! Kid’s Combo Meals are for any kids 12 years old and under. \nPick One Entree \n\nChicken Tenders\nHamburger\nMac & Cheese\nGrilled Cheese\nPB & J\nMini Corn Dogs\nHot Dog\n\nPick 2 Sides \n\nFries\nTater Tots\nCookie\nApplesauce\nCheese and crackers\nFruit Cup\n\nPick 1 Drink \n\nRefillable Soft Drink\nWhite or chocolate milk\nApple juice
URL:https://playpittsburgh.com/event/99-cent-kid-combo-meals-at-fun-fore-all/2015-05-20/
LOCATION:Fun Fore All\, 8 Progress Ave\, Cranberry Twp\, PA\, 16066\, United States
GEO:40.709137;-80.105024
X-APPLE-STRUCTURED-LOCATION;VALUE=URI;X-ADDRESS=Fun Fore All 8 Progress Ave Cranberry Twp PA 16066 United States;X-APPLE-RADIUS=500;X-TITLE=8 Progress Ave:geo:-80.105024,40.709137
END:VEVENT
BEGIN:VEVENT
DTSTART;VALUE=DATE:20150513
DTEND;VALUE=DATE:20150514
DTSTAMP:20260421T223423
CREATED:20150326T190008Z
LAST-MODIFIED:20150326T190008Z
UID:8518-1431475200-1431561599@playpittsburgh.com
SUMMARY:99 cent Kid Combo Meals at Fun Fore All
DESCRIPTION:Fun Fore all is Cranberry’s premier family fun center with tons of indoor AND outdoor attractions! Stop by on Wednesdays for their 99 cent Kid’s Combo Meals! Kid’s Combo Meals are for any kids 12 years old and under. \nPick One Entree \n\nChicken Tenders\nHamburger\nMac & Cheese\nGrilled Cheese\nPB & J\nMini Corn Dogs\nHot Dog\n\nPick 2 Sides \n\nFries\nTater Tots\nCookie\nApplesauce\nCheese and crackers\nFruit Cup\n\nPick 1 Drink \n\nRefillable Soft Drink\nWhite or chocolate milk\nApple juice
URL:https://playpittsburgh.com/event/99-cent-kid-combo-meals-at-fun-fore-all/2015-05-13/
LOCATION:Fun Fore All\, 8 Progress Ave\, Cranberry Twp\, PA\, 16066\, United States
GEO:40.709137;-80.105024
X-APPLE-STRUCTURED-LOCATION;VALUE=URI;X-ADDRESS=Fun Fore All 8 Progress Ave Cranberry Twp PA 16066 United States;X-APPLE-RADIUS=500;X-TITLE=8 Progress Ave:geo:-80.105024,40.709137
END:VEVENT
BEGIN:VEVENT
DTSTART;VALUE=DATE:20150506
DTEND;VALUE=DATE:20150507
DTSTAMP:20260421T223423
CREATED:20150326T190008Z
LAST-MODIFIED:20150326T190008Z
UID:8517-1430870400-1430956799@playpittsburgh.com
SUMMARY:99 cent Kid Combo Meals at Fun Fore All
DESCRIPTION:Fun Fore all is Cranberry’s premier family fun center with tons of indoor AND outdoor attractions! Stop by on Wednesdays for their 99 cent Kid’s Combo Meals! Kid’s Combo Meals are for any kids 12 years old and under. \nPick One Entree \n\nChicken Tenders\nHamburger\nMac & Cheese\nGrilled Cheese\nPB & J\nMini Corn Dogs\nHot Dog\n\nPick 2 Sides \n\nFries\nTater Tots\nCookie\nApplesauce\nCheese and crackers\nFruit Cup\n\nPick 1 Drink \n\nRefillable Soft Drink\nWhite or chocolate milk\nApple juice
URL:https://playpittsburgh.com/event/99-cent-kid-combo-meals-at-fun-fore-all/2015-05-06/
LOCATION:Fun Fore All\, 8 Progress Ave\, Cranberry Twp\, PA\, 16066\, United States
GEO:40.709137;-80.105024
X-APPLE-STRUCTURED-LOCATION;VALUE=URI;X-ADDRESS=Fun Fore All 8 Progress Ave Cranberry Twp PA 16066 United States;X-APPLE-RADIUS=500;X-TITLE=8 Progress Ave:geo:-80.105024,40.709137
END:VEVENT
BEGIN:VEVENT
DTSTART;VALUE=DATE:20150429
DTEND;VALUE=DATE:20150430
DTSTAMP:20260421T223423
CREATED:20150326T190008Z
LAST-MODIFIED:20150326T190008Z
UID:8516-1430265600-1430351999@playpittsburgh.com
SUMMARY:99 cent Kid Combo Meals at Fun Fore All
DESCRIPTION:Fun Fore all is Cranberry’s premier family fun center with tons of indoor AND outdoor attractions! Stop by on Wednesdays for their 99 cent Kid’s Combo Meals! Kid’s Combo Meals are for any kids 12 years old and under. \nPick One Entree \n\nChicken Tenders\nHamburger\nMac & Cheese\nGrilled Cheese\nPB & J\nMini Corn Dogs\nHot Dog\n\nPick 2 Sides \n\nFries\nTater Tots\nCookie\nApplesauce\nCheese and crackers\nFruit Cup\n\nPick 1 Drink \n\nRefillable Soft Drink\nWhite or chocolate milk\nApple juice
URL:https://playpittsburgh.com/event/99-cent-kid-combo-meals-at-fun-fore-all/2015-04-29/
LOCATION:Fun Fore All\, 8 Progress Ave\, Cranberry Twp\, PA\, 16066\, United States
GEO:40.709137;-80.105024
X-APPLE-STRUCTURED-LOCATION;VALUE=URI;X-ADDRESS=Fun Fore All 8 Progress Ave Cranberry Twp PA 16066 United States;X-APPLE-RADIUS=500;X-TITLE=8 Progress Ave:geo:-80.105024,40.709137
END:VEVENT
BEGIN:VEVENT
DTSTART;VALUE=DATE:20150422
DTEND;VALUE=DATE:20150423
DTSTAMP:20260421T223423
CREATED:20150326T190008Z
LAST-MODIFIED:20150326T190008Z
UID:8515-1429660800-1429747199@playpittsburgh.com
SUMMARY:99 cent Kid Combo Meals at Fun Fore All
DESCRIPTION:Fun Fore all is Cranberry’s premier family fun center with tons of indoor AND outdoor attractions! Stop by on Wednesdays for their 99 cent Kid’s Combo Meals! Kid’s Combo Meals are for any kids 12 years old and under. \nPick One Entree \n\nChicken Tenders\nHamburger\nMac & Cheese\nGrilled Cheese\nPB & J\nMini Corn Dogs\nHot Dog\n\nPick 2 Sides \n\nFries\nTater Tots\nCookie\nApplesauce\nCheese and crackers\nFruit Cup\n\nPick 1 Drink \n\nRefillable Soft Drink\nWhite or chocolate milk\nApple juice
URL:https://playpittsburgh.com/event/99-cent-kid-combo-meals-at-fun-fore-all/2015-04-22/
LOCATION:Fun Fore All\, 8 Progress Ave\, Cranberry Twp\, PA\, 16066\, United States
GEO:40.709137;-80.105024
X-APPLE-STRUCTURED-LOCATION;VALUE=URI;X-ADDRESS=Fun Fore All 8 Progress Ave Cranberry Twp PA 16066 United States;X-APPLE-RADIUS=500;X-TITLE=8 Progress Ave:geo:-80.105024,40.709137
END:VEVENT
BEGIN:VEVENT
DTSTART;VALUE=DATE:20150415
DTEND;VALUE=DATE:20150416
DTSTAMP:20260421T223423
CREATED:20150326T190008Z
LAST-MODIFIED:20150326T190008Z
UID:8514-1429056000-1429142399@playpittsburgh.com
SUMMARY:99 cent Kid Combo Meals at Fun Fore All
DESCRIPTION:Fun Fore all is Cranberry’s premier family fun center with tons of indoor AND outdoor attractions! Stop by on Wednesdays for their 99 cent Kid’s Combo Meals! Kid’s Combo Meals are for any kids 12 years old and under. \nPick One Entree \n\nChicken Tenders\nHamburger\nMac & Cheese\nGrilled Cheese\nPB & J\nMini Corn Dogs\nHot Dog\n\nPick 2 Sides \n\nFries\nTater Tots\nCookie\nApplesauce\nCheese and crackers\nFruit Cup\n\nPick 1 Drink \n\nRefillable Soft Drink\nWhite or chocolate milk\nApple juice
URL:https://playpittsburgh.com/event/99-cent-kid-combo-meals-at-fun-fore-all/2015-04-15/
LOCATION:Fun Fore All\, 8 Progress Ave\, Cranberry Twp\, PA\, 16066\, United States
GEO:40.709137;-80.105024
X-APPLE-STRUCTURED-LOCATION;VALUE=URI;X-ADDRESS=Fun Fore All 8 Progress Ave Cranberry Twp PA 16066 United States;X-APPLE-RADIUS=500;X-TITLE=8 Progress Ave:geo:-80.105024,40.709137
END:VEVENT
BEGIN:VEVENT
DTSTART;VALUE=DATE:20150408
DTEND;VALUE=DATE:20150409
DTSTAMP:20260421T223423
CREATED:20150326T190008Z
LAST-MODIFIED:20150326T190008Z
UID:8513-1428451200-1428537599@playpittsburgh.com
SUMMARY:99 cent Kid Combo Meals at Fun Fore All
DESCRIPTION:Fun Fore all is Cranberry’s premier family fun center with tons of indoor AND outdoor attractions! Stop by on Wednesdays for their 99 cent Kid’s Combo Meals! Kid’s Combo Meals are for any kids 12 years old and under. \nPick One Entree \n\nChicken Tenders\nHamburger\nMac & Cheese\nGrilled Cheese\nPB & J\nMini Corn Dogs\nHot Dog\n\nPick 2 Sides \n\nFries\nTater Tots\nCookie\nApplesauce\nCheese and crackers\nFruit Cup\n\nPick 1 Drink \n\nRefillable Soft Drink\nWhite or chocolate milk\nApple juice
URL:https://playpittsburgh.com/event/99-cent-kid-combo-meals-at-fun-fore-all/2015-04-08/
LOCATION:Fun Fore All\, 8 Progress Ave\, Cranberry Twp\, PA\, 16066\, United States
GEO:40.709137;-80.105024
X-APPLE-STRUCTURED-LOCATION;VALUE=URI;X-ADDRESS=Fun Fore All 8 Progress Ave Cranberry Twp PA 16066 United States;X-APPLE-RADIUS=500;X-TITLE=8 Progress Ave:geo:-80.105024,40.709137
END:VEVENT
BEGIN:VEVENT
DTSTART;VALUE=DATE:20150401
DTEND;VALUE=DATE:20150402
DTSTAMP:20260421T223423
CREATED:20150326T190008Z
LAST-MODIFIED:20150326T190008Z
UID:5845-1427846400-1427932799@playpittsburgh.com
SUMMARY:99 cent Kid Combo Meals at Fun Fore All
DESCRIPTION:Fun Fore all is Cranberry’s premier family fun center with tons of indoor AND outdoor attractions! Stop by on Wednesdays for their 99 cent Kid’s Combo Meals! Kid’s Combo Meals are for any kids 12 years old and under. \nPick One Entree \n\nChicken Tenders\nHamburger\nMac & Cheese\nGrilled Cheese\nPB & J\nMini Corn Dogs\nHot Dog\n\nPick 2 Sides \n\nFries\nTater Tots\nCookie\nApplesauce\nCheese and crackers\nFruit Cup\n\nPick 1 Drink \n\nRefillable Soft Drink\nWhite or chocolate milk\nApple juice
URL:https://playpittsburgh.com/event/99-cent-kid-combo-meals-at-fun-fore-all/2015-04-01/
LOCATION:Fun Fore All\, 8 Progress Ave\, Cranberry Twp\, PA\, 16066\, United States
GEO:40.709137;-80.105024
X-APPLE-STRUCTURED-LOCATION;VALUE=URI;X-ADDRESS=Fun Fore All 8 Progress Ave Cranberry Twp PA 16066 United States;X-APPLE-RADIUS=500;X-TITLE=8 Progress Ave:geo:-80.105024,40.709137
END:VEVENT
END:VCALENDAR