BEGIN:VCALENDAR
VERSION:2.0
PRODID:-//Play Pittsburgh - ECPv6.15.20//NONSGML v1.0//EN
CALSCALE:GREGORIAN
METHOD:PUBLISH
X-WR-CALNAME:Play Pittsburgh
X-ORIGINAL-URL:https://playpittsburgh.com
X-WR-CALDESC:Events for Play Pittsburgh
REFRESH-INTERVAL;VALUE=DURATION:PT1H
X-Robots-Tag:noindex
X-PUBLISHED-TTL:PT1H
BEGIN:VTIMEZONE
TZID:America/New_York
BEGIN:DAYLIGHT
TZOFFSETFROM:-0500
TZOFFSETTO:-0400
TZNAME:EDT
DTSTART:20130310T070000
END:DAYLIGHT
BEGIN:STANDARD
TZOFFSETFROM:-0400
TZOFFSETTO:-0500
TZNAME:EST
DTSTART:20131103T060000
END:STANDARD
BEGIN:DAYLIGHT
TZOFFSETFROM:-0500
TZOFFSETTO:-0400
TZNAME:EDT
DTSTART:20140309T070000
END:DAYLIGHT
BEGIN:STANDARD
TZOFFSETFROM:-0400
TZOFFSETTO:-0500
TZNAME:EST
DTSTART:20141102T060000
END:STANDARD
BEGIN:DAYLIGHT
TZOFFSETFROM:-0500
TZOFFSETTO:-0400
TZNAME:EDT
DTSTART:20150308T070000
END:DAYLIGHT
BEGIN:STANDARD
TZOFFSETFROM:-0400
TZOFFSETTO:-0500
TZNAME:EST
DTSTART:20151101T060000
END:STANDARD
END:VTIMEZONE
BEGIN:VEVENT
DTSTART;TZID=America/New_York:20141220T090000
DTEND;TZID=America/New_York:20141220T100000
DTSTAMP:20260422T075519
CREATED:20141204T013042Z
LAST-MODIFIED:20141204T013042Z
UID:8173-1419066000-1419069600@playpittsburgh.com
SUMMARY:Breakfast with Santa at Hardrock Cafe
DESCRIPTION:SANTA ROCKS AT THE HARD ROCK CAFE! What better childhood memory is there than sitting on Santa’s lap and asking for that special gift (red rider BB gun anyone?) Now you can take that memory a step futher\, and add the Hard Rock Cafe and an intimate and fun way to spend a morning with our favorite fellow in a red suit as Macaroni Kid presents Breakfast With Santa Space is limited\, so call the Hard Rock Cafe today at 412-481-7625 and ask for Erica to save your family’s spot now. \nAvailable Breakfast with Santa dates: \n\nSaturday\, December 6 – 9 AM\nSunday\, December 7 – 9 AM\nSaturday\, December 13 – 9 AM\nSunday\, December 14 – 9 AM\nSaturday\, December 20 – 9 AM\n\nEvent includes breakfast buffet – special goodies bag for the kids – free train ride in the Station Square freight shops for the kids – free parking courtesy of Station Square – special Macaroni Kid craft The Hard Rock Cafe will be collecting donations for Toys for Tots. Please donate a new & unwrapped toy to the event. Start a Rockin’ new family holiday tradition!
URL:https://playpittsburgh.com/event/5078/2014-12-20/
LOCATION:Hard Rock Cafe\, 230 W Station Square Dr\, Pittsburgh\, PA\, 15219\, United States
GEO:40.4339628;-80.0048168
X-APPLE-STRUCTURED-LOCATION;VALUE=URI;X-ADDRESS=Hard Rock Cafe 230 W Station Square Dr Pittsburgh PA 15219 United States;X-APPLE-RADIUS=500;X-TITLE=230 W Station Square Dr:geo:-80.0048168,40.4339628
END:VEVENT
BEGIN:VEVENT
DTSTART;TZID=America/New_York:20141213T090000
DTEND;TZID=America/New_York:20141213T100000
DTSTAMP:20260422T075519
CREATED:20141204T013042Z
LAST-MODIFIED:20141204T013042Z
UID:8172-1418461200-1418464800@playpittsburgh.com
SUMMARY:Breakfast with Santa at Hardrock Cafe
DESCRIPTION:SANTA ROCKS AT THE HARD ROCK CAFE! What better childhood memory is there than sitting on Santa’s lap and asking for that special gift (red rider BB gun anyone?) Now you can take that memory a step futher\, and add the Hard Rock Cafe and an intimate and fun way to spend a morning with our favorite fellow in a red suit as Macaroni Kid presents Breakfast With Santa Space is limited\, so call the Hard Rock Cafe today at 412-481-7625 and ask for Erica to save your family’s spot now. \nAvailable Breakfast with Santa dates: \n\nSaturday\, December 6 – 9 AM\nSunday\, December 7 – 9 AM\nSaturday\, December 13 – 9 AM\nSunday\, December 14 – 9 AM\nSaturday\, December 20 – 9 AM\n\nEvent includes breakfast buffet – special goodies bag for the kids – free train ride in the Station Square freight shops for the kids – free parking courtesy of Station Square – special Macaroni Kid craft The Hard Rock Cafe will be collecting donations for Toys for Tots. Please donate a new & unwrapped toy to the event. Start a Rockin’ new family holiday tradition!
URL:https://playpittsburgh.com/event/5078/2014-12-13/
LOCATION:Hard Rock Cafe\, 230 W Station Square Dr\, Pittsburgh\, PA\, 15219\, United States
GEO:40.4339628;-80.0048168
X-APPLE-STRUCTURED-LOCATION;VALUE=URI;X-ADDRESS=Hard Rock Cafe 230 W Station Square Dr Pittsburgh PA 15219 United States;X-APPLE-RADIUS=500;X-TITLE=230 W Station Square Dr:geo:-80.0048168,40.4339628
END:VEVENT
BEGIN:VEVENT
DTSTART;TZID=America/New_York:20141206T090000
DTEND;TZID=America/New_York:20141206T100000
DTSTAMP:20260422T075519
CREATED:20141204T013042Z
LAST-MODIFIED:20141204T013042Z
UID:5078-1417856400-1417860000@playpittsburgh.com
SUMMARY:Breakfast with Santa at Hardrock Cafe
DESCRIPTION:SANTA ROCKS AT THE HARD ROCK CAFE! What better childhood memory is there than sitting on Santa’s lap and asking for that special gift (red rider BB gun anyone?) Now you can take that memory a step futher\, and add the Hard Rock Cafe and an intimate and fun way to spend a morning with our favorite fellow in a red suit as Macaroni Kid presents Breakfast With Santa Space is limited\, so call the Hard Rock Cafe today at 412-481-7625 and ask for Erica to save your family’s spot now. \nAvailable Breakfast with Santa dates: \n\nSaturday\, December 6 – 9 AM\nSunday\, December 7 – 9 AM\nSaturday\, December 13 – 9 AM\nSunday\, December 14 – 9 AM\nSaturday\, December 20 – 9 AM\n\nEvent includes breakfast buffet – special goodies bag for the kids – free train ride in the Station Square freight shops for the kids – free parking courtesy of Station Square – special Macaroni Kid craft The Hard Rock Cafe will be collecting donations for Toys for Tots. Please donate a new & unwrapped toy to the event. Start a Rockin’ new family holiday tradition!
URL:https://playpittsburgh.com/event/5078/2014-12-06/
LOCATION:Hard Rock Cafe\, 230 W Station Square Dr\, Pittsburgh\, PA\, 15219\, United States
GEO:40.4339628;-80.0048168
X-APPLE-STRUCTURED-LOCATION;VALUE=URI;X-ADDRESS=Hard Rock Cafe 230 W Station Square Dr Pittsburgh PA 15219 United States;X-APPLE-RADIUS=500;X-TITLE=230 W Station Square Dr:geo:-80.0048168,40.4339628
END:VEVENT
END:VCALENDAR