BEGIN:VCALENDAR
VERSION:2.0
PRODID:-//Play Pittsburgh - ECPv6.15.20//NONSGML v1.0//EN
CALSCALE:GREGORIAN
METHOD:PUBLISH
X-WR-CALNAME:Play Pittsburgh
X-ORIGINAL-URL:https://playpittsburgh.com
X-WR-CALDESC:Events for Play Pittsburgh
REFRESH-INTERVAL;VALUE=DURATION:PT1H
X-Robots-Tag:noindex
X-PUBLISHED-TTL:PT1H
BEGIN:VTIMEZONE
TZID:America/New_York
BEGIN:DAYLIGHT
TZOFFSETFROM:-0500
TZOFFSETTO:-0400
TZNAME:EDT
DTSTART:20130310T070000
END:DAYLIGHT
BEGIN:STANDARD
TZOFFSETFROM:-0400
TZOFFSETTO:-0500
TZNAME:EST
DTSTART:20131103T060000
END:STANDARD
BEGIN:DAYLIGHT
TZOFFSETFROM:-0500
TZOFFSETTO:-0400
TZNAME:EDT
DTSTART:20140309T070000
END:DAYLIGHT
BEGIN:STANDARD
TZOFFSETFROM:-0400
TZOFFSETTO:-0500
TZNAME:EST
DTSTART:20141102T060000
END:STANDARD
BEGIN:DAYLIGHT
TZOFFSETFROM:-0500
TZOFFSETTO:-0400
TZNAME:EDT
DTSTART:20150308T070000
END:DAYLIGHT
BEGIN:STANDARD
TZOFFSETFROM:-0400
TZOFFSETTO:-0500
TZNAME:EST
DTSTART:20151101T060000
END:STANDARD
END:VTIMEZONE
BEGIN:VEVENT
DTSTART;VALUE=DATE:20140729
DTEND;VALUE=DATE:20140730
DTSTAMP:20260422T021200
CREATED:20140729T035935Z
LAST-MODIFIED:20140729T035935Z
UID:2864-1406592000-1406678399@playpittsburgh.com
SUMMARY:50% Ticket Games @ Fun Fore All
DESCRIPTION:Fun Fore All is a premier family fun center in Pittsburgh. All Ticket Games 50% OFF on Tuesdays!!!
URL:https://playpittsburgh.com/event/50-ticket-games-fun-fore-all/2014-07-29/
LOCATION:Fun Fore All\, 8 Progress Ave\, Cranberry Twp\, PA\, 16066\, United States
CATEGORIES:Indoor Play
GEO:40.709137;-80.105024
X-APPLE-STRUCTURED-LOCATION;VALUE=URI;X-ADDRESS=Fun Fore All 8 Progress Ave Cranberry Twp PA 16066 United States;X-APPLE-RADIUS=500;X-TITLE=8 Progress Ave:geo:-80.105024,40.709137
END:VEVENT
END:VCALENDAR