BEGIN:VCALENDAR
VERSION:2.0
PRODID:-//Play Pittsburgh - ECPv6.15.20//NONSGML v1.0//EN
CALSCALE:GREGORIAN
METHOD:PUBLISH
X-ORIGINAL-URL:https://playpittsburgh.com
X-WR-CALDESC:Events for Play Pittsburgh
REFRESH-INTERVAL;VALUE=DURATION:PT1H
X-Robots-Tag:noindex
X-PUBLISHED-TTL:PT1H
BEGIN:VTIMEZONE
TZID:America/New_York
BEGIN:DAYLIGHT
TZOFFSETFROM:-0500
TZOFFSETTO:-0400
TZNAME:EDT
DTSTART:20140309T070000
END:DAYLIGHT
BEGIN:STANDARD
TZOFFSETFROM:-0400
TZOFFSETTO:-0500
TZNAME:EST
DTSTART:20141102T060000
END:STANDARD
BEGIN:DAYLIGHT
TZOFFSETFROM:-0500
TZOFFSETTO:-0400
TZNAME:EDT
DTSTART:20150308T070000
END:DAYLIGHT
BEGIN:STANDARD
TZOFFSETFROM:-0400
TZOFFSETTO:-0500
TZNAME:EST
DTSTART:20151101T060000
END:STANDARD
BEGIN:DAYLIGHT
TZOFFSETFROM:-0500
TZOFFSETTO:-0400
TZNAME:EDT
DTSTART:20160313T070000
END:DAYLIGHT
BEGIN:STANDARD
TZOFFSETFROM:-0400
TZOFFSETTO:-0500
TZNAME:EST
DTSTART:20161106T060000
END:STANDARD
END:VTIMEZONE
BEGIN:VEVENT
DTSTART;VALUE=DATE:20150825
DTEND;VALUE=DATE:20150826
DTSTAMP:20260421T223526
CREATED:20150326T182139Z
LAST-MODIFIED:20150326T182139Z
UID:8493-1440460800-1440547199@playpittsburgh.com
SUMMARY:50% Ticket Games at Fun Fore All
DESCRIPTION:Fun Fore All family entertainment center offers 50% off their ticket games all day on Tuesday! (Token games excluded)
URL:https://playpittsburgh.com/event/50-ticket-games-at-fun-fore-all/2015-08-25/
LOCATION:Fun Fore All\, 8 Progress Ave\, Cranberry Twp\, PA\, 16066\, United States
GEO:40.709137;-80.105024
X-APPLE-STRUCTURED-LOCATION;VALUE=URI;X-ADDRESS=Fun Fore All 8 Progress Ave Cranberry Twp PA 16066 United States;X-APPLE-RADIUS=500;X-TITLE=8 Progress Ave:geo:-80.105024,40.709137
END:VEVENT
BEGIN:VEVENT
DTSTART;VALUE=DATE:20150818
DTEND;VALUE=DATE:20150819
DTSTAMP:20260421T223526
CREATED:20150326T182139Z
LAST-MODIFIED:20150326T182139Z
UID:8492-1439856000-1439942399@playpittsburgh.com
SUMMARY:50% Ticket Games at Fun Fore All
DESCRIPTION:Fun Fore All family entertainment center offers 50% off their ticket games all day on Tuesday! (Token games excluded)
URL:https://playpittsburgh.com/event/50-ticket-games-at-fun-fore-all/2015-08-18/
LOCATION:Fun Fore All\, 8 Progress Ave\, Cranberry Twp\, PA\, 16066\, United States
GEO:40.709137;-80.105024
X-APPLE-STRUCTURED-LOCATION;VALUE=URI;X-ADDRESS=Fun Fore All 8 Progress Ave Cranberry Twp PA 16066 United States;X-APPLE-RADIUS=500;X-TITLE=8 Progress Ave:geo:-80.105024,40.709137
END:VEVENT
BEGIN:VEVENT
DTSTART;VALUE=DATE:20150811
DTEND;VALUE=DATE:20150812
DTSTAMP:20260421T223526
CREATED:20150326T182139Z
LAST-MODIFIED:20150326T182139Z
UID:8491-1439251200-1439337599@playpittsburgh.com
SUMMARY:50% Ticket Games at Fun Fore All
DESCRIPTION:Fun Fore All family entertainment center offers 50% off their ticket games all day on Tuesday! (Token games excluded)
URL:https://playpittsburgh.com/event/50-ticket-games-at-fun-fore-all/2015-08-11/
LOCATION:Fun Fore All\, 8 Progress Ave\, Cranberry Twp\, PA\, 16066\, United States
GEO:40.709137;-80.105024
X-APPLE-STRUCTURED-LOCATION;VALUE=URI;X-ADDRESS=Fun Fore All 8 Progress Ave Cranberry Twp PA 16066 United States;X-APPLE-RADIUS=500;X-TITLE=8 Progress Ave:geo:-80.105024,40.709137
END:VEVENT
BEGIN:VEVENT
DTSTART;VALUE=DATE:20150804
DTEND;VALUE=DATE:20150805
DTSTAMP:20260421T223526
CREATED:20150326T182139Z
LAST-MODIFIED:20150326T182139Z
UID:8490-1438646400-1438732799@playpittsburgh.com
SUMMARY:50% Ticket Games at Fun Fore All
DESCRIPTION:Fun Fore All family entertainment center offers 50% off their ticket games all day on Tuesday! (Token games excluded)
URL:https://playpittsburgh.com/event/50-ticket-games-at-fun-fore-all/2015-08-04/
LOCATION:Fun Fore All\, 8 Progress Ave\, Cranberry Twp\, PA\, 16066\, United States
GEO:40.709137;-80.105024
X-APPLE-STRUCTURED-LOCATION;VALUE=URI;X-ADDRESS=Fun Fore All 8 Progress Ave Cranberry Twp PA 16066 United States;X-APPLE-RADIUS=500;X-TITLE=8 Progress Ave:geo:-80.105024,40.709137
END:VEVENT
BEGIN:VEVENT
DTSTART;VALUE=DATE:20150728
DTEND;VALUE=DATE:20150729
DTSTAMP:20260421T223526
CREATED:20150326T182139Z
LAST-MODIFIED:20150326T182139Z
UID:8489-1438041600-1438127999@playpittsburgh.com
SUMMARY:50% Ticket Games at Fun Fore All
DESCRIPTION:Fun Fore All family entertainment center offers 50% off their ticket games all day on Tuesday! (Token games excluded)
URL:https://playpittsburgh.com/event/50-ticket-games-at-fun-fore-all/2015-07-28/
LOCATION:Fun Fore All\, 8 Progress Ave\, Cranberry Twp\, PA\, 16066\, United States
GEO:40.709137;-80.105024
X-APPLE-STRUCTURED-LOCATION;VALUE=URI;X-ADDRESS=Fun Fore All 8 Progress Ave Cranberry Twp PA 16066 United States;X-APPLE-RADIUS=500;X-TITLE=8 Progress Ave:geo:-80.105024,40.709137
END:VEVENT
BEGIN:VEVENT
DTSTART;VALUE=DATE:20150721
DTEND;VALUE=DATE:20150722
DTSTAMP:20260421T223526
CREATED:20150326T182139Z
LAST-MODIFIED:20150326T182139Z
UID:8488-1437436800-1437523199@playpittsburgh.com
SUMMARY:50% Ticket Games at Fun Fore All
DESCRIPTION:Fun Fore All family entertainment center offers 50% off their ticket games all day on Tuesday! (Token games excluded)
URL:https://playpittsburgh.com/event/50-ticket-games-at-fun-fore-all/2015-07-21/
LOCATION:Fun Fore All\, 8 Progress Ave\, Cranberry Twp\, PA\, 16066\, United States
GEO:40.709137;-80.105024
X-APPLE-STRUCTURED-LOCATION;VALUE=URI;X-ADDRESS=Fun Fore All 8 Progress Ave Cranberry Twp PA 16066 United States;X-APPLE-RADIUS=500;X-TITLE=8 Progress Ave:geo:-80.105024,40.709137
END:VEVENT
BEGIN:VEVENT
DTSTART;VALUE=DATE:20150714
DTEND;VALUE=DATE:20150715
DTSTAMP:20260421T223526
CREATED:20150326T182139Z
LAST-MODIFIED:20150326T182139Z
UID:8487-1436832000-1436918399@playpittsburgh.com
SUMMARY:50% Ticket Games at Fun Fore All
DESCRIPTION:Fun Fore All family entertainment center offers 50% off their ticket games all day on Tuesday! (Token games excluded)
URL:https://playpittsburgh.com/event/50-ticket-games-at-fun-fore-all/2015-07-14/
LOCATION:Fun Fore All\, 8 Progress Ave\, Cranberry Twp\, PA\, 16066\, United States
GEO:40.709137;-80.105024
X-APPLE-STRUCTURED-LOCATION;VALUE=URI;X-ADDRESS=Fun Fore All 8 Progress Ave Cranberry Twp PA 16066 United States;X-APPLE-RADIUS=500;X-TITLE=8 Progress Ave:geo:-80.105024,40.709137
END:VEVENT
BEGIN:VEVENT
DTSTART;VALUE=DATE:20150707
DTEND;VALUE=DATE:20150708
DTSTAMP:20260421T223526
CREATED:20150326T182139Z
LAST-MODIFIED:20150326T182139Z
UID:8486-1436227200-1436313599@playpittsburgh.com
SUMMARY:50% Ticket Games at Fun Fore All
DESCRIPTION:Fun Fore All family entertainment center offers 50% off their ticket games all day on Tuesday! (Token games excluded)
URL:https://playpittsburgh.com/event/50-ticket-games-at-fun-fore-all/2015-07-07/
LOCATION:Fun Fore All\, 8 Progress Ave\, Cranberry Twp\, PA\, 16066\, United States
GEO:40.709137;-80.105024
X-APPLE-STRUCTURED-LOCATION;VALUE=URI;X-ADDRESS=Fun Fore All 8 Progress Ave Cranberry Twp PA 16066 United States;X-APPLE-RADIUS=500;X-TITLE=8 Progress Ave:geo:-80.105024,40.709137
END:VEVENT
BEGIN:VEVENT
DTSTART;VALUE=DATE:20150630
DTEND;VALUE=DATE:20150701
DTSTAMP:20260421T223526
CREATED:20150326T182139Z
LAST-MODIFIED:20150326T182139Z
UID:8477-1435622400-1435708799@playpittsburgh.com
SUMMARY:50% Ticket Games at Fun Fore All
DESCRIPTION:Fun Fore All family entertainment center offers 50% off their ticket games all day on Tuesday! (Token games excluded)
URL:https://playpittsburgh.com/event/50-ticket-games-at-fun-fore-all/2015-06-30/
LOCATION:Fun Fore All\, 8 Progress Ave\, Cranberry Twp\, PA\, 16066\, United States
GEO:40.709137;-80.105024
X-APPLE-STRUCTURED-LOCATION;VALUE=URI;X-ADDRESS=Fun Fore All 8 Progress Ave Cranberry Twp PA 16066 United States;X-APPLE-RADIUS=500;X-TITLE=8 Progress Ave:geo:-80.105024,40.709137
END:VEVENT
BEGIN:VEVENT
DTSTART;VALUE=DATE:20150623
DTEND;VALUE=DATE:20150624
DTSTAMP:20260421T223526
CREATED:20150326T182139Z
LAST-MODIFIED:20150326T182139Z
UID:8476-1435017600-1435103999@playpittsburgh.com
SUMMARY:50% Ticket Games at Fun Fore All
DESCRIPTION:Fun Fore All family entertainment center offers 50% off their ticket games all day on Tuesday! (Token games excluded)
URL:https://playpittsburgh.com/event/50-ticket-games-at-fun-fore-all/2015-06-23/
LOCATION:Fun Fore All\, 8 Progress Ave\, Cranberry Twp\, PA\, 16066\, United States
GEO:40.709137;-80.105024
X-APPLE-STRUCTURED-LOCATION;VALUE=URI;X-ADDRESS=Fun Fore All 8 Progress Ave Cranberry Twp PA 16066 United States;X-APPLE-RADIUS=500;X-TITLE=8 Progress Ave:geo:-80.105024,40.709137
END:VEVENT
BEGIN:VEVENT
DTSTART;VALUE=DATE:20150616
DTEND;VALUE=DATE:20150617
DTSTAMP:20260421T223526
CREATED:20150326T182139Z
LAST-MODIFIED:20150326T182139Z
UID:8475-1434412800-1434499199@playpittsburgh.com
SUMMARY:50% Ticket Games at Fun Fore All
DESCRIPTION:Fun Fore All family entertainment center offers 50% off their ticket games all day on Tuesday! (Token games excluded)
URL:https://playpittsburgh.com/event/50-ticket-games-at-fun-fore-all/2015-06-16/
LOCATION:Fun Fore All\, 8 Progress Ave\, Cranberry Twp\, PA\, 16066\, United States
GEO:40.709137;-80.105024
X-APPLE-STRUCTURED-LOCATION;VALUE=URI;X-ADDRESS=Fun Fore All 8 Progress Ave Cranberry Twp PA 16066 United States;X-APPLE-RADIUS=500;X-TITLE=8 Progress Ave:geo:-80.105024,40.709137
END:VEVENT
BEGIN:VEVENT
DTSTART;VALUE=DATE:20150609
DTEND;VALUE=DATE:20150610
DTSTAMP:20260421T223526
CREATED:20150326T182139Z
LAST-MODIFIED:20150326T182139Z
UID:8474-1433808000-1433894399@playpittsburgh.com
SUMMARY:50% Ticket Games at Fun Fore All
DESCRIPTION:Fun Fore All family entertainment center offers 50% off their ticket games all day on Tuesday! (Token games excluded)
URL:https://playpittsburgh.com/event/50-ticket-games-at-fun-fore-all/2015-06-09/
LOCATION:Fun Fore All\, 8 Progress Ave\, Cranberry Twp\, PA\, 16066\, United States
GEO:40.709137;-80.105024
X-APPLE-STRUCTURED-LOCATION;VALUE=URI;X-ADDRESS=Fun Fore All 8 Progress Ave Cranberry Twp PA 16066 United States;X-APPLE-RADIUS=500;X-TITLE=8 Progress Ave:geo:-80.105024,40.709137
END:VEVENT
BEGIN:VEVENT
DTSTART;VALUE=DATE:20150602
DTEND;VALUE=DATE:20150603
DTSTAMP:20260421T223526
CREATED:20150326T182139Z
LAST-MODIFIED:20150326T182139Z
UID:8473-1433203200-1433289599@playpittsburgh.com
SUMMARY:50% Ticket Games at Fun Fore All
DESCRIPTION:Fun Fore All family entertainment center offers 50% off their ticket games all day on Tuesday! (Token games excluded)
URL:https://playpittsburgh.com/event/50-ticket-games-at-fun-fore-all/2015-06-02/
LOCATION:Fun Fore All\, 8 Progress Ave\, Cranberry Twp\, PA\, 16066\, United States
GEO:40.709137;-80.105024
X-APPLE-STRUCTURED-LOCATION;VALUE=URI;X-ADDRESS=Fun Fore All 8 Progress Ave Cranberry Twp PA 16066 United States;X-APPLE-RADIUS=500;X-TITLE=8 Progress Ave:geo:-80.105024,40.709137
END:VEVENT
BEGIN:VEVENT
DTSTART;VALUE=DATE:20150526
DTEND;VALUE=DATE:20150527
DTSTAMP:20260421T223526
CREATED:20150326T182139Z
LAST-MODIFIED:20150326T182139Z
UID:8472-1432598400-1432684799@playpittsburgh.com
SUMMARY:50% Ticket Games at Fun Fore All
DESCRIPTION:Fun Fore All family entertainment center offers 50% off their ticket games all day on Tuesday! (Token games excluded)
URL:https://playpittsburgh.com/event/50-ticket-games-at-fun-fore-all/2015-05-26/
LOCATION:Fun Fore All\, 8 Progress Ave\, Cranberry Twp\, PA\, 16066\, United States
GEO:40.709137;-80.105024
X-APPLE-STRUCTURED-LOCATION;VALUE=URI;X-ADDRESS=Fun Fore All 8 Progress Ave Cranberry Twp PA 16066 United States;X-APPLE-RADIUS=500;X-TITLE=8 Progress Ave:geo:-80.105024,40.709137
END:VEVENT
BEGIN:VEVENT
DTSTART;VALUE=DATE:20150519
DTEND;VALUE=DATE:20150520
DTSTAMP:20260421T223526
CREATED:20150326T182139Z
LAST-MODIFIED:20150326T182139Z
UID:8471-1431993600-1432079999@playpittsburgh.com
SUMMARY:50% Ticket Games at Fun Fore All
DESCRIPTION:Fun Fore All family entertainment center offers 50% off their ticket games all day on Tuesday! (Token games excluded)
URL:https://playpittsburgh.com/event/50-ticket-games-at-fun-fore-all/2015-05-19/
LOCATION:Fun Fore All\, 8 Progress Ave\, Cranberry Twp\, PA\, 16066\, United States
GEO:40.709137;-80.105024
X-APPLE-STRUCTURED-LOCATION;VALUE=URI;X-ADDRESS=Fun Fore All 8 Progress Ave Cranberry Twp PA 16066 United States;X-APPLE-RADIUS=500;X-TITLE=8 Progress Ave:geo:-80.105024,40.709137
END:VEVENT
BEGIN:VEVENT
DTSTART;VALUE=DATE:20150512
DTEND;VALUE=DATE:20150513
DTSTAMP:20260421T223526
CREATED:20150326T182139Z
LAST-MODIFIED:20150326T182139Z
UID:8470-1431388800-1431475199@playpittsburgh.com
SUMMARY:50% Ticket Games at Fun Fore All
DESCRIPTION:Fun Fore All family entertainment center offers 50% off their ticket games all day on Tuesday! (Token games excluded)
URL:https://playpittsburgh.com/event/50-ticket-games-at-fun-fore-all/2015-05-12/
LOCATION:Fun Fore All\, 8 Progress Ave\, Cranberry Twp\, PA\, 16066\, United States
GEO:40.709137;-80.105024
X-APPLE-STRUCTURED-LOCATION;VALUE=URI;X-ADDRESS=Fun Fore All 8 Progress Ave Cranberry Twp PA 16066 United States;X-APPLE-RADIUS=500;X-TITLE=8 Progress Ave:geo:-80.105024,40.709137
END:VEVENT
BEGIN:VEVENT
DTSTART;VALUE=DATE:20150505
DTEND;VALUE=DATE:20150506
DTSTAMP:20260421T223526
CREATED:20150326T182139Z
LAST-MODIFIED:20150326T182139Z
UID:8469-1430784000-1430870399@playpittsburgh.com
SUMMARY:50% Ticket Games at Fun Fore All
DESCRIPTION:Fun Fore All family entertainment center offers 50% off their ticket games all day on Tuesday! (Token games excluded)
URL:https://playpittsburgh.com/event/50-ticket-games-at-fun-fore-all/2015-05-05/
LOCATION:Fun Fore All\, 8 Progress Ave\, Cranberry Twp\, PA\, 16066\, United States
GEO:40.709137;-80.105024
X-APPLE-STRUCTURED-LOCATION;VALUE=URI;X-ADDRESS=Fun Fore All 8 Progress Ave Cranberry Twp PA 16066 United States;X-APPLE-RADIUS=500;X-TITLE=8 Progress Ave:geo:-80.105024,40.709137
END:VEVENT
BEGIN:VEVENT
DTSTART;VALUE=DATE:20150428
DTEND;VALUE=DATE:20150429
DTSTAMP:20260421T223526
CREATED:20150326T182139Z
LAST-MODIFIED:20150326T182139Z
UID:8468-1430179200-1430265599@playpittsburgh.com
SUMMARY:50% Ticket Games at Fun Fore All
DESCRIPTION:Fun Fore All family entertainment center offers 50% off their ticket games all day on Tuesday! (Token games excluded)
URL:https://playpittsburgh.com/event/50-ticket-games-at-fun-fore-all/2015-04-28/
LOCATION:Fun Fore All\, 8 Progress Ave\, Cranberry Twp\, PA\, 16066\, United States
GEO:40.709137;-80.105024
X-APPLE-STRUCTURED-LOCATION;VALUE=URI;X-ADDRESS=Fun Fore All 8 Progress Ave Cranberry Twp PA 16066 United States;X-APPLE-RADIUS=500;X-TITLE=8 Progress Ave:geo:-80.105024,40.709137
END:VEVENT
BEGIN:VEVENT
DTSTART;VALUE=DATE:20150421
DTEND;VALUE=DATE:20150422
DTSTAMP:20260421T223526
CREATED:20150326T182139Z
LAST-MODIFIED:20150326T182139Z
UID:8467-1429574400-1429660799@playpittsburgh.com
SUMMARY:50% Ticket Games at Fun Fore All
DESCRIPTION:Fun Fore All family entertainment center offers 50% off their ticket games all day on Tuesday! (Token games excluded)
URL:https://playpittsburgh.com/event/50-ticket-games-at-fun-fore-all/2015-04-21/
LOCATION:Fun Fore All\, 8 Progress Ave\, Cranberry Twp\, PA\, 16066\, United States
GEO:40.709137;-80.105024
X-APPLE-STRUCTURED-LOCATION;VALUE=URI;X-ADDRESS=Fun Fore All 8 Progress Ave Cranberry Twp PA 16066 United States;X-APPLE-RADIUS=500;X-TITLE=8 Progress Ave:geo:-80.105024,40.709137
END:VEVENT
BEGIN:VEVENT
DTSTART;VALUE=DATE:20150414
DTEND;VALUE=DATE:20150415
DTSTAMP:20260421T223526
CREATED:20150326T182139Z
LAST-MODIFIED:20150326T182139Z
UID:8466-1428969600-1429055999@playpittsburgh.com
SUMMARY:50% Ticket Games at Fun Fore All
DESCRIPTION:Fun Fore All family entertainment center offers 50% off their ticket games all day on Tuesday! (Token games excluded)
URL:https://playpittsburgh.com/event/50-ticket-games-at-fun-fore-all/2015-04-14/
LOCATION:Fun Fore All\, 8 Progress Ave\, Cranberry Twp\, PA\, 16066\, United States
GEO:40.709137;-80.105024
X-APPLE-STRUCTURED-LOCATION;VALUE=URI;X-ADDRESS=Fun Fore All 8 Progress Ave Cranberry Twp PA 16066 United States;X-APPLE-RADIUS=500;X-TITLE=8 Progress Ave:geo:-80.105024,40.709137
END:VEVENT
BEGIN:VEVENT
DTSTART;VALUE=DATE:20150407
DTEND;VALUE=DATE:20150408
DTSTAMP:20260421T223526
CREATED:20150326T182139Z
LAST-MODIFIED:20150326T182139Z
UID:8465-1428364800-1428451199@playpittsburgh.com
SUMMARY:50% Ticket Games at Fun Fore All
DESCRIPTION:Fun Fore All family entertainment center offers 50% off their ticket games all day on Tuesday! (Token games excluded)
URL:https://playpittsburgh.com/event/50-ticket-games-at-fun-fore-all/2015-04-07/
LOCATION:Fun Fore All\, 8 Progress Ave\, Cranberry Twp\, PA\, 16066\, United States
GEO:40.709137;-80.105024
X-APPLE-STRUCTURED-LOCATION;VALUE=URI;X-ADDRESS=Fun Fore All 8 Progress Ave Cranberry Twp PA 16066 United States;X-APPLE-RADIUS=500;X-TITLE=8 Progress Ave:geo:-80.105024,40.709137
END:VEVENT
BEGIN:VEVENT
DTSTART;VALUE=DATE:20150331
DTEND;VALUE=DATE:20150401
DTSTAMP:20260421T223526
CREATED:20150326T182139Z
LAST-MODIFIED:20150326T182139Z
UID:5806-1427760000-1427846399@playpittsburgh.com
SUMMARY:50% Ticket Games at Fun Fore All
DESCRIPTION:Fun Fore All family entertainment center offers 50% off their ticket games all day on Tuesday! (Token games excluded)
URL:https://playpittsburgh.com/event/50-ticket-games-at-fun-fore-all/2015-03-31/
LOCATION:Fun Fore All\, 8 Progress Ave\, Cranberry Twp\, PA\, 16066\, United States
GEO:40.709137;-80.105024
X-APPLE-STRUCTURED-LOCATION;VALUE=URI;X-ADDRESS=Fun Fore All 8 Progress Ave Cranberry Twp PA 16066 United States;X-APPLE-RADIUS=500;X-TITLE=8 Progress Ave:geo:-80.105024,40.709137
END:VEVENT
END:VCALENDAR